BEGIN:VCALENDAR
VERSION:2.0
PRODID:-//Scarborough Fish &amp; Game Association - ECPv6.15.20//NONSGML v1.0//EN
CALSCALE:GREGORIAN
METHOD:PUBLISH
X-WR-CALNAME:Scarborough Fish &amp; Game Association
X-ORIGINAL-URL:https://scarfg.org
X-WR-CALDESC:Events for Scarborough Fish &amp; Game Association
REFRESH-INTERVAL;VALUE=DURATION:PT1H
X-Robots-Tag:noindex
X-PUBLISHED-TTL:PT1H
BEGIN:VTIMEZONE
TZID:America/New_York
BEGIN:DAYLIGHT
TZOFFSETFROM:-0500
TZOFFSETTO:-0400
TZNAME:EDT
DTSTART:20210314T070000
END:DAYLIGHT
BEGIN:STANDARD
TZOFFSETFROM:-0400
TZOFFSETTO:-0500
TZNAME:EST
DTSTART:20211107T060000
END:STANDARD
BEGIN:DAYLIGHT
TZOFFSETFROM:-0500
TZOFFSETTO:-0400
TZNAME:EDT
DTSTART:20220313T070000
END:DAYLIGHT
BEGIN:STANDARD
TZOFFSETFROM:-0400
TZOFFSETTO:-0500
TZNAME:EST
DTSTART:20221106T060000
END:STANDARD
BEGIN:DAYLIGHT
TZOFFSETFROM:-0500
TZOFFSETTO:-0400
TZNAME:EDT
DTSTART:20230312T070000
END:DAYLIGHT
BEGIN:STANDARD
TZOFFSETFROM:-0400
TZOFFSETTO:-0500
TZNAME:EST
DTSTART:20231105T060000
END:STANDARD
END:VTIMEZONE
BEGIN:VEVENT
DTSTART;VALUE=DATE:20220416
DTEND;VALUE=DATE:20220417
DTSTAMP:20260422T081808
CREATED:20220225T133735Z
LAST-MODIFIED:20220225T134912Z
UID:10004657-1650067200-1650153599@scarfg.org
SUMMARY:Trap Winter League Awards and Cookout - Rain Date
DESCRIPTION:
URL:https://scarfg.org/event/trap-winter-league-awards-and-cookout-rain-date/
LOCATION:Trap Clubhouse\, 21 Fish and Game Ln\, Scarborough\, ME\, 04072\, United States
CATEGORIES:Trap
END:VEVENT
BEGIN:VEVENT
DTSTART;VALUE=DATE:20220409
DTEND;VALUE=DATE:20220410
DTSTAMP:20260422T081808
CREATED:20220225T133246Z
LAST-MODIFIED:20220225T133910Z
UID:10004656-1649462400-1649548799@scarfg.org
SUMMARY:Trap Winter League Awards and Cookout
DESCRIPTION:
URL:https://scarfg.org/event/53547/
LOCATION:Trap Clubhouse\, 21 Fish and Game Ln\, Scarborough\, ME\, 04072\, United States
CATEGORIES:Trap
END:VEVENT
END:VCALENDAR