BEGIN:VCALENDAR
VERSION:2.0
PRODID:-//Scarborough Fish &amp; Game Association - ECPv6.15.20//NONSGML v1.0//EN
CALSCALE:GREGORIAN
METHOD:PUBLISH
X-ORIGINAL-URL:https://scarfg.org
X-WR-CALDESC:Events for Scarborough Fish &amp; Game Association
REFRESH-INTERVAL;VALUE=DURATION:PT1H
X-Robots-Tag:noindex
X-PUBLISHED-TTL:PT1H
BEGIN:VTIMEZONE
TZID:America/New_York
BEGIN:DAYLIGHT
TZOFFSETFROM:-0500
TZOFFSETTO:-0400
TZNAME:EDT
DTSTART:20230312T070000
END:DAYLIGHT
BEGIN:STANDARD
TZOFFSETFROM:-0400
TZOFFSETTO:-0500
TZNAME:EST
DTSTART:20231105T060000
END:STANDARD
BEGIN:DAYLIGHT
TZOFFSETFROM:-0500
TZOFFSETTO:-0400
TZNAME:EDT
DTSTART:20240310T070000
END:DAYLIGHT
BEGIN:STANDARD
TZOFFSETFROM:-0400
TZOFFSETTO:-0500
TZNAME:EST
DTSTART:20241103T060000
END:STANDARD
BEGIN:DAYLIGHT
TZOFFSETFROM:-0500
TZOFFSETTO:-0400
TZNAME:EDT
DTSTART:20250309T070000
END:DAYLIGHT
BEGIN:STANDARD
TZOFFSETFROM:-0400
TZOFFSETTO:-0500
TZNAME:EST
DTSTART:20251102T060000
END:STANDARD
BEGIN:DAYLIGHT
TZOFFSETFROM:-0500
TZOFFSETTO:-0400
TZNAME:EDT
DTSTART:20260308T070000
END:DAYLIGHT
BEGIN:STANDARD
TZOFFSETFROM:-0400
TZOFFSETTO:-0500
TZNAME:EST
DTSTART:20261101T060000
END:STANDARD
END:VTIMEZONE
BEGIN:VEVENT
DTSTART;TZID=America/New_York:20250713T100000
DTEND;TZID=America/New_York:20250713T150000
DTSTAMP:20260422T075218
CREATED:20250430T183850Z
LAST-MODIFIED:20250430T202617Z
UID:10011673-1752400800-1752418800@scarfg.org
SUMMARY:SKEET SHOOTING
DESCRIPTION:SKEET IS OPEN TO THE PUBLIC FROM 10 AM TO 3 PM. \n$7.00 per round members \n$8.00 per round nonmembers \nAMMO AVAILABLE FOR $11.00 A BOX
URL:https://scarfg.org/event/skeet-shooting/2025-07-13/
LOCATION:Skeet Range\, 21 Fish and Game Ln\, Scarborough\, ME\, 04072\, United States
CATEGORIES:Skeet
END:VEVENT
BEGIN:VEVENT
DTSTART;TZID=America/New_York:20250706T100000
DTEND;TZID=America/New_York:20250706T150000
DTSTAMP:20260422T075218
CREATED:20250430T183850Z
LAST-MODIFIED:20250430T202617Z
UID:10011672-1751796000-1751814000@scarfg.org
SUMMARY:SKEET SHOOTING
DESCRIPTION:SKEET IS OPEN TO THE PUBLIC FROM 10 AM TO 3 PM. \n$7.00 per round members \n$8.00 per round nonmembers \nAMMO AVAILABLE FOR $11.00 A BOX
URL:https://scarfg.org/event/skeet-shooting/2025-07-06/
LOCATION:Skeet Range\, 21 Fish and Game Ln\, Scarborough\, ME\, 04072\, United States
CATEGORIES:Skeet
END:VEVENT
BEGIN:VEVENT
DTSTART;TZID=America/New_York:20250629T100000
DTEND;TZID=America/New_York:20250629T150000
DTSTAMP:20260422T075218
CREATED:20250430T183850Z
LAST-MODIFIED:20250430T202617Z
UID:10011671-1751191200-1751209200@scarfg.org
SUMMARY:SKEET SHOOTING
DESCRIPTION:SKEET IS OPEN TO THE PUBLIC FROM 10 AM TO 3 PM. \n$7.00 per round members \n$8.00 per round nonmembers \nAMMO AVAILABLE FOR $11.00 A BOX
URL:https://scarfg.org/event/skeet-shooting/2025-06-29/
LOCATION:Skeet Range\, 21 Fish and Game Ln\, Scarborough\, ME\, 04072\, United States
CATEGORIES:Skeet
END:VEVENT
BEGIN:VEVENT
DTSTART;TZID=America/New_York:20250622T100000
DTEND;TZID=America/New_York:20250622T150000
DTSTAMP:20260422T075218
CREATED:20250430T183850Z
LAST-MODIFIED:20250430T202617Z
UID:10011670-1750586400-1750604400@scarfg.org
SUMMARY:SKEET SHOOTING
DESCRIPTION:SKEET IS OPEN TO THE PUBLIC FROM 10 AM TO 3 PM. \n$7.00 per round members \n$8.00 per round nonmembers \nAMMO AVAILABLE FOR $11.00 A BOX
URL:https://scarfg.org/event/skeet-shooting/2025-06-22/
LOCATION:Skeet Range\, 21 Fish and Game Ln\, Scarborough\, ME\, 04072\, United States
CATEGORIES:Skeet
END:VEVENT
BEGIN:VEVENT
DTSTART;TZID=America/New_York:20250615T100000
DTEND;TZID=America/New_York:20250615T150000
DTSTAMP:20260422T075218
CREATED:20250430T183850Z
LAST-MODIFIED:20250430T202617Z
UID:10011669-1749981600-1749999600@scarfg.org
SUMMARY:SKEET SHOOTING
DESCRIPTION:SKEET IS OPEN TO THE PUBLIC FROM 10 AM TO 3 PM. \n$7.00 per round members \n$8.00 per round nonmembers \nAMMO AVAILABLE FOR $11.00 A BOX
URL:https://scarfg.org/event/skeet-shooting/2025-06-15/
LOCATION:Skeet Range\, 21 Fish and Game Ln\, Scarborough\, ME\, 04072\, United States
CATEGORIES:Skeet
END:VEVENT
BEGIN:VEVENT
DTSTART;TZID=America/New_York:20250608T100000
DTEND;TZID=America/New_York:20250608T150000
DTSTAMP:20260422T075218
CREATED:20250430T183850Z
LAST-MODIFIED:20250430T202617Z
UID:10011668-1749376800-1749394800@scarfg.org
SUMMARY:SKEET SHOOTING
DESCRIPTION:SKEET IS OPEN TO THE PUBLIC FROM 10 AM TO 3 PM. \n$7.00 per round members \n$8.00 per round nonmembers \nAMMO AVAILABLE FOR $11.00 A BOX
URL:https://scarfg.org/event/skeet-shooting/2025-06-08/
LOCATION:Skeet Range\, 21 Fish and Game Ln\, Scarborough\, ME\, 04072\, United States
CATEGORIES:Skeet
END:VEVENT
BEGIN:VEVENT
DTSTART;TZID=America/New_York:20250601T100000
DTEND;TZID=America/New_York:20250601T150000
DTSTAMP:20260422T075218
CREATED:20250430T183850Z
LAST-MODIFIED:20250430T202617Z
UID:10011667-1748772000-1748790000@scarfg.org
SUMMARY:SKEET SHOOTING
DESCRIPTION:SKEET IS OPEN TO THE PUBLIC FROM 10 AM TO 3 PM. \n$7.00 per round members \n$8.00 per round nonmembers \nAMMO AVAILABLE FOR $11.00 A BOX
URL:https://scarfg.org/event/skeet-shooting/2025-06-01/
LOCATION:Skeet Range\, 21 Fish and Game Ln\, Scarborough\, ME\, 04072\, United States
CATEGORIES:Skeet
END:VEVENT
BEGIN:VEVENT
DTSTART;TZID=America/New_York:20250525T100000
DTEND;TZID=America/New_York:20250525T150000
DTSTAMP:20260422T075218
CREATED:20250430T183850Z
LAST-MODIFIED:20250430T202617Z
UID:10011666-1748167200-1748185200@scarfg.org
SUMMARY:SKEET SHOOTING
DESCRIPTION:SKEET IS OPEN TO THE PUBLIC FROM 10 AM TO 3 PM. \n$7.00 per round members \n$8.00 per round nonmembers \nAMMO AVAILABLE FOR $11.00 A BOX
URL:https://scarfg.org/event/skeet-shooting/2025-05-25/
LOCATION:Skeet Range\, 21 Fish and Game Ln\, Scarborough\, ME\, 04072\, United States
CATEGORIES:Skeet
END:VEVENT
BEGIN:VEVENT
DTSTART;TZID=America/New_York:20250518T100000
DTEND;TZID=America/New_York:20250518T150000
DTSTAMP:20260422T075218
CREATED:20250430T183850Z
LAST-MODIFIED:20250430T202617Z
UID:10011665-1747562400-1747580400@scarfg.org
SUMMARY:SKEET SHOOTING
DESCRIPTION:SKEET IS OPEN TO THE PUBLIC FROM 10 AM TO 3 PM. \n$7.00 per round members \n$8.00 per round nonmembers \nAMMO AVAILABLE FOR $11.00 A BOX
URL:https://scarfg.org/event/skeet-shooting/2025-05-18/
LOCATION:Skeet Range\, 21 Fish and Game Ln\, Scarborough\, ME\, 04072\, United States
CATEGORIES:Skeet
END:VEVENT
BEGIN:VEVENT
DTSTART;TZID=America/New_York:20250511T100000
DTEND;TZID=America/New_York:20250511T150000
DTSTAMP:20260422T075218
CREATED:20250511T112949Z
LAST-MODIFIED:20250511T113055Z
UID:10011664-1746957600-1746975600@scarfg.org
SUMMARY:SKEET CLOSED
DESCRIPTION:SKEET IS OPEN TO THE PUBLIC FROM 10 AM TO 3 PM. \n$7.00 per round members \n$8.00 per round nonmembers \nAMMO AVAILABLE FOR $11.00 A BOX
URL:https://scarfg.org/event/skeet-shooting-2/
LOCATION:Skeet Range\, 21 Fish and Game Ln\, Scarborough\, ME\, 04072\, United States
CATEGORIES:Skeet
END:VEVENT
BEGIN:VEVENT
DTSTART;TZID=America/New_York:20250504T100000
DTEND;TZID=America/New_York:20250504T150000
DTSTAMP:20260422T075218
CREATED:20250430T183850Z
LAST-MODIFIED:20250430T202617Z
UID:10011662-1746352800-1746370800@scarfg.org
SUMMARY:SKEET SHOOTING
DESCRIPTION:SKEET IS OPEN TO THE PUBLIC FROM 10 AM TO 3 PM. \n$7.00 per round members \n$8.00 per round nonmembers \nAMMO AVAILABLE FOR $11.00 A BOX
URL:https://scarfg.org/event/skeet-shooting/2025-05-04/2/
LOCATION:Skeet Range\, 21 Fish and Game Ln\, Scarborough\, ME\, 04072\, United States
CATEGORIES:Skeet
END:VEVENT
BEGIN:VEVENT
DTSTART;TZID=America/New_York:20250504T080000
DTEND;TZID=America/New_York:20250504T170000
DTSTAMP:20260422T075218
CREATED:20250430T183850Z
LAST-MODIFIED:20250430T202617Z
UID:10011663-1746345600-1746378000@scarfg.org
SUMMARY:SKEET SHOOTING
DESCRIPTION:SKEET IS OPEN TO THE PUBLIC FROM 10 AM TO 3 PM. \n$7.00 per round members \n$8.00 per round nonmembers \nAMMO AVAILABLE FOR $11.00 A BOX
URL:https://scarfg.org/event/skeet-shooting/2025-05-04/1/
LOCATION:Skeet Range\, 21 Fish and Game Ln\, Scarborough\, ME\, 04072\, United States
CATEGORIES:Skeet
END:VEVENT
BEGIN:VEVENT
DTSTART;TZID=America/New_York:20250412T080000
DTEND;TZID=America/New_York:20250412T170000
DTSTAMP:20260422T075218
CREATED:20250107T001005Z
LAST-MODIFIED:20250107T001005Z
UID:10010897-1744444800-1744477200@scarfg.org
SUMMARY:NAVHDA GUNNER TRAINING CLINIC
DESCRIPTION:THIS IS A CLOSED TRAINNG CLINIC FOR INVITED NAVHDA SEACOAST CHAPTER GUNNERS AND GUESTS.
URL:https://scarfg.org/event/navhda-gunner-training-clinic/2025-04-12/
LOCATION:Skeet Range\, 21 Fish and Game Ln\, Scarborough\, ME\, 04072\, United States
CATEGORIES:Skeet
END:VEVENT
BEGIN:VEVENT
DTSTART;TZID=America/New_York:20250406T100000
DTEND;TZID=America/New_York:20250406T150000
DTSTAMP:20260422T075218
CREATED:20240212T140626Z
LAST-MODIFIED:20250430T183228Z
UID:10011661-1743933600-1743951600@scarfg.org
SUMMARY:SKEET PUBLIC SHOOTING
DESCRIPTION:SKEET IS OPEN TO THE PUBLIC FROM 10 AM TO 3 PM. \n$7.00 per round members \n$8.00 per round nonmembers \nAMMO AVAILABLE FOR $11.00 A BOX
URL:https://scarfg.org/event/skeet-25/2025-04-06/
LOCATION:Skeet Range\, 21 Fish and Game Ln\, Scarborough\, ME\, 04072\, United States
CATEGORIES:Skeet
END:VEVENT
BEGIN:VEVENT
DTSTART;TZID=America/New_York:20250405T080000
DTEND;TZID=America/New_York:20250405T170000
DTSTAMP:20260422T075218
CREATED:20250107T001005Z
LAST-MODIFIED:20250107T001005Z
UID:10010896-1743840000-1743872400@scarfg.org
SUMMARY:NAVHDA GUNNER TRAINING CLINIC
DESCRIPTION:THIS IS A CLOSED TRAINNG CLINIC FOR INVITED NAVHDA SEACOAST CHAPTER GUNNERS AND GUESTS.
URL:https://scarfg.org/event/navhda-gunner-training-clinic/2025-04-05/
LOCATION:Skeet Range\, 21 Fish and Game Ln\, Scarborough\, ME\, 04072\, United States
CATEGORIES:Skeet
END:VEVENT
BEGIN:VEVENT
DTSTART;TZID=America/New_York:20250330T100000
DTEND;TZID=America/New_York:20250330T150000
DTSTAMP:20260422T075218
CREATED:20250330T030626Z
LAST-MODIFIED:20250330T030626Z
UID:10010909-1743328800-1743346800@scarfg.org
SUMMARY:SKEET CLOSED
DESCRIPTION:SKEET IS OPEN TO THE PUBLIC FROM 10 AM TO 3 PM. \n$7.00 PER ROUND FOR MEMBERS FOR 25 TARGETS \n$8.00 PER ROUNDS FOR PUBLIC FOR 25 TARGETS \nAMMO AVAILABLE FOR $11.00 A BOX
URL:https://scarfg.org/event/public-skeet-shooting-4/
LOCATION:Skeet Range\, 21 Fish and Game Ln\, Scarborough\, ME\, 04072\, United States
CATEGORIES:Skeet
END:VEVENT
BEGIN:VEVENT
DTSTART;TZID=America/New_York:20250323T100000
DTEND;TZID=America/New_York:20250323T150000
DTSTAMP:20260422T075218
CREATED:20250107T004621Z
LAST-MODIFIED:20250107T005458Z
UID:10010908-1742724000-1742742000@scarfg.org
SUMMARY:PUBLIC SKEET SHOOTING
DESCRIPTION:SKEET IS OPEN TO THE PUBLIC FROM 10 AM TO 3 PM. \n$7.00 PER ROUND FOR MEMBERS FOR 25 TARGETS \n$8.00 PER ROUNDS FOR PUBLIC FOR 25 TARGETS \nAMMO AVAILABLE FOR $11.00 A BOX
URL:https://scarfg.org/event/public-skeet-shooting/2025-03-23/
LOCATION:Skeet Range\, 21 Fish and Game Ln\, Scarborough\, ME\, 04072\, United States
CATEGORIES:Skeet
END:VEVENT
BEGIN:VEVENT
DTSTART;TZID=America/New_York:20250316T100000
DTEND;TZID=America/New_York:20250316T150000
DTSTAMP:20260422T075218
CREATED:20250107T004621Z
LAST-MODIFIED:20250107T005458Z
UID:10010907-1742119200-1742137200@scarfg.org
SUMMARY:PUBLIC SKEET SHOOTING
DESCRIPTION:SKEET IS OPEN TO THE PUBLIC FROM 10 AM TO 3 PM. \n$7.00 PER ROUND FOR MEMBERS FOR 25 TARGETS \n$8.00 PER ROUNDS FOR PUBLIC FOR 25 TARGETS \nAMMO AVAILABLE FOR $11.00 A BOX
URL:https://scarfg.org/event/public-skeet-shooting/2025-03-16/
LOCATION:Skeet Range\, 21 Fish and Game Ln\, Scarborough\, ME\, 04072\, United States
CATEGORIES:Skeet
END:VEVENT
BEGIN:VEVENT
DTSTART;TZID=America/New_York:20250309T100000
DTEND;TZID=America/New_York:20250309T150000
DTSTAMP:20260422T075218
CREATED:20250107T004621Z
LAST-MODIFIED:20250107T005458Z
UID:10010906-1741514400-1741532400@scarfg.org
SUMMARY:PUBLIC SKEET SHOOTING
DESCRIPTION:SKEET IS OPEN TO THE PUBLIC FROM 10 AM TO 3 PM. \n$7.00 PER ROUND FOR MEMBERS FOR 25 TARGETS \n$8.00 PER ROUNDS FOR PUBLIC FOR 25 TARGETS \nAMMO AVAILABLE FOR $11.00 A BOX
URL:https://scarfg.org/event/public-skeet-shooting/2025-03-09/
LOCATION:Skeet Range\, 21 Fish and Game Ln\, Scarborough\, ME\, 04072\, United States
CATEGORIES:Skeet
END:VEVENT
BEGIN:VEVENT
DTSTART;TZID=America/New_York:20250302T100000
DTEND;TZID=America/New_York:20250302T150000
DTSTAMP:20260422T075218
CREATED:20250107T004621Z
LAST-MODIFIED:20250107T005458Z
UID:10010905-1740909600-1740927600@scarfg.org
SUMMARY:PUBLIC SKEET SHOOTING
DESCRIPTION:SKEET IS OPEN TO THE PUBLIC FROM 10 AM TO 3 PM. \n$7.00 PER ROUND FOR MEMBERS FOR 25 TARGETS \n$8.00 PER ROUNDS FOR PUBLIC FOR 25 TARGETS \nAMMO AVAILABLE FOR $11.00 A BOX
URL:https://scarfg.org/event/public-skeet-shooting/2025-03-02/
LOCATION:Skeet Range\, 21 Fish and Game Ln\, Scarborough\, ME\, 04072\, United States
CATEGORIES:Skeet
END:VEVENT
BEGIN:VEVENT
DTSTART;TZID=America/New_York:20250223T100000
DTEND;TZID=America/New_York:20250223T150000
DTSTAMP:20260422T075218
CREATED:20250107T004621Z
LAST-MODIFIED:20250107T005458Z
UID:10010904-1740304800-1740322800@scarfg.org
SUMMARY:PUBLIC SKEET SHOOTING
DESCRIPTION:SKEET IS OPEN TO THE PUBLIC FROM 10 AM TO 3 PM. \n$7.00 PER ROUND FOR MEMBERS FOR 25 TARGETS \n$8.00 PER ROUNDS FOR PUBLIC FOR 25 TARGETS \nAMMO AVAILABLE FOR $11.00 A BOX
URL:https://scarfg.org/event/public-skeet-shooting/2025-02-23/
LOCATION:Skeet Range\, 21 Fish and Game Ln\, Scarborough\, ME\, 04072\, United States
CATEGORIES:Skeet
END:VEVENT
BEGIN:VEVENT
DTSTART;TZID=America/New_York:20250216T100000
DTEND;TZID=America/New_York:20250216T150000
DTSTAMP:20260422T075218
CREATED:20250216T000809Z
LAST-MODIFIED:20250216T000810Z
UID:10010903-1739700000-1739718000@scarfg.org
SUMMARY:SKEET CLOSED TODAY
DESCRIPTION:SKEET IS OPEN TO THE PUBLIC FROM 10 AM TO 3 PM. \n$7.00 PER ROUND FOR MEMBERS FOR 25 TARGETS \n$8.00 PER ROUNDS FOR PUBLIC FOR 25 TARGETS \nAMMO AVAILABLE FOR $11.00 A BOX
URL:https://scarfg.org/event/public-skeet-shooting-3/
LOCATION:Skeet Range\, 21 Fish and Game Ln\, Scarborough\, ME\, 04072\, United States
CATEGORIES:Skeet
END:VEVENT
BEGIN:VEVENT
DTSTART;TZID=America/New_York:20250209T100000
DTEND;TZID=America/New_York:20250209T150000
DTSTAMP:20260422T075218
CREATED:20250209T021741Z
LAST-MODIFIED:20250209T021741Z
UID:10010902-1739095200-1739113200@scarfg.org
SUMMARY:SKEET CLOSED WEATHER
DESCRIPTION:SKEET IS OPEN TO THE PUBLIC FROM 10 AM TO 3 PM. \n$7.00 PER ROUND FOR MEMBERS FOR 25 TARGETS \n$8.00 PER ROUNDS FOR PUBLIC FOR 25 TARGETS \nAMMO AVAILABLE FOR $11.00 A BOX
URL:https://scarfg.org/event/public-skeet-shooting-2/
LOCATION:Skeet Range\, 21 Fish and Game Ln\, Scarborough\, ME\, 04072\, United States
CATEGORIES:Skeet
END:VEVENT
BEGIN:VEVENT
DTSTART;TZID=America/New_York:20250202T100000
DTEND;TZID=America/New_York:20250202T150000
DTSTAMP:20260422T075218
CREATED:20250107T004621Z
LAST-MODIFIED:20250107T005458Z
UID:10010901-1738490400-1738508400@scarfg.org
SUMMARY:PUBLIC SKEET SHOOTING
DESCRIPTION:SKEET IS OPEN TO THE PUBLIC FROM 10 AM TO 3 PM. \n$7.00 PER ROUND FOR MEMBERS FOR 25 TARGETS \n$8.00 PER ROUNDS FOR PUBLIC FOR 25 TARGETS \nAMMO AVAILABLE FOR $11.00 A BOX
URL:https://scarfg.org/event/public-skeet-shooting/2025-02-02/
LOCATION:Skeet Range\, 21 Fish and Game Ln\, Scarborough\, ME\, 04072\, United States
CATEGORIES:Skeet
END:VEVENT
BEGIN:VEVENT
DTSTART;TZID=America/New_York:20250126T100000
DTEND;TZID=America/New_York:20250126T150000
DTSTAMP:20260422T075218
CREATED:20250107T004621Z
LAST-MODIFIED:20250107T005458Z
UID:10010900-1737885600-1737903600@scarfg.org
SUMMARY:PUBLIC SKEET SHOOTING
DESCRIPTION:SKEET IS OPEN TO THE PUBLIC FROM 10 AM TO 3 PM. \n$7.00 PER ROUND FOR MEMBERS FOR 25 TARGETS \n$8.00 PER ROUNDS FOR PUBLIC FOR 25 TARGETS \nAMMO AVAILABLE FOR $11.00 A BOX
URL:https://scarfg.org/event/public-skeet-shooting/2025-01-26/
LOCATION:Skeet Range\, 21 Fish and Game Ln\, Scarborough\, ME\, 04072\, United States
CATEGORIES:Skeet
END:VEVENT
BEGIN:VEVENT
DTSTART;TZID=America/New_York:20250119T100000
DTEND;TZID=America/New_York:20250119T150000
DTSTAMP:20260422T075218
CREATED:20250107T004621Z
LAST-MODIFIED:20250107T005458Z
UID:10010899-1737280800-1737298800@scarfg.org
SUMMARY:PUBLIC SKEET SHOOTING
DESCRIPTION:SKEET IS OPEN TO THE PUBLIC FROM 10 AM TO 3 PM. \n$7.00 PER ROUND FOR MEMBERS FOR 25 TARGETS \n$8.00 PER ROUNDS FOR PUBLIC FOR 25 TARGETS \nAMMO AVAILABLE FOR $11.00 A BOX
URL:https://scarfg.org/event/public-skeet-shooting/2025-01-19/
LOCATION:Skeet Range\, 21 Fish and Game Ln\, Scarborough\, ME\, 04072\, United States
CATEGORIES:Skeet
END:VEVENT
BEGIN:VEVENT
DTSTART;TZID=America/New_York:20250112T100000
DTEND;TZID=America/New_York:20250112T150000
DTSTAMP:20260422T075218
CREATED:20250107T004621Z
LAST-MODIFIED:20250107T005458Z
UID:10010898-1736676000-1736694000@scarfg.org
SUMMARY:PUBLIC SKEET SHOOTING
DESCRIPTION:SKEET IS OPEN TO THE PUBLIC FROM 10 AM TO 3 PM. \n$7.00 PER ROUND FOR MEMBERS FOR 25 TARGETS \n$8.00 PER ROUNDS FOR PUBLIC FOR 25 TARGETS \nAMMO AVAILABLE FOR $11.00 A BOX
URL:https://scarfg.org/event/public-skeet-shooting/2025-01-12/
LOCATION:Skeet Range\, 21 Fish and Game Ln\, Scarborough\, ME\, 04072\, United States
CATEGORIES:Skeet
END:VEVENT
BEGIN:VEVENT
DTSTART;TZID=America/New_York:20241229T100000
DTEND;TZID=America/New_York:20241229T150000
DTSTAMP:20260422T075218
CREATED:20240212T140626Z
LAST-MODIFIED:20250430T183228Z
UID:10006964-1735466400-1735484400@scarfg.org
SUMMARY:SKEET PUBLIC SHOOTING
DESCRIPTION:SKEET IS OPEN TO THE PUBLIC FROM 10 AM TO 3 PM. \n$7.00 per round members \n$8.00 per round nonmembers \nAMMO AVAILABLE FOR $11.00 A BOX
URL:https://scarfg.org/event/skeet-25/2024-12-29/
LOCATION:Skeet Range\, 21 Fish and Game Ln\, Scarborough\, ME\, 04072\, United States
CATEGORIES:Skeet
END:VEVENT
BEGIN:VEVENT
DTSTART;TZID=America/New_York:20241222T100000
DTEND;TZID=America/New_York:20241222T150000
DTSTAMP:20260422T075218
CREATED:20240212T140626Z
LAST-MODIFIED:20250430T183228Z
UID:10006963-1734861600-1734879600@scarfg.org
SUMMARY:SKEET PUBLIC SHOOTING
DESCRIPTION:SKEET IS OPEN TO THE PUBLIC FROM 10 AM TO 3 PM. \n$7.00 per round members \n$8.00 per round nonmembers \nAMMO AVAILABLE FOR $11.00 A BOX
URL:https://scarfg.org/event/skeet-25/2024-12-22/
LOCATION:Skeet Range\, 21 Fish and Game Ln\, Scarborough\, ME\, 04072\, United States
CATEGORIES:Skeet
END:VEVENT
BEGIN:VEVENT
DTSTART;TZID=America/New_York:20241215T100000
DTEND;TZID=America/New_York:20241215T150000
DTSTAMP:20260422T075218
CREATED:20240212T140626Z
LAST-MODIFIED:20250430T183228Z
UID:10006962-1734256800-1734274800@scarfg.org
SUMMARY:SKEET PUBLIC SHOOTING
DESCRIPTION:SKEET IS OPEN TO THE PUBLIC FROM 10 AM TO 3 PM. \n$7.00 per round members \n$8.00 per round nonmembers \nAMMO AVAILABLE FOR $11.00 A BOX
URL:https://scarfg.org/event/skeet-25/2024-12-15/
LOCATION:Skeet Range\, 21 Fish and Game Ln\, Scarborough\, ME\, 04072\, United States
CATEGORIES:Skeet
END:VEVENT
END:VCALENDAR