BEGIN:VCALENDAR
VERSION:2.0
PRODID:-//Scarborough Fish &amp; Game Association - ECPv6.15.20//NONSGML v1.0//EN
CALSCALE:GREGORIAN
METHOD:PUBLISH
X-WR-CALNAME:Scarborough Fish &amp; Game Association
X-ORIGINAL-URL:https://scarfg.org
X-WR-CALDESC:Events for Scarborough Fish &amp; Game Association
REFRESH-INTERVAL;VALUE=DURATION:PT1H
X-Robots-Tag:noindex
X-PUBLISHED-TTL:PT1H
BEGIN:VTIMEZONE
TZID:America/New_York
BEGIN:DAYLIGHT
TZOFFSETFROM:-0500
TZOFFSETTO:-0400
TZNAME:EDT
DTSTART:20240310T070000
END:DAYLIGHT
BEGIN:STANDARD
TZOFFSETFROM:-0400
TZOFFSETTO:-0500
TZNAME:EST
DTSTART:20241103T060000
END:STANDARD
BEGIN:DAYLIGHT
TZOFFSETFROM:-0500
TZOFFSETTO:-0400
TZNAME:EDT
DTSTART:20250309T070000
END:DAYLIGHT
BEGIN:STANDARD
TZOFFSETFROM:-0400
TZOFFSETTO:-0500
TZNAME:EST
DTSTART:20251102T060000
END:STANDARD
BEGIN:DAYLIGHT
TZOFFSETFROM:-0500
TZOFFSETTO:-0400
TZNAME:EDT
DTSTART:20260308T070000
END:DAYLIGHT
BEGIN:STANDARD
TZOFFSETFROM:-0400
TZOFFSETTO:-0500
TZNAME:EST
DTSTART:20261101T060000
END:STANDARD
BEGIN:DAYLIGHT
TZOFFSETFROM:-0500
TZOFFSETTO:-0400
TZNAME:EDT
DTSTART:20270314T070000
END:DAYLIGHT
BEGIN:STANDARD
TZOFFSETFROM:-0400
TZOFFSETTO:-0500
TZNAME:EST
DTSTART:20271107T060000
END:STANDARD
END:VTIMEZONE
BEGIN:VEVENT
DTSTART;TZID=America/New_York:20260419T100000
DTEND;TZID=America/New_York:20260419T150000
DTSTAMP:20260422T055314
CREATED:20260419T143503Z
LAST-MODIFIED:20260419T143513Z
UID:10013311-1776592800-1776610800@scarfg.org
SUMMARY:SKEET CLOSED
DESCRIPTION:SKEET IS OPEN TO THE PUBLIC FROM 10 AM TO 3 PM. \n$7.00 per round members \n$8.00 per round nonmembers \nAMMO AVAILABLE FOR $11.00 A BOX
URL:https://scarfg.org/event/skeet-shooting-4-2-2-2/
LOCATION:Skeet Range\, 21 Fish and Game Ln\, Scarborough\, ME\, 04072\, United States
CATEGORIES:Skeet
END:VEVENT
BEGIN:VEVENT
DTSTART;TZID=America/New_York:20260412T100000
DTEND;TZID=America/New_York:20260412T150000
DTSTAMP:20260422T055314
CREATED:20260103T190159Z
LAST-MODIFIED:20260322T132447Z
UID:10013310-1775988000-1776006000@scarfg.org
SUMMARY:SKEET SHOOTING
DESCRIPTION:SKEET IS OPEN TO THE PUBLIC FROM 10 AM TO 3 PM. \n$7.00 per round members \n$8.00 per round nonmembers \nAMMO AVAILABLE FOR $11.00 A BOX
URL:https://scarfg.org/event/skeet-shooting-4-2/2026-04-12/
LOCATION:Skeet Range\, 21 Fish and Game Ln\, Scarborough\, ME\, 04072\, United States
CATEGORIES:Skeet
END:VEVENT
BEGIN:VEVENT
DTSTART;TZID=America/New_York:20260411T100000
DTEND;TZID=America/New_York:20260411T150000
DTSTAMP:20260422T055314
CREATED:20260403T151324Z
LAST-MODIFIED:20260403T151324Z
UID:10013622-1775901600-1775919600@scarfg.org
SUMMARY:Southern Maine Dog Trainers clinic
DESCRIPTION:Southern Maine Dog Training Chapter spring gunners training day. Closed event invitation only.
URL:https://scarfg.org/event/southern-maine-dog-trainers-clinic/2026-04-11/
LOCATION:Skeet Range\, 21 Fish and Game Ln\, Scarborough\, ME\, 04072\, United States
CATEGORIES:Skeet
END:VEVENT
BEGIN:VEVENT
DTSTART;TZID=America/New_York:20260404T100000
DTEND;TZID=America/New_York:20260404T150000
DTSTAMP:20260422T055314
CREATED:20260403T151324Z
LAST-MODIFIED:20260403T151324Z
UID:10013621-1775296800-1775314800@scarfg.org
SUMMARY:Southern Maine Dog Trainers clinic
DESCRIPTION:Southern Maine Dog Training Chapter spring gunners training day. Closed event invitation only.
URL:https://scarfg.org/event/southern-maine-dog-trainers-clinic/2026-04-04/
LOCATION:Skeet Range\, 21 Fish and Game Ln\, Scarborough\, ME\, 04072\, United States
CATEGORIES:Skeet
END:VEVENT
BEGIN:VEVENT
DTSTART;TZID=America/New_York:20260329T100000
DTEND;TZID=America/New_York:20260329T150000
DTSTAMP:20260422T055314
CREATED:20260103T190159Z
LAST-MODIFIED:20260322T132447Z
UID:10013309-1774778400-1774796400@scarfg.org
SUMMARY:SKEET SHOOTING
DESCRIPTION:SKEET IS OPEN TO THE PUBLIC FROM 10 AM TO 3 PM. \n$7.00 per round members \n$8.00 per round nonmembers \nAMMO AVAILABLE FOR $11.00 A BOX
URL:https://scarfg.org/event/skeet-shooting-4-2/2026-03-29/
LOCATION:Skeet Range\, 21 Fish and Game Ln\, Scarborough\, ME\, 04072\, United States
CATEGORIES:Skeet
END:VEVENT
BEGIN:VEVENT
DTSTART;TZID=America/New_York:20260315T100000
DTEND;TZID=America/New_York:20260315T150000
DTSTAMP:20260422T055314
CREATED:20260103T190159Z
LAST-MODIFIED:20260322T132447Z
UID:10013307-1773568800-1773586800@scarfg.org
SUMMARY:SKEET SHOOTING
DESCRIPTION:SKEET IS OPEN TO THE PUBLIC FROM 10 AM TO 3 PM. \n$7.00 per round members \n$8.00 per round nonmembers \nAMMO AVAILABLE FOR $11.00 A BOX
URL:https://scarfg.org/event/skeet-shooting-4-2/2026-03-15/
LOCATION:Skeet Range\, 21 Fish and Game Ln\, Scarborough\, ME\, 04072\, United States
CATEGORIES:Skeet
END:VEVENT
BEGIN:VEVENT
DTSTART;TZID=America/New_York:20260308T100000
DTEND;TZID=America/New_York:20260308T150000
DTSTAMP:20260422T055314
CREATED:20260103T190159Z
LAST-MODIFIED:20260322T132447Z
UID:10013306-1772964000-1772982000@scarfg.org
SUMMARY:SKEET SHOOTING
DESCRIPTION:SKEET IS OPEN TO THE PUBLIC FROM 10 AM TO 3 PM. \n$7.00 per round members \n$8.00 per round nonmembers \nAMMO AVAILABLE FOR $11.00 A BOX
URL:https://scarfg.org/event/skeet-shooting-4-2/2026-03-08/
LOCATION:Skeet Range\, 21 Fish and Game Ln\, Scarborough\, ME\, 04072\, United States
CATEGORIES:Skeet
END:VEVENT
BEGIN:VEVENT
DTSTART;TZID=America/New_York:20260301T100000
DTEND;TZID=America/New_York:20260301T150000
DTSTAMP:20260422T055314
CREATED:20260103T190159Z
LAST-MODIFIED:20260322T132447Z
UID:10013305-1772359200-1772377200@scarfg.org
SUMMARY:SKEET SHOOTING
DESCRIPTION:SKEET IS OPEN TO THE PUBLIC FROM 10 AM TO 3 PM. \n$7.00 per round members \n$8.00 per round nonmembers \nAMMO AVAILABLE FOR $11.00 A BOX
URL:https://scarfg.org/event/skeet-shooting-4-2/2026-03-01/
LOCATION:Skeet Range\, 21 Fish and Game Ln\, Scarborough\, ME\, 04072\, United States
CATEGORIES:Skeet
END:VEVENT
BEGIN:VEVENT
DTSTART;TZID=America/New_York:20260222T100000
DTEND;TZID=America/New_York:20260222T150000
DTSTAMP:20260422T055314
CREATED:20260103T190159Z
LAST-MODIFIED:20260322T132447Z
UID:10013304-1771754400-1771772400@scarfg.org
SUMMARY:SKEET SHOOTING
DESCRIPTION:SKEET IS OPEN TO THE PUBLIC FROM 10 AM TO 3 PM. \n$7.00 per round members \n$8.00 per round nonmembers \nAMMO AVAILABLE FOR $11.00 A BOX
URL:https://scarfg.org/event/skeet-shooting-4-2/2026-02-22/
LOCATION:Skeet Range\, 21 Fish and Game Ln\, Scarborough\, ME\, 04072\, United States
CATEGORIES:Skeet
END:VEVENT
BEGIN:VEVENT
DTSTART;TZID=America/New_York:20260215T100000
DTEND;TZID=America/New_York:20260215T150000
DTSTAMP:20260422T055314
CREATED:20260103T190159Z
LAST-MODIFIED:20260322T132447Z
UID:10013303-1771149600-1771167600@scarfg.org
SUMMARY:SKEET SHOOTING
DESCRIPTION:SKEET IS OPEN TO THE PUBLIC FROM 10 AM TO 3 PM. \n$7.00 per round members \n$8.00 per round nonmembers \nAMMO AVAILABLE FOR $11.00 A BOX
URL:https://scarfg.org/event/skeet-shooting-4-2/2026-02-15/
LOCATION:Skeet Range\, 21 Fish and Game Ln\, Scarborough\, ME\, 04072\, United States
CATEGORIES:Skeet
END:VEVENT
BEGIN:VEVENT
DTSTART;TZID=America/New_York:20260208T100000
DTEND;TZID=America/New_York:20260208T150000
DTSTAMP:20260422T055314
CREATED:20260103T190159Z
LAST-MODIFIED:20260322T132447Z
UID:10013302-1770544800-1770562800@scarfg.org
SUMMARY:SKEET SHOOTING
DESCRIPTION:SKEET IS OPEN TO THE PUBLIC FROM 10 AM TO 3 PM. \n$7.00 per round members \n$8.00 per round nonmembers \nAMMO AVAILABLE FOR $11.00 A BOX
URL:https://scarfg.org/event/skeet-shooting-4-2/2026-02-08/
LOCATION:Skeet Range\, 21 Fish and Game Ln\, Scarborough\, ME\, 04072\, United States
CATEGORIES:Skeet
END:VEVENT
BEGIN:VEVENT
DTSTART;TZID=America/New_York:20260201T100000
DTEND;TZID=America/New_York:20260201T150000
DTSTAMP:20260422T055314
CREATED:20260103T190159Z
LAST-MODIFIED:20260322T132447Z
UID:10013301-1769940000-1769958000@scarfg.org
SUMMARY:SKEET SHOOTING
DESCRIPTION:SKEET IS OPEN TO THE PUBLIC FROM 10 AM TO 3 PM. \n$7.00 per round members \n$8.00 per round nonmembers \nAMMO AVAILABLE FOR $11.00 A BOX
URL:https://scarfg.org/event/skeet-shooting-4-2/2026-02-01/
LOCATION:Skeet Range\, 21 Fish and Game Ln\, Scarborough\, ME\, 04072\, United States
CATEGORIES:Skeet
END:VEVENT
BEGIN:VEVENT
DTSTART;TZID=America/New_York:20260125T100000
DTEND;TZID=America/New_York:20260125T150000
DTSTAMP:20260422T055314
CREATED:20260103T190159Z
LAST-MODIFIED:20260322T132447Z
UID:10013300-1769335200-1769353200@scarfg.org
SUMMARY:SKEET SHOOTING
DESCRIPTION:SKEET IS OPEN TO THE PUBLIC FROM 10 AM TO 3 PM. \n$7.00 per round members \n$8.00 per round nonmembers \nAMMO AVAILABLE FOR $11.00 A BOX
URL:https://scarfg.org/event/skeet-shooting-4-2/2026-01-25/
LOCATION:Skeet Range\, 21 Fish and Game Ln\, Scarborough\, ME\, 04072\, United States
CATEGORIES:Skeet
END:VEVENT
BEGIN:VEVENT
DTSTART;TZID=America/New_York:20260118T100000
DTEND;TZID=America/New_York:20260118T150000
DTSTAMP:20260422T055314
CREATED:20260103T190159Z
LAST-MODIFIED:20260322T132447Z
UID:10013299-1768730400-1768748400@scarfg.org
SUMMARY:SKEET SHOOTING
DESCRIPTION:SKEET IS OPEN TO THE PUBLIC FROM 10 AM TO 3 PM. \n$7.00 per round members \n$8.00 per round nonmembers \nAMMO AVAILABLE FOR $11.00 A BOX
URL:https://scarfg.org/event/skeet-shooting-4-2/2026-01-18/
LOCATION:Skeet Range\, 21 Fish and Game Ln\, Scarborough\, ME\, 04072\, United States
CATEGORIES:Skeet
END:VEVENT
BEGIN:VEVENT
DTSTART;TZID=America/New_York:20260111T100000
DTEND;TZID=America/New_York:20260111T150000
DTSTAMP:20260422T055314
CREATED:20260103T190159Z
LAST-MODIFIED:20260322T132447Z
UID:10013298-1768125600-1768143600@scarfg.org
SUMMARY:SKEET SHOOTING
DESCRIPTION:SKEET IS OPEN TO THE PUBLIC FROM 10 AM TO 3 PM. \n$7.00 per round members \n$8.00 per round nonmembers \nAMMO AVAILABLE FOR $11.00 A BOX
URL:https://scarfg.org/event/skeet-shooting-4-2/2026-01-11/
LOCATION:Skeet Range\, 21 Fish and Game Ln\, Scarborough\, ME\, 04072\, United States
CATEGORIES:Skeet
END:VEVENT
BEGIN:VEVENT
DTSTART;TZID=America/New_York:20260104T100000
DTEND;TZID=America/New_York:20260104T150000
DTSTAMP:20260422T055314
CREATED:20260103T190159Z
LAST-MODIFIED:20260322T132447Z
UID:10011697-1767520800-1767538800@scarfg.org
SUMMARY:SKEET SHOOTING
DESCRIPTION:SKEET IS OPEN TO THE PUBLIC FROM 10 AM TO 3 PM. \n$7.00 per round members \n$8.00 per round nonmembers \nAMMO AVAILABLE FOR $11.00 A BOX
URL:https://scarfg.org/event/skeet-shooting-4-2/2026-01-04/
LOCATION:Skeet Range\, 21 Fish and Game Ln\, Scarborough\, ME\, 04072\, United States
CATEGORIES:Skeet
END:VEVENT
BEGIN:VEVENT
DTSTART;TZID=America/New_York:20251221T100000
DTEND;TZID=America/New_York:20251221T150000
DTSTAMP:20260422T055314
CREATED:20251001T132307Z
LAST-MODIFIED:20251002T201554Z
UID:10011696-1766311200-1766329200@scarfg.org
SUMMARY:SKEET SHOOTING
DESCRIPTION:SKEET IS OPEN TO THE PUBLIC FROM 10 AM TO 3 PM. \n$7.00 per round members \n$8.00 per round nonmembers \nAMMO AVAILABLE FOR $11.00 A BOX
URL:https://scarfg.org/event/skeet-shooting-4/2025-12-21/
LOCATION:Skeet Range\, 21 Fish and Game Ln\, Scarborough\, ME\, 04072\, United States
CATEGORIES:Skeet
END:VEVENT
BEGIN:VEVENT
DTSTART;TZID=America/New_York:20251214T100000
DTEND;TZID=America/New_York:20251214T150000
DTSTAMP:20260422T055314
CREATED:20251001T132307Z
LAST-MODIFIED:20251002T201554Z
UID:10011695-1765706400-1765724400@scarfg.org
SUMMARY:SKEET SHOOTING
DESCRIPTION:SKEET IS OPEN TO THE PUBLIC FROM 10 AM TO 3 PM. \n$7.00 per round members \n$8.00 per round nonmembers \nAMMO AVAILABLE FOR $11.00 A BOX
URL:https://scarfg.org/event/skeet-shooting-4/2025-12-14/
LOCATION:Skeet Range\, 21 Fish and Game Ln\, Scarborough\, ME\, 04072\, United States
CATEGORIES:Skeet
END:VEVENT
BEGIN:VEVENT
DTSTART;TZID=America/New_York:20251207T100000
DTEND;TZID=America/New_York:20251207T150000
DTSTAMP:20260422T055314
CREATED:20251001T132307Z
LAST-MODIFIED:20251002T201554Z
UID:10011694-1765101600-1765119600@scarfg.org
SUMMARY:SKEET SHOOTING
DESCRIPTION:SKEET IS OPEN TO THE PUBLIC FROM 10 AM TO 3 PM. \n$7.00 per round members \n$8.00 per round nonmembers \nAMMO AVAILABLE FOR $11.00 A BOX
URL:https://scarfg.org/event/skeet-shooting-4/2025-12-07/
LOCATION:Skeet Range\, 21 Fish and Game Ln\, Scarborough\, ME\, 04072\, United States
CATEGORIES:Skeet
END:VEVENT
BEGIN:VEVENT
DTSTART;TZID=America/New_York:20251130T100000
DTEND;TZID=America/New_York:20251130T150000
DTSTAMP:20260422T055314
CREATED:20251001T132307Z
LAST-MODIFIED:20251002T201554Z
UID:10011693-1764496800-1764514800@scarfg.org
SUMMARY:SKEET SHOOTING
DESCRIPTION:SKEET IS OPEN TO THE PUBLIC FROM 10 AM TO 3 PM. \n$7.00 per round members \n$8.00 per round nonmembers \nAMMO AVAILABLE FOR $11.00 A BOX
URL:https://scarfg.org/event/skeet-shooting-4/2025-11-30/
LOCATION:Skeet Range\, 21 Fish and Game Ln\, Scarborough\, ME\, 04072\, United States
CATEGORIES:Skeet
END:VEVENT
BEGIN:VEVENT
DTSTART;TZID=America/New_York:20251123T100000
DTEND;TZID=America/New_York:20251123T150000
DTSTAMP:20260422T055314
CREATED:20251001T132307Z
LAST-MODIFIED:20251002T201554Z
UID:10011692-1763892000-1763910000@scarfg.org
SUMMARY:SKEET SHOOTING
DESCRIPTION:SKEET IS OPEN TO THE PUBLIC FROM 10 AM TO 3 PM. \n$7.00 per round members \n$8.00 per round nonmembers \nAMMO AVAILABLE FOR $11.00 A BOX
URL:https://scarfg.org/event/skeet-shooting-4/2025-11-23/
LOCATION:Skeet Range\, 21 Fish and Game Ln\, Scarborough\, ME\, 04072\, United States
CATEGORIES:Skeet
END:VEVENT
BEGIN:VEVENT
DTSTART;TZID=America/New_York:20251116T100000
DTEND;TZID=America/New_York:20251116T150000
DTSTAMP:20260422T055314
CREATED:20251001T132307Z
LAST-MODIFIED:20251002T201554Z
UID:10011691-1763287200-1763305200@scarfg.org
SUMMARY:SKEET SHOOTING
DESCRIPTION:SKEET IS OPEN TO THE PUBLIC FROM 10 AM TO 3 PM. \n$7.00 per round members \n$8.00 per round nonmembers \nAMMO AVAILABLE FOR $11.00 A BOX
URL:https://scarfg.org/event/skeet-shooting-4/2025-11-16/
LOCATION:Skeet Range\, 21 Fish and Game Ln\, Scarborough\, ME\, 04072\, United States
CATEGORIES:Skeet
END:VEVENT
BEGIN:VEVENT
DTSTART;TZID=America/New_York:20251109T100000
DTEND;TZID=America/New_York:20251109T150000
DTSTAMP:20260422T055314
CREATED:20251001T132307Z
LAST-MODIFIED:20251002T201554Z
UID:10011690-1762682400-1762700400@scarfg.org
SUMMARY:SKEET SHOOTING
DESCRIPTION:SKEET IS OPEN TO THE PUBLIC FROM 10 AM TO 3 PM. \n$7.00 per round members \n$8.00 per round nonmembers \nAMMO AVAILABLE FOR $11.00 A BOX
URL:https://scarfg.org/event/skeet-shooting-4/2025-11-09/
LOCATION:Skeet Range\, 21 Fish and Game Ln\, Scarborough\, ME\, 04072\, United States
CATEGORIES:Skeet
END:VEVENT
BEGIN:VEVENT
DTSTART;TZID=America/New_York:20251102T100000
DTEND;TZID=America/New_York:20251102T150000
DTSTAMP:20260422T055314
CREATED:20251001T132307Z
LAST-MODIFIED:20251002T201554Z
UID:10011689-1762077600-1762095600@scarfg.org
SUMMARY:SKEET SHOOTING
DESCRIPTION:SKEET IS OPEN TO THE PUBLIC FROM 10 AM TO 3 PM. \n$7.00 per round members \n$8.00 per round nonmembers \nAMMO AVAILABLE FOR $11.00 A BOX
URL:https://scarfg.org/event/skeet-shooting-4/2025-11-02/
LOCATION:Skeet Range\, 21 Fish and Game Ln\, Scarborough\, ME\, 04072\, United States
CATEGORIES:Skeet
END:VEVENT
BEGIN:VEVENT
DTSTART;TZID=America/New_York:20251026T080000
DTEND;TZID=America/New_York:20251026T170000
DTSTAMP:20260422T055314
CREATED:20251001T131914Z
LAST-MODIFIED:20251001T131915Z
UID:10011685-1761465600-1761498000@scarfg.org
SUMMARY:SKEET 3RD ANNUAL FALL CLASSIC
DESCRIPTION:3RD ANNUAL FALL CLASSIC SKEET SHOOT\,  This is a 50 target event\, with the top 5 shooters competing in a shoot off for Champion! \n  \n For more information reach out to Darrin Kirkpatrick ddk0580@gmail.com
URL:https://scarfg.org/event/skeet-shooting-3/
LOCATION:Skeet Range\, 21 Fish and Game Ln\, Scarborough\, ME\, 04072\, United States
CATEGORIES:Skeet
ORGANIZER;CN="Darrin Kirkpatrick":MAILTO:ddk0580@gmail.com
END:VEVENT
BEGIN:VEVENT
DTSTART;TZID=America/New_York:20251019T100000
DTEND;TZID=America/New_York:20251019T150000
DTSTAMP:20260422T055314
CREATED:20251001T132307Z
LAST-MODIFIED:20251002T201554Z
UID:10012912-1760868000-1760886000@scarfg.org
SUMMARY:SKEET SHOOTING
DESCRIPTION:SKEET IS OPEN TO THE PUBLIC FROM 10 AM TO 3 PM. \n$7.00 per round members \n$8.00 per round nonmembers \nAMMO AVAILABLE FOR $11.00 A BOX
URL:https://scarfg.org/event/skeet-shooting-4/2025-10-19/
LOCATION:Skeet Range\, 21 Fish and Game Ln\, Scarborough\, ME\, 04072\, United States
CATEGORIES:Skeet
END:VEVENT
BEGIN:VEVENT
DTSTART;TZID=America/New_York:20251018T090000
DTEND;TZID=America/New_York:20251018T150000
DTSTAMP:20260422T055314
CREATED:20251001T131351Z
LAST-MODIFIED:20251001T131351Z
UID:10012909-1760778000-1760799600@scarfg.org
SUMMARY:Skeet Instructional Day
DESCRIPTION:Skeet Instruction Day is open to anyone looking to learn more about or gain more skills in the Skeet game. 1 hour of one on one instruction\, no matter the skill clay target skill set everyone is encouraged to attend\, and break some clays while learning the skills of the game.  Contact Darrin Kirkpatrick ddk0580@gmail.com for more information
URL:https://scarfg.org/event/skeet-instructional-day/
LOCATION:Skeet Range\, 21 Fish and Game Ln\, Scarborough\, ME\, 04072\, United States
CATEGORIES:Skeet
ORGANIZER;CN="Darrin Kirkpatrick":MAILTO:ddk0580@gmail.com
END:VEVENT
BEGIN:VEVENT
DTSTART;TZID=America/New_York:20251012T100000
DTEND;TZID=America/New_York:20251012T150000
DTSTAMP:20260422T055314
CREATED:20251001T132307Z
LAST-MODIFIED:20251002T201554Z
UID:10012911-1760263200-1760281200@scarfg.org
SUMMARY:SKEET SHOOTING
DESCRIPTION:SKEET IS OPEN TO THE PUBLIC FROM 10 AM TO 3 PM. \n$7.00 per round members \n$8.00 per round nonmembers \nAMMO AVAILABLE FOR $11.00 A BOX
URL:https://scarfg.org/event/skeet-shooting-4/2025-10-12/
LOCATION:Skeet Range\, 21 Fish and Game Ln\, Scarborough\, ME\, 04072\, United States
CATEGORIES:Skeet
END:VEVENT
BEGIN:VEVENT
DTSTART;TZID=America/New_York:20251005T100000
DTEND;TZID=America/New_York:20251005T150000
DTSTAMP:20260422T055314
CREATED:20251001T132307Z
LAST-MODIFIED:20251002T201554Z
UID:10012910-1759658400-1759676400@scarfg.org
SUMMARY:SKEET SHOOTING
DESCRIPTION:SKEET IS OPEN TO THE PUBLIC FROM 10 AM TO 3 PM. \n$7.00 per round members \n$8.00 per round nonmembers \nAMMO AVAILABLE FOR $11.00 A BOX
URL:https://scarfg.org/event/skeet-shooting-4/2025-10-05/
LOCATION:Skeet Range\, 21 Fish and Game Ln\, Scarborough\, ME\, 04072\, United States
CATEGORIES:Skeet
END:VEVENT
BEGIN:VEVENT
DTSTART;TZID=America/New_York:20250928T100000
DTEND;TZID=America/New_York:20250928T150000
DTSTAMP:20260422T055314
CREATED:20250430T183850Z
LAST-MODIFIED:20250430T202617Z
UID:10011684-1759053600-1759071600@scarfg.org
SUMMARY:SKEET SHOOTING
DESCRIPTION:SKEET IS OPEN TO THE PUBLIC FROM 10 AM TO 3 PM. \n$7.00 per round members \n$8.00 per round nonmembers \nAMMO AVAILABLE FOR $11.00 A BOX
URL:https://scarfg.org/event/skeet-shooting/2025-09-28/
LOCATION:Skeet Range\, 21 Fish and Game Ln\, Scarborough\, ME\, 04072\, United States
CATEGORIES:Skeet
END:VEVENT
END:VCALENDAR