BEGIN:VCALENDAR
VERSION:2.0
PRODID:-//Scarborough Fish &amp; Game Association - ECPv6.15.20//NONSGML v1.0//EN
CALSCALE:GREGORIAN
METHOD:PUBLISH
X-ORIGINAL-URL:https://scarfg.org
X-WR-CALDESC:Events for Scarborough Fish &amp; Game Association
REFRESH-INTERVAL;VALUE=DURATION:PT1H
X-Robots-Tag:noindex
X-PUBLISHED-TTL:PT1H
BEGIN:VTIMEZONE
TZID:America/New_York
BEGIN:DAYLIGHT
TZOFFSETFROM:-0500
TZOFFSETTO:-0400
TZNAME:EDT
DTSTART:20220313T070000
END:DAYLIGHT
BEGIN:STANDARD
TZOFFSETFROM:-0400
TZOFFSETTO:-0500
TZNAME:EST
DTSTART:20221106T060000
END:STANDARD
BEGIN:DAYLIGHT
TZOFFSETFROM:-0500
TZOFFSETTO:-0400
TZNAME:EDT
DTSTART:20230312T070000
END:DAYLIGHT
BEGIN:STANDARD
TZOFFSETFROM:-0400
TZOFFSETTO:-0500
TZNAME:EST
DTSTART:20231105T060000
END:STANDARD
BEGIN:DAYLIGHT
TZOFFSETFROM:-0500
TZOFFSETTO:-0400
TZNAME:EDT
DTSTART:20240310T070000
END:DAYLIGHT
BEGIN:STANDARD
TZOFFSETFROM:-0400
TZOFFSETTO:-0500
TZNAME:EST
DTSTART:20241103T060000
END:STANDARD
END:VTIMEZONE
BEGIN:VEVENT
DTSTART;VALUE=DATE:20230513
DTEND;VALUE=DATE:20230514
DTSTAMP:20260422T160700
CREATED:20230120T194818Z
LAST-MODIFIED:20230120T194818Z
UID:10005126-1683936000-1684022399@scarfg.org
SUMMARY:LE 50 Rented-CCSO-Hovey
DESCRIPTION:
URL:https://scarfg.org/event/le-50-rented-ccso-hovey/
LOCATION:LE 50\, 21 Fish and Game Ln\, scarborough\, ME\, 04074\, United States
CATEGORIES:LE Rental Ranges
ORGANIZER;CN="Lt. Anthony Hovey":MAILTO:hovey@cumberlandcounty.org
END:VEVENT
BEGIN:VEVENT
DTSTART;VALUE=DATE:20230511
DTEND;VALUE=DATE:20230512
DTSTAMP:20260422T160700
CREATED:20230412T165927Z
LAST-MODIFIED:20230509T194103Z
UID:10005283-1683763200-1683849599@scarfg.org
SUMMARY:LE 50 Rented-USCG
DESCRIPTION:
URL:https://scarfg.org/event/le-3-rented-uscg-4/
LOCATION:LE 50\, 21 Fish and Game Ln\, scarborough\, ME\, 04074\, United States
CATEGORIES:LE Rental Ranges
ORGANIZER;CN="PO1 Donovan Warner":MAILTO:Donovan.M.Warner@uscg.mil
END:VEVENT
BEGIN:VEVENT
DTSTART;VALUE=DATE:20230511
DTEND;VALUE=DATE:20230512
DTSTAMP:20260422T160700
CREATED:20221007T015942Z
LAST-MODIFIED:20230508T162342Z
UID:10004864-1683763200-1683849599@scarfg.org
SUMMARY:LE 50 range Rented-DHS/INV
DESCRIPTION:
URL:https://scarfg.org/event/le-50-range-rented-dhs-inv-2023-07-20/2023-05-11/
LOCATION:LE 50\, 21 Fish and Game Ln\, scarborough\, ME\, 04074\, United States
CATEGORIES:LE Rental Ranges
END:VEVENT
BEGIN:VEVENT
DTSTART;VALUE=DATE:20230509
DTEND;VALUE=DATE:20230511
DTSTAMP:20260422T160700
CREATED:20221012T152728Z
LAST-MODIFIED:20221012T152728Z
UID:10004877-1683590400-1683763199@scarfg.org
SUMMARY:LE 50 Rented-OOB-lowlight
DESCRIPTION:
URL:https://scarfg.org/event/le-50-rented-oob-lowlight/
LOCATION:LE 50\, 21 Fish and Game Ln\, scarborough\, ME\, 04074\, United States
CATEGORIES:LE Rental Ranges
ORGANIZER;CN="Will Watson":MAILTO:wwatson@oobmaine.com
END:VEVENT
BEGIN:VEVENT
DTSTART;VALUE=DATE:20230508
DTEND;VALUE=DATE:20230509
DTSTAMP:20260422T160700
CREATED:20221219T201452Z
LAST-MODIFIED:20230312T223356Z
UID:10004587-1683504000-1683590399@scarfg.org
SUMMARY:LE 50-Rented-USCG
DESCRIPTION:
URL:https://scarfg.org/event/le-50rented-uscg/2023-05-08/
LOCATION:LE 50\, 21 Fish and Game Ln\, scarborough\, ME\, 04074\, United States
CATEGORIES:LE Rental Ranges
ORGANIZER;CN="PO1 Donovan Warner":MAILTO:Donovan.M.Warner@uscg.mil
END:VEVENT
BEGIN:VEVENT
DTSTART;VALUE=DATE:20230501
DTEND;VALUE=DATE:20230502
DTSTAMP:20260422T160700
CREATED:20221219T201452Z
LAST-MODIFIED:20230312T223356Z
UID:10004586-1682899200-1682985599@scarfg.org
SUMMARY:LE 50-Rented-USCG
DESCRIPTION:
URL:https://scarfg.org/event/le-50rented-uscg/2023-05-01/
LOCATION:LE 50\, 21 Fish and Game Ln\, scarborough\, ME\, 04074\, United States
CATEGORIES:LE Rental Ranges
ORGANIZER;CN="PO1 Donovan Warner":MAILTO:Donovan.M.Warner@uscg.mil
END:VEVENT
BEGIN:VEVENT
DTSTART;VALUE=DATE:20230428
DTEND;VALUE=DATE:20230429
DTSTAMP:20260422T160700
CREATED:20230227T164441Z
LAST-MODIFIED:20230227T164441Z
UID:10005235-1682640000-1682726399@scarfg.org
SUMMARY:LE 50 Rented-Saco PD
DESCRIPTION:
URL:https://scarfg.org/event/le-50-rented-saco-pd-5/
LOCATION:LE 50\, 21 Fish and Game Ln\, scarborough\, ME\, 04074\, United States
CATEGORIES:LE Rental Ranges
ORGANIZER;CN="Sgt. Scott Sicard":MAILTO:SSicard@sacomaine.org
END:VEVENT
BEGIN:VEVENT
DTSTART;VALUE=DATE:20230427
DTEND;VALUE=DATE:20230428
DTSTAMP:20260422T160700
CREATED:20230227T165923Z
LAST-MODIFIED:20230227T165923Z
UID:10005239-1682553600-1682639999@scarfg.org
SUMMARY:LE 50 Rented-USCG
DESCRIPTION:
URL:https://scarfg.org/event/le-50-rented-uscg-2/
LOCATION:LE 50\, 21 Fish and Game Ln\, scarborough\, ME\, 04074\, United States
CATEGORIES:LE Rental Ranges
ORGANIZER;CN="PO1 Donovan Warner":MAILTO:Donovan.M.Warner@uscg.mil
END:VEVENT
BEGIN:VEVENT
DTSTART;VALUE=DATE:20230426
DTEND;VALUE=DATE:20230427
DTSTAMP:20260422T160700
CREATED:20230216T164144Z
LAST-MODIFIED:20230216T164144Z
UID:10005229-1682467200-1682553599@scarfg.org
SUMMARY:LE 50 Rented-CCS)/Hovey
DESCRIPTION:
URL:https://scarfg.org/event/le-50-rented-ccs-hovey/
LOCATION:LE 50\, 21 Fish and Game Ln\, scarborough\, ME\, 04074\, United States
CATEGORIES:LE Rental Ranges
ORGANIZER;CN="Lt. Anthony Hovey":MAILTO:hovey@cumberlandcounty.org
END:VEVENT
BEGIN:VEVENT
DTSTART;VALUE=DATE:20230424
DTEND;VALUE=DATE:20230426
DTSTAMP:20260422T160700
CREATED:20230104T201328Z
LAST-MODIFIED:20230104T201329Z
UID:10005089-1682294400-1682467199@scarfg.org
SUMMARY:LE 50 Rented-Yarmouth PD
DESCRIPTION:
URL:https://scarfg.org/event/le-50-rented-yarmouth-pd-2/
LOCATION:LE 50\, 21 Fish and Game Ln\, scarborough\, ME\, 04074\, United States
CATEGORIES:LE Rental Ranges
ORGANIZER;CN="Joshua Robinson":MAILTO:Jrobinson@Yarmouth.me.us
END:VEVENT
BEGIN:VEVENT
DTSTART;VALUE=DATE:20230424
DTEND;VALUE=DATE:20230425
DTSTAMP:20260422T160700
CREATED:20221219T201452Z
LAST-MODIFIED:20230312T223356Z
UID:10004585-1682294400-1682380799@scarfg.org
SUMMARY:LE 50-Rented-USCG
DESCRIPTION:
URL:https://scarfg.org/event/le-50rented-uscg/2023-04-24/
LOCATION:LE 50\, 21 Fish and Game Ln\, scarborough\, ME\, 04074\, United States
CATEGORIES:LE Rental Ranges
ORGANIZER;CN="PO1 Donovan Warner":MAILTO:Donovan.M.Warner@uscg.mil
END:VEVENT
BEGIN:VEVENT
DTSTART;VALUE=DATE:20230421
DTEND;VALUE=DATE:20230422
DTSTAMP:20260422T160700
CREATED:20221013T143210Z
LAST-MODIFIED:20230406T141643Z
UID:10004882-1682035200-1682121599@scarfg.org
SUMMARY:LE 50 Rented-DEA
DESCRIPTION:
URL:https://scarfg.org/event/le-50-rented-dea-3-2023-04-07/
LOCATION:LE 50\, 21 Fish and Game Ln\, scarborough\, ME\, 04074\, United States
CATEGORIES:LE Rental Ranges
ORGANIZER;CN="Robert Prouty":MAILTO:Robert.P.Prouty@dea.gov
END:VEVENT
BEGIN:VEVENT
DTSTART;VALUE=DATE:20230417
DTEND;VALUE=DATE:20230421
DTSTAMP:20260422T160700
CREATED:20221013T141840Z
LAST-MODIFIED:20230324T172357Z
UID:10004880-1681689600-1682035199@scarfg.org
SUMMARY:LE 50 Rented-Saco PD-Lowlight
DESCRIPTION:
URL:https://scarfg.org/event/le-50-rented-saco-pd-3/
LOCATION:LE 50\, 21 Fish and Game Ln\, scarborough\, ME\, 04074\, United States
CATEGORIES:LE Rental Ranges
ORGANIZER;CN="Sgt. Scott Sicard":MAILTO:SSicard@sacomaine.org
END:VEVENT
BEGIN:VEVENT
DTSTART;VALUE=DATE:20230417
DTEND;VALUE=DATE:20230418
DTSTAMP:20260422T160700
CREATED:20221219T201452Z
LAST-MODIFIED:20230312T223356Z
UID:10004584-1681689600-1681775999@scarfg.org
SUMMARY:LE 50-Rented-USCG
DESCRIPTION:
URL:https://scarfg.org/event/le-50rented-uscg/2023-04-17/
LOCATION:LE 50\, 21 Fish and Game Ln\, scarborough\, ME\, 04074\, United States
CATEGORIES:LE Rental Ranges
ORGANIZER;CN="PO1 Donovan Warner":MAILTO:Donovan.M.Warner@uscg.mil
END:VEVENT
BEGIN:VEVENT
DTSTART;VALUE=DATE:20230415
DTEND;VALUE=DATE:20230416
DTSTAMP:20260422T160700
CREATED:20230327T163309Z
LAST-MODIFIED:20230327T163309Z
UID:10005272-1681516800-1681603199@scarfg.org
SUMMARY:LE 50 In Use-Training
DESCRIPTION:
URL:https://scarfg.org/event/le-50-in-use-training/
LOCATION:LE 50\, 21 Fish and Game Ln\, scarborough\, ME\, 04074\, United States
CATEGORIES:LE Rental Ranges
END:VEVENT
BEGIN:VEVENT
DTSTART;VALUE=DATE:20230410
DTEND;VALUE=DATE:20230415
DTSTAMP:20260422T160700
CREATED:20230406T142155Z
LAST-MODIFIED:20230406T142155Z
UID:10005276-1681084800-1681516799@scarfg.org
SUMMARY:LE 50 & LE Rifle (100) CLOSED FOR REPAIRS
DESCRIPTION:
URL:https://scarfg.org/event/le-50-le-rifle-100-closed-for-repairs/
LOCATION:LE 50\, 21 Fish and Game Ln\, scarborough\, ME\, 04074\, United States
CATEGORIES:LE Rental Ranges
END:VEVENT
BEGIN:VEVENT
DTSTART;VALUE=DATE:20230410
DTEND;VALUE=DATE:20230411
DTSTAMP:20260422T160700
CREATED:20221219T201452Z
LAST-MODIFIED:20230312T223356Z
UID:10004583-1681084800-1681171199@scarfg.org
SUMMARY:LE 50-Rented-USCG
DESCRIPTION:
URL:https://scarfg.org/event/le-50rented-uscg/2023-04-10/
LOCATION:LE 50\, 21 Fish and Game Ln\, scarborough\, ME\, 04074\, United States
CATEGORIES:LE Rental Ranges
ORGANIZER;CN="PO1 Donovan Warner":MAILTO:Donovan.M.Warner@uscg.mil
END:VEVENT
BEGIN:VEVENT
DTSTART;VALUE=DATE:20230403
DTEND;VALUE=DATE:20230406
DTSTAMP:20260422T160700
CREATED:20221219T201929Z
LAST-MODIFIED:20221219T201929Z
UID:10004645-1680480000-1680739199@scarfg.org
SUMMARY:LE 50 Rented-USCG
DESCRIPTION:
URL:https://scarfg.org/event/le-50-rented-uscg-24/
LOCATION:LE 50\, 21 Fish and Game Ln\, scarborough\, ME\, 04074\, United States
CATEGORIES:LE Rental Ranges
ORGANIZER;CN="PO1 Donovan Warner":MAILTO:Donovan.M.Warner@uscg.mil
END:VEVENT
BEGIN:VEVENT
DTSTART;VALUE=DATE:20230403
DTEND;VALUE=DATE:20230404
DTSTAMP:20260422T160700
CREATED:20221219T201452Z
LAST-MODIFIED:20230312T223356Z
UID:10004582-1680480000-1680566399@scarfg.org
SUMMARY:LE 50-Rented-USCG
DESCRIPTION:
URL:https://scarfg.org/event/le-50rented-uscg/2023-04-03/
LOCATION:LE 50\, 21 Fish and Game Ln\, scarborough\, ME\, 04074\, United States
CATEGORIES:LE Rental Ranges
ORGANIZER;CN="PO1 Donovan Warner":MAILTO:Donovan.M.Warner@uscg.mil
END:VEVENT
BEGIN:VEVENT
DTSTART;VALUE=DATE:20230331
DTEND;VALUE=DATE:20230401
DTSTAMP:20260422T160700
CREATED:20230302T200525Z
LAST-MODIFIED:20230302T200525Z
UID:10004752-1680220800-1680307199@scarfg.org
SUMMARY:LE 50 Rented-Windham PD
DESCRIPTION:
URL:https://scarfg.org/event/le-50-rented-windham-pd-2/
LOCATION:LE 50\, 21 Fish and Game Ln\, scarborough\, ME\, 04074\, United States
CATEGORIES:LE Rental Ranges
ORGANIZER;CN="Ray Williams":MAILTO:rswilliams@windhammaine.us
END:VEVENT
BEGIN:VEVENT
DTSTART;VALUE=DATE:20230329
DTEND;VALUE=DATE:20230330
DTSTAMP:20260422T160700
CREATED:20221219T201452Z
LAST-MODIFIED:20230314T162608Z
UID:10004639-1680048000-1680134399@scarfg.org
SUMMARY:LE 50-Rented-USCG
DESCRIPTION:
URL:https://scarfg.org/event/le-50rented-uscg-2023-03-15/
LOCATION:LE 50\, 21 Fish and Game Ln\, scarborough\, ME\, 04074\, United States
CATEGORIES:LE Rental Ranges
ORGANIZER;CN="PO1 Donovan Warner":MAILTO:Donovan.M.Warner@uscg.mil
END:VEVENT
BEGIN:VEVENT
DTSTART;TZID=America/New_York:20230328T090000
DTEND;TZID=America/New_York:20230328T120000
DTSTAMP:20260422T160700
CREATED:20230327T154608Z
LAST-MODIFIED:20230327T154608Z
UID:10005271-1679994000-1680004800@scarfg.org
SUMMARY:LE 50 in use-Scarborough PD
DESCRIPTION:
URL:https://scarfg.org/event/le-50-in-use-scarborough-pd-2/
LOCATION:LE 50\, 21 Fish and Game Ln\, scarborough\, ME\, 04074\, United States
CATEGORIES:LE Rental Ranges
ORGANIZER;CN="Craig Hebert":MAILTO:chebert@scarboroughmaine.org
END:VEVENT
BEGIN:VEVENT
DTSTART;VALUE=DATE:20230327
DTEND;VALUE=DATE:20230328
DTSTAMP:20260422T160700
CREATED:20221219T201452Z
LAST-MODIFIED:20230312T223356Z
UID:10004581-1679875200-1679961599@scarfg.org
SUMMARY:LE 50-Rented-USCG
DESCRIPTION:
URL:https://scarfg.org/event/le-50rented-uscg/2023-03-27/
LOCATION:LE 50\, 21 Fish and Game Ln\, scarborough\, ME\, 04074\, United States
CATEGORIES:LE Rental Ranges
ORGANIZER;CN="PO1 Donovan Warner":MAILTO:Donovan.M.Warner@uscg.mil
END:VEVENT
BEGIN:VEVENT
DTSTART;VALUE=DATE:20230320
DTEND;VALUE=DATE:20230323
DTSTAMP:20260422T160700
CREATED:20221219T201641Z
LAST-MODIFIED:20221219T201641Z
UID:10004641-1679270400-1679529599@scarfg.org
SUMMARY:LE 50 Rented-USCG
DESCRIPTION:
URL:https://scarfg.org/event/le-50-rented-uscg-23/
LOCATION:LE 50\, 21 Fish and Game Ln\, scarborough\, ME\, 04074\, United States
CATEGORIES:LE Rental Ranges
ORGANIZER;CN="PO1 Donovan Warner":MAILTO:Donovan.M.Warner@uscg.mil
END:VEVENT
BEGIN:VEVENT
DTSTART;VALUE=DATE:20230320
DTEND;VALUE=DATE:20230321
DTSTAMP:20260422T160700
CREATED:20221219T201452Z
LAST-MODIFIED:20230312T223356Z
UID:10004580-1679270400-1679356799@scarfg.org
SUMMARY:LE 50-Rented-USCG
DESCRIPTION:
URL:https://scarfg.org/event/le-50rented-uscg/2023-03-20/
LOCATION:LE 50\, 21 Fish and Game Ln\, scarborough\, ME\, 04074\, United States
CATEGORIES:LE Rental Ranges
ORGANIZER;CN="PO1 Donovan Warner":MAILTO:Donovan.M.Warner@uscg.mil
END:VEVENT
BEGIN:VEVENT
DTSTART;VALUE=DATE:20230317
DTEND;VALUE=DATE:20230318
DTSTAMP:20260422T160700
CREATED:20221013T143210Z
LAST-MODIFIED:20221013T143554Z
UID:10004881-1679011200-1679097599@scarfg.org
SUMMARY:LE 50 Rented-DEA
DESCRIPTION:
URL:https://scarfg.org/event/le-50-rented-dea-3/2023-03-17/
LOCATION:LE 50\, 21 Fish and Game Ln\, scarborough\, ME\, 04074\, United States
CATEGORIES:LE Rental Ranges
ORGANIZER;CN="Robert Prouty":MAILTO:Robert.P.Prouty@dea.gov
END:VEVENT
BEGIN:VEVENT
DTSTART;TZID=America/New_York:20230316T100000
DTEND;TZID=America/New_York:20230316T120000
DTSTAMP:20260422T160700
CREATED:20230309T182218Z
LAST-MODIFIED:20230309T182218Z
UID:10005255-1678960800-1678968000@scarfg.org
SUMMARY:LE 50 in Use - HR218 Qual
DESCRIPTION:
URL:https://scarfg.org/event/le-50-in-use-hr218-qual/
LOCATION:LE 50\, 21 Fish and Game Ln\, scarborough\, ME\, 04074\, United States
CATEGORIES:LE Rental Ranges
END:VEVENT
BEGIN:VEVENT
DTSTART;VALUE=DATE:20230316
DTEND;VALUE=DATE:20230318
DTSTAMP:20260422T160700
CREATED:20230303T193746Z
LAST-MODIFIED:20230303T193746Z
UID:10005253-1678924800-1679097599@scarfg.org
SUMMARY:LE Rifle Range Rented-DHS/ERO
DESCRIPTION:
URL:https://scarfg.org/event/le-rifle-range-rented-dhs-ero/
LOCATION:LE 50\, 21 Fish and Game Ln\, scarborough\, ME\, 04074\, United States
CATEGORIES:LE Rental Ranges
ORGANIZER;CN="Chris Semler":MAILTO:CHRISTOPHER.SEMLER@ice.dhs.gov
END:VEVENT
BEGIN:VEVENT
DTSTART;VALUE=DATE:20230313
DTEND;VALUE=DATE:20230314
DTSTAMP:20260422T160700
CREATED:20221219T201452Z
LAST-MODIFIED:20230312T223356Z
UID:10004579-1678665600-1678751999@scarfg.org
SUMMARY:LE 50-Rented-USCG
DESCRIPTION:
URL:https://scarfg.org/event/le-50rented-uscg/2023-03-13/
LOCATION:LE 50\, 21 Fish and Game Ln\, scarborough\, ME\, 04074\, United States
CATEGORIES:LE Rental Ranges
ORGANIZER;CN="PO1 Donovan Warner":MAILTO:Donovan.M.Warner@uscg.mil
END:VEVENT
BEGIN:VEVENT
DTSTART;VALUE=DATE:20230306
DTEND;VALUE=DATE:20230309
DTSTAMP:20260422T160700
CREATED:20221219T201340Z
LAST-MODIFIED:20221219T201340Z
UID:10004577-1678060800-1678319999@scarfg.org
SUMMARY:LE 50 Rented-USCG
DESCRIPTION:
URL:https://scarfg.org/event/le-50-rented-uscg-22/
LOCATION:LE 50\, 21 Fish and Game Ln\, scarborough\, ME\, 04074\, United States
CATEGORIES:LE Rental Ranges
ORGANIZER;CN="PO1 Donovan Warner":MAILTO:Donovan.M.Warner@uscg.mil
END:VEVENT
END:VCALENDAR