BEGIN:VCALENDAR
VERSION:2.0
PRODID:-//Scarborough Fish &amp; Game Association - ECPv6.15.20//NONSGML v1.0//EN
CALSCALE:GREGORIAN
METHOD:PUBLISH
X-WR-CALNAME:Scarborough Fish &amp; Game Association
X-ORIGINAL-URL:https://scarfg.org
X-WR-CALDESC:Events for Scarborough Fish &amp; Game Association
REFRESH-INTERVAL;VALUE=DURATION:PT1H
X-Robots-Tag:noindex
X-PUBLISHED-TTL:PT1H
BEGIN:VTIMEZONE
TZID:America/New_York
BEGIN:DAYLIGHT
TZOFFSETFROM:-0500
TZOFFSETTO:-0400
TZNAME:EDT
DTSTART:20220313T070000
END:DAYLIGHT
BEGIN:STANDARD
TZOFFSETFROM:-0400
TZOFFSETTO:-0500
TZNAME:EST
DTSTART:20221106T060000
END:STANDARD
BEGIN:DAYLIGHT
TZOFFSETFROM:-0500
TZOFFSETTO:-0400
TZNAME:EDT
DTSTART:20230312T070000
END:DAYLIGHT
BEGIN:STANDARD
TZOFFSETFROM:-0400
TZOFFSETTO:-0500
TZNAME:EST
DTSTART:20231105T060000
END:STANDARD
BEGIN:DAYLIGHT
TZOFFSETFROM:-0500
TZOFFSETTO:-0400
TZNAME:EDT
DTSTART:20240310T070000
END:DAYLIGHT
BEGIN:STANDARD
TZOFFSETFROM:-0400
TZOFFSETTO:-0500
TZNAME:EST
DTSTART:20241103T060000
END:STANDARD
END:VTIMEZONE
BEGIN:VEVENT
DTSTART;VALUE=DATE:20230821
DTEND;VALUE=DATE:20230822
DTSTAMP:20260422T144829
CREATED:20221219T201452Z
LAST-MODIFIED:20230312T223356Z
UID:10004602-1692576000-1692662399@scarfg.org
SUMMARY:LE 50-Rented-USCG
DESCRIPTION:
URL:https://scarfg.org/event/le-50rented-uscg/2023-08-21/
LOCATION:LE 50\, 21 Fish and Game Ln\, scarborough\, ME\, 04074\, United States
CATEGORIES:LE Rental Ranges
ORGANIZER;CN="PO1 Donovan Warner":MAILTO:Donovan.M.Warner@uscg.mil
END:VEVENT
BEGIN:VEVENT
DTSTART;VALUE=DATE:20230814
DTEND;VALUE=DATE:20230815
DTSTAMP:20260422T144829
CREATED:20230727T223317Z
LAST-MODIFIED:20230727T223317Z
UID:10004828-1691971200-1692057599@scarfg.org
SUMMARY:LE 50-Scarboro PD
DESCRIPTION:
URL:https://scarfg.org/event/le-50-scarboro-pd/
LOCATION:LE 50\, 21 Fish and Game Ln\, scarborough\, ME\, 04074\, United States
CATEGORIES:LE Rental Ranges
ORGANIZER;CN="Craig Hebert":MAILTO:chebert@scarboroughmaine.org
END:VEVENT
BEGIN:VEVENT
DTSTART;VALUE=DATE:20230814
DTEND;VALUE=DATE:20230815
DTSTAMP:20260422T144829
CREATED:20221219T201452Z
LAST-MODIFIED:20230312T223356Z
UID:10004601-1691971200-1692057599@scarfg.org
SUMMARY:LE 50-Rented-USCG
DESCRIPTION:
URL:https://scarfg.org/event/le-50rented-uscg/2023-08-14/
LOCATION:LE 50\, 21 Fish and Game Ln\, scarborough\, ME\, 04074\, United States
CATEGORIES:LE Rental Ranges
ORGANIZER;CN="PO1 Donovan Warner":MAILTO:Donovan.M.Warner@uscg.mil
END:VEVENT
BEGIN:VEVENT
DTSTART;VALUE=DATE:20230810
DTEND;VALUE=DATE:20230811
DTSTAMP:20260422T144829
CREATED:20230730T155357Z
LAST-MODIFIED:20230730T155357Z
UID:10004830-1691625600-1691711999@scarfg.org
SUMMARY:LE 50 Rented-USCG
DESCRIPTION:
URL:https://scarfg.org/event/le-50-rented-uscg-27/
LOCATION:LE 50\, 21 Fish and Game Ln\, scarborough\, ME\, 04074\, United States
CATEGORIES:LE Rental Ranges
ORGANIZER;CN="Matt Saunders GM2":MAILTO:Matthew.J.Saunders@uscg.mil
END:VEVENT
BEGIN:VEVENT
DTSTART;VALUE=DATE:20230809
DTEND;VALUE=DATE:20230810
DTSTAMP:20260422T144829
CREATED:20230808T142008Z
LAST-MODIFIED:20230808T142008Z
UID:10005345-1691539200-1691625599@scarfg.org
SUMMARY:LE 50 Rented-C&BP
DESCRIPTION:
URL:https://scarfg.org/event/le-50-rented-cbp/
LOCATION:LE 50\, 21 Fish and Game Ln\, scarborough\, ME\, 04074\, United States
CATEGORIES:LE Rental Ranges
ORGANIZER;CN="COTE%2C ISAAC D <ISAAC.D.COTE@cbp.dhs.gov>":MAILTO:ISAAC.D.COTE@cbp.dhs.gov
END:VEVENT
BEGIN:VEVENT
DTSTART;VALUE=DATE:20230807
DTEND;VALUE=DATE:20230808
DTSTAMP:20260422T144829
CREATED:20221219T201452Z
LAST-MODIFIED:20230312T223356Z
UID:10004600-1691366400-1691452799@scarfg.org
SUMMARY:LE 50-Rented-USCG
DESCRIPTION:
URL:https://scarfg.org/event/le-50rented-uscg/2023-08-07/
LOCATION:LE 50\, 21 Fish and Game Ln\, scarborough\, ME\, 04074\, United States
CATEGORIES:LE Rental Ranges
ORGANIZER;CN="PO1 Donovan Warner":MAILTO:Donovan.M.Warner@uscg.mil
END:VEVENT
BEGIN:VEVENT
DTSTART;VALUE=DATE:20230807
DTEND;VALUE=DATE:20230808
DTSTAMP:20260422T144829
CREATED:20221117T214755Z
LAST-MODIFIED:20230808T141842Z
UID:10004912-1691366400-1691452799@scarfg.org
SUMMARY:LE 50 Rented-C&BP
DESCRIPTION:
URL:https://scarfg.org/event/le-50-rented-cbp-5/
LOCATION:LE 50\, 21 Fish and Game Ln\, scarborough\, ME\, 04074\, United States
CATEGORIES:LE Rental Ranges
ORGANIZER;CN="Michael Morneault":MAILTO:MICHAEL.MORNEAULT@CBP.DHS.GOV
END:VEVENT
BEGIN:VEVENT
DTSTART;VALUE=DATE:20230804
DTEND;VALUE=DATE:20230805
DTSTAMP:20260422T144829
CREATED:20221006T181253Z
LAST-MODIFIED:20230728T003023Z
UID:10004861-1691107200-1691193599@scarfg.org
SUMMARY:LE 50 Rented - HHS/OIG
DESCRIPTION:
URL:https://scarfg.org/event/le-50-rented-hhs-oig-3-2023-11-03/2023-08-04/
LOCATION:LE 50\, 21 Fish and Game Ln\, scarborough\, ME\, 04074\, United States
CATEGORIES:LE Rental Ranges
ORGANIZER;CN="Brian Pellerin":MAILTO:brian.pellerin@oig.hhs.gov
END:VEVENT
BEGIN:VEVENT
DTSTART;VALUE=DATE:20230803
DTEND;VALUE=DATE:20230804
DTSTAMP:20260422T144829
CREATED:20230731T183155Z
LAST-MODIFIED:20230731T183155Z
UID:10004837-1691020800-1691107199@scarfg.org
SUMMARY:LE 50 Rented-SPPD
DESCRIPTION:
URL:https://scarfg.org/event/le-50-rented-sppd-2/
LOCATION:LE 50\, 21 Fish and Game Ln\, scarborough\, ME\, 04074\, United States
CATEGORIES:LE Rental Ranges
END:VEVENT
BEGIN:VEVENT
DTSTART;VALUE=DATE:20230731
DTEND;VALUE=DATE:20230801
DTSTAMP:20260422T144829
CREATED:20221219T201452Z
LAST-MODIFIED:20230312T223356Z
UID:10004599-1690761600-1690847999@scarfg.org
SUMMARY:LE 50-Rented-USCG
DESCRIPTION:
URL:https://scarfg.org/event/le-50rented-uscg/2023-07-31/
LOCATION:LE 50\, 21 Fish and Game Ln\, scarborough\, ME\, 04074\, United States
CATEGORIES:LE Rental Ranges
ORGANIZER;CN="PO1 Donovan Warner":MAILTO:Donovan.M.Warner@uscg.mil
END:VEVENT
BEGIN:VEVENT
DTSTART;VALUE=DATE:20230725
DTEND;VALUE=DATE:20230726
DTSTAMP:20260422T144829
CREATED:20230718T172130Z
LAST-MODIFIED:20230718T172130Z
UID:10005329-1690243200-1690329599@scarfg.org
SUMMARY:LE Rifle Rented - SPPD
DESCRIPTION:
URL:https://scarfg.org/event/le-rifle-rented-sppd-3/
LOCATION:LE 50\, 21 Fish and Game Ln\, scarborough\, ME\, 04074\, United States
CATEGORIES:LE Rental Ranges
END:VEVENT
BEGIN:VEVENT
DTSTART;VALUE=DATE:20230724
DTEND;VALUE=DATE:20230725
DTSTAMP:20260422T144829
CREATED:20221219T201452Z
LAST-MODIFIED:20230312T223356Z
UID:10004598-1690156800-1690243199@scarfg.org
SUMMARY:LE 50-Rented-USCG
DESCRIPTION:
URL:https://scarfg.org/event/le-50rented-uscg/2023-07-24/
LOCATION:LE 50\, 21 Fish and Game Ln\, scarborough\, ME\, 04074\, United States
CATEGORIES:LE Rental Ranges
ORGANIZER;CN="PO1 Donovan Warner":MAILTO:Donovan.M.Warner@uscg.mil
END:VEVENT
BEGIN:VEVENT
DTSTART;VALUE=DATE:20230720
DTEND;VALUE=DATE:20230721
DTSTAMP:20260422T144829
CREATED:20221007T015942Z
LAST-MODIFIED:20230508T162342Z
UID:10004865-1689811200-1689897599@scarfg.org
SUMMARY:LE 50 range Rented-DHS/INV
DESCRIPTION:
URL:https://scarfg.org/event/le-50-range-rented-dhs-inv-2023-07-20/2023-07-20/
LOCATION:LE 50\, 21 Fish and Game Ln\, scarborough\, ME\, 04074\, United States
CATEGORIES:LE Rental Ranges
END:VEVENT
BEGIN:VEVENT
DTSTART;TZID=America/New_York:20230717T090000
DTEND;TZID=America/New_York:20230717T120000
DTSTAMP:20260422T144829
CREATED:20230713T143547Z
LAST-MODIFIED:20230713T143547Z
UID:10005321-1689584400-1689595200@scarfg.org
SUMMARY:LE 50 in Use-HR218
DESCRIPTION:
URL:https://scarfg.org/event/le-50-in-use-hr218-2/
LOCATION:LE 50\, 21 Fish and Game Ln\, scarborough\, ME\, 04074\, United States
CATEGORIES:LE Rental Ranges
END:VEVENT
BEGIN:VEVENT
DTSTART;VALUE=DATE:20230717
DTEND;VALUE=DATE:20230718
DTSTAMP:20260422T144829
CREATED:20221219T201452Z
LAST-MODIFIED:20230312T223356Z
UID:10004597-1689552000-1689638399@scarfg.org
SUMMARY:LE 50-Rented-USCG
DESCRIPTION:
URL:https://scarfg.org/event/le-50rented-uscg/2023-07-17/
LOCATION:LE 50\, 21 Fish and Game Ln\, scarborough\, ME\, 04074\, United States
CATEGORIES:LE Rental Ranges
ORGANIZER;CN="PO1 Donovan Warner":MAILTO:Donovan.M.Warner@uscg.mil
END:VEVENT
BEGIN:VEVENT
DTSTART;VALUE=DATE:20230711
DTEND;VALUE=DATE:20230712
DTSTAMP:20260422T144829
CREATED:20230626T184717Z
LAST-MODIFIED:20230626T184717Z
UID:10005316-1689033600-1689119999@scarfg.org
SUMMARY:LE 50 Rented-CCSO-Hovey
DESCRIPTION:
URL:https://scarfg.org/event/le-50-rented-ccso-hovey-6/
LOCATION:LE 50\, 21 Fish and Game Ln\, scarborough\, ME\, 04074\, United States
CATEGORIES:LE Rental Ranges
ORGANIZER;CN="Lt. Anthony Hovey":MAILTO:hovey@cumberlandcounty.org
END:VEVENT
BEGIN:VEVENT
DTSTART;VALUE=DATE:20230710
DTEND;VALUE=DATE:20230711
DTSTAMP:20260422T144829
CREATED:20221219T201452Z
LAST-MODIFIED:20230312T223356Z
UID:10004596-1688947200-1689033599@scarfg.org
SUMMARY:LE 50-Rented-USCG
DESCRIPTION:
URL:https://scarfg.org/event/le-50rented-uscg/2023-07-10/
LOCATION:LE 50\, 21 Fish and Game Ln\, scarborough\, ME\, 04074\, United States
CATEGORIES:LE Rental Ranges
ORGANIZER;CN="PO1 Donovan Warner":MAILTO:Donovan.M.Warner@uscg.mil
END:VEVENT
BEGIN:VEVENT
DTSTART;VALUE=DATE:20230708
DTEND;VALUE=DATE:20230709
DTSTAMP:20260422T144829
CREATED:20230615T004141Z
LAST-MODIFIED:20230615T004141Z
UID:10004810-1688774400-1688860799@scarfg.org
SUMMARY:LE 50 Rented-USCG
DESCRIPTION:
URL:https://scarfg.org/event/le-50-rented-uscg-10/2023-07-08/
LOCATION:LE 50\, 21 Fish and Game Ln\, scarborough\, ME\, 04074\, United States
CATEGORIES:LE Rental Ranges
ORGANIZER;CN="PO1 Donovan Warner":MAILTO:Donovan.M.Warner@uscg.mil
END:VEVENT
BEGIN:VEVENT
DTSTART;VALUE=DATE:20230703
DTEND;VALUE=DATE:20230704
DTSTAMP:20260422T144829
CREATED:20221219T201452Z
LAST-MODIFIED:20230312T223356Z
UID:10004595-1688342400-1688428799@scarfg.org
SUMMARY:LE 50-Rented-USCG
DESCRIPTION:
URL:https://scarfg.org/event/le-50rented-uscg/2023-07-03/
LOCATION:LE 50\, 21 Fish and Game Ln\, scarborough\, ME\, 04074\, United States
CATEGORIES:LE Rental Ranges
ORGANIZER;CN="PO1 Donovan Warner":MAILTO:Donovan.M.Warner@uscg.mil
END:VEVENT
BEGIN:VEVENT
DTSTART;VALUE=DATE:20230629
DTEND;VALUE=DATE:20230701
DTSTAMP:20260422T144829
CREATED:20230216T210941Z
LAST-MODIFIED:20230216T210941Z
UID:10005230-1687996800-1688169599@scarfg.org
SUMMARY:LE 50 Rented-DHS/INV
DESCRIPTION:
URL:https://scarfg.org/event/le-50-rented-dhs-inv-3/
LOCATION:LE 50\, 21 Fish and Game Ln\, scarborough\, ME\, 04074\, United States
CATEGORIES:LE Rental Ranges
END:VEVENT
BEGIN:VEVENT
DTSTART;VALUE=DATE:20230628
DTEND;VALUE=DATE:20230629
DTSTAMP:20260422T144829
CREATED:20230615T004141Z
LAST-MODIFIED:20230615T004141Z
UID:10004809-1687910400-1687996799@scarfg.org
SUMMARY:LE 50 Rented-USCG
DESCRIPTION:
URL:https://scarfg.org/event/le-50-rented-uscg-10/2023-06-28/
LOCATION:LE 50\, 21 Fish and Game Ln\, scarborough\, ME\, 04074\, United States
CATEGORIES:LE Rental Ranges
ORGANIZER;CN="PO1 Donovan Warner":MAILTO:Donovan.M.Warner@uscg.mil
END:VEVENT
BEGIN:VEVENT
DTSTART;VALUE=DATE:20230626
DTEND;VALUE=DATE:20230627
DTSTAMP:20260422T144829
CREATED:20221219T201452Z
LAST-MODIFIED:20230312T223356Z
UID:10004594-1687737600-1687823999@scarfg.org
SUMMARY:LE 50-Rented-USCG
DESCRIPTION:
URL:https://scarfg.org/event/le-50rented-uscg/2023-06-26/
LOCATION:LE 50\, 21 Fish and Game Ln\, scarborough\, ME\, 04074\, United States
CATEGORIES:LE Rental Ranges
ORGANIZER;CN="PO1 Donovan Warner":MAILTO:Donovan.M.Warner@uscg.mil
END:VEVENT
BEGIN:VEVENT
DTSTART;VALUE=DATE:20230621
DTEND;VALUE=DATE:20230622
DTSTAMP:20260422T144829
CREATED:20221117T214547Z
LAST-MODIFIED:20221117T214547Z
UID:10004910-1687305600-1687391999@scarfg.org
SUMMARY:LE 50 Rented-C&BP
DESCRIPTION:
URL:https://scarfg.org/event/le-50-rented-cbp-4/
LOCATION:LE 50\, 21 Fish and Game Ln\, scarborough\, ME\, 04074\, United States
CATEGORIES:LE Rental Ranges
ORGANIZER;CN="Michael Morneault":MAILTO:MICHAEL.MORNEAULT@CBP.DHS.GOV
END:VEVENT
BEGIN:VEVENT
DTSTART;VALUE=DATE:20230620
DTEND;VALUE=DATE:20230621
DTSTAMP:20260422T144829
CREATED:20230414T000425Z
LAST-MODIFIED:20230414T000425Z
UID:10004767-1687219200-1687305599@scarfg.org
SUMMARY:LE 50 Rented-MSP HR218
DESCRIPTION:
URL:https://scarfg.org/event/le-50-rented-msp-hr218/
LOCATION:LE 50\, 21 Fish and Game Ln\, scarborough\, ME\, 04074\, United States
CATEGORIES:LE Rental Ranges
ORGANIZER;CN="Sgt. Jon Leach":MAILTO:LeacJonathan.L.Leach@Maine.Gov
END:VEVENT
BEGIN:VEVENT
DTSTART;VALUE=DATE:20230619
DTEND;VALUE=DATE:20230620
DTSTAMP:20260422T144829
CREATED:20221219T201452Z
LAST-MODIFIED:20230312T223356Z
UID:10004593-1687132800-1687219199@scarfg.org
SUMMARY:LE 50-Rented-USCG
DESCRIPTION:
URL:https://scarfg.org/event/le-50rented-uscg/2023-06-19/
LOCATION:LE 50\, 21 Fish and Game Ln\, scarborough\, ME\, 04074\, United States
CATEGORIES:LE Rental Ranges
ORGANIZER;CN="PO1 Donovan Warner":MAILTO:Donovan.M.Warner@uscg.mil
END:VEVENT
BEGIN:VEVENT
DTSTART;VALUE=DATE:20230615
DTEND;VALUE=DATE:20230617
DTSTAMP:20260422T144829
CREATED:20221117T214225Z
LAST-MODIFIED:20221117T215554Z
UID:10004909-1686787200-1686959999@scarfg.org
SUMMARY:LE 50 Rented-C&BP
DESCRIPTION:
URL:https://scarfg.org/event/le-50-rented-cbp-3/2023-06-15/
LOCATION:LE 50\, 21 Fish and Game Ln\, scarborough\, ME\, 04074\, United States
CATEGORIES:LE Rental Ranges
ORGANIZER;CN="Michael Morneault":MAILTO:MICHAEL.MORNEAULT@CBP.DHS.GOV
END:VEVENT
BEGIN:VEVENT
DTSTART;VALUE=DATE:20230612
DTEND;VALUE=DATE:20230613
DTSTAMP:20260422T144829
CREATED:20221219T201452Z
LAST-MODIFIED:20230312T223356Z
UID:10004592-1686528000-1686614399@scarfg.org
SUMMARY:LE 50-Rented-USCG
DESCRIPTION:
URL:https://scarfg.org/event/le-50rented-uscg/2023-06-12/
LOCATION:LE 50\, 21 Fish and Game Ln\, scarborough\, ME\, 04074\, United States
CATEGORIES:LE Rental Ranges
ORGANIZER;CN="PO1 Donovan Warner":MAILTO:Donovan.M.Warner@uscg.mil
END:VEVENT
BEGIN:VEVENT
DTSTART;VALUE=DATE:20230609
DTEND;VALUE=DATE:20230610
DTSTAMP:20260422T144829
CREATED:20220630T145741Z
LAST-MODIFIED:20220630T145741Z
UID:10004802-1686268800-1686355199@scarfg.org
SUMMARY:LE 50 Rented-Waldens Court Security
DESCRIPTION:
URL:https://scarfg.org/event/le-50-rented-waldens-court-security-2/
LOCATION:LE 50\, 21 Fish and Game Ln\, scarborough\, ME\, 04074\, United States
CATEGORIES:LE Rental Ranges
ORGANIZER;CN="Alex Patnode":MAILTO:alexander.patnode@ops.waldensecurity.com
END:VEVENT
BEGIN:VEVENT
DTSTART;VALUE=DATE:20230605
DTEND;VALUE=DATE:20230607
DTSTAMP:20260422T144829
CREATED:20221117T214225Z
LAST-MODIFIED:20221117T215554Z
UID:10004908-1685923200-1686095999@scarfg.org
SUMMARY:LE 50 Rented-C&BP
DESCRIPTION:
URL:https://scarfg.org/event/le-50-rented-cbp-3/2023-06-05/
LOCATION:LE 50\, 21 Fish and Game Ln\, scarborough\, ME\, 04074\, United States
CATEGORIES:LE Rental Ranges
ORGANIZER;CN="Michael Morneault":MAILTO:MICHAEL.MORNEAULT@CBP.DHS.GOV
END:VEVENT
BEGIN:VEVENT
DTSTART;VALUE=DATE:20230605
DTEND;VALUE=DATE:20230606
DTSTAMP:20260422T144829
CREATED:20221219T201452Z
LAST-MODIFIED:20230312T223356Z
UID:10004591-1685923200-1686009599@scarfg.org
SUMMARY:LE 50-Rented-USCG
DESCRIPTION:
URL:https://scarfg.org/event/le-50rented-uscg/2023-06-05/
LOCATION:LE 50\, 21 Fish and Game Ln\, scarborough\, ME\, 04074\, United States
CATEGORIES:LE Rental Ranges
ORGANIZER;CN="PO1 Donovan Warner":MAILTO:Donovan.M.Warner@uscg.mil
END:VEVENT
END:VCALENDAR