BEGIN:VCALENDAR
VERSION:2.0
PRODID:-//Scarborough Fish &amp; Game Association - ECPv6.15.20//NONSGML v1.0//EN
CALSCALE:GREGORIAN
METHOD:PUBLISH
X-WR-CALNAME:Scarborough Fish &amp; Game Association
X-ORIGINAL-URL:https://scarfg.org
X-WR-CALDESC:Events for Scarborough Fish &amp; Game Association
REFRESH-INTERVAL;VALUE=DURATION:PT1H
X-Robots-Tag:noindex
X-PUBLISHED-TTL:PT1H
BEGIN:VTIMEZONE
TZID:America/New_York
BEGIN:DAYLIGHT
TZOFFSETFROM:-0500
TZOFFSETTO:-0400
TZNAME:EDT
DTSTART:20230312T070000
END:DAYLIGHT
BEGIN:STANDARD
TZOFFSETFROM:-0400
TZOFFSETTO:-0500
TZNAME:EST
DTSTART:20231105T060000
END:STANDARD
BEGIN:DAYLIGHT
TZOFFSETFROM:-0500
TZOFFSETTO:-0400
TZNAME:EDT
DTSTART:20240310T070000
END:DAYLIGHT
BEGIN:STANDARD
TZOFFSETFROM:-0400
TZOFFSETTO:-0500
TZNAME:EST
DTSTART:20241103T060000
END:STANDARD
BEGIN:DAYLIGHT
TZOFFSETFROM:-0500
TZOFFSETTO:-0400
TZNAME:EDT
DTSTART:20250309T070000
END:DAYLIGHT
BEGIN:STANDARD
TZOFFSETFROM:-0400
TZOFFSETTO:-0500
TZNAME:EST
DTSTART:20251102T060000
END:STANDARD
END:VTIMEZONE
BEGIN:VEVENT
DTSTART;VALUE=DATE:20240408
DTEND;VALUE=DATE:20240409
DTSTAMP:20260422T115654
CREATED:20221219T201452Z
LAST-MODIFIED:20230312T223356Z
UID:10004635-1712534400-1712620799@scarfg.org
SUMMARY:LE 50-Rented-USCG
DESCRIPTION:
URL:https://scarfg.org/event/le-50rented-uscg/2024-04-08/
LOCATION:LE 50\, 21 Fish and Game Ln\, scarborough\, ME\, 04074\, United States
CATEGORIES:LE Rental Ranges
ORGANIZER;CN="PO1 Donovan Warner":MAILTO:Donovan.M.Warner@uscg.mil
END:VEVENT
BEGIN:VEVENT
DTSTART;VALUE=DATE:20240405
DTEND;VALUE=DATE:20240406
DTSTAMP:20260422T115654
CREATED:20240302T232033Z
LAST-MODIFIED:20240401T143334Z
UID:10005143-1712275200-1712361599@scarfg.org
SUMMARY:LE 50 Rented-MDOC
DESCRIPTION:
URL:https://scarfg.org/event/le-50-rented-mdoc-3/
LOCATION:LE 50\, 21 Fish and Game Ln\, scarborough\, ME\, 04074\, United States
CATEGORIES:LE Rental Ranges
ORGANIZER;CN="Harvey Bailey":MAILTO:harvey.bailey@maine.gov
END:VEVENT
BEGIN:VEVENT
DTSTART;VALUE=DATE:20240401
DTEND;VALUE=DATE:20240403
DTSTAMP:20260422T115654
CREATED:20240315T145854Z
LAST-MODIFIED:20240315T145854Z
UID:10005650-1711929600-1712102399@scarfg.org
SUMMARY:LE 50 Rented-USCG
DESCRIPTION:
URL:https://scarfg.org/event/le-50-rented-uscg-34/
LOCATION:LE 50\, 21 Fish and Game Ln\, scarborough\, ME\, 04074\, United States
CATEGORIES:LE Rental Ranges
ORGANIZER;CN="Matt Saunders GM2":MAILTO:Matthew.J.Saunders@uscg.mil
END:VEVENT
BEGIN:VEVENT
DTSTART;VALUE=DATE:20240401
DTEND;VALUE=DATE:20240402
DTSTAMP:20260422T115654
CREATED:20221219T201452Z
LAST-MODIFIED:20230312T223356Z
UID:10004634-1711929600-1712015999@scarfg.org
SUMMARY:LE 50-Rented-USCG
DESCRIPTION:
URL:https://scarfg.org/event/le-50rented-uscg/2024-04-01/
LOCATION:LE 50\, 21 Fish and Game Ln\, scarborough\, ME\, 04074\, United States
CATEGORIES:LE Rental Ranges
ORGANIZER;CN="PO1 Donovan Warner":MAILTO:Donovan.M.Warner@uscg.mil
END:VEVENT
BEGIN:VEVENT
DTSTART;VALUE=DATE:20240325
DTEND;VALUE=DATE:20240327
DTSTAMP:20260422T115654
CREATED:20231207T165849Z
LAST-MODIFIED:20231207T165849Z
UID:10005466-1711324800-1711497599@scarfg.org
SUMMARY:LE 50 Rented-USCG
DESCRIPTION:
URL:https://scarfg.org/event/le-50-rented-uscg-30/
LOCATION:LE 50\, 21 Fish and Game Ln\, scarborough\, ME\, 04074\, United States
CATEGORIES:LE Rental Ranges
ORGANIZER;CN="Matt Saunders GM2":MAILTO:Matthew.J.Saunders@uscg.mil
END:VEVENT
BEGIN:VEVENT
DTSTART;VALUE=DATE:20240325
DTEND;VALUE=DATE:20240326
DTSTAMP:20260422T115654
CREATED:20221219T201452Z
LAST-MODIFIED:20230312T223356Z
UID:10004633-1711324800-1711411199@scarfg.org
SUMMARY:LE 50-Rented-USCG
DESCRIPTION:
URL:https://scarfg.org/event/le-50rented-uscg/2024-03-25/
LOCATION:LE 50\, 21 Fish and Game Ln\, scarborough\, ME\, 04074\, United States
CATEGORIES:LE Rental Ranges
ORGANIZER;CN="PO1 Donovan Warner":MAILTO:Donovan.M.Warner@uscg.mil
END:VEVENT
BEGIN:VEVENT
DTSTART;VALUE=DATE:20240318
DTEND;VALUE=DATE:20240319
DTSTAMP:20260422T115654
CREATED:20221219T201452Z
LAST-MODIFIED:20230312T223356Z
UID:10004632-1710720000-1710806399@scarfg.org
SUMMARY:LE 50-Rented-USCG
DESCRIPTION:
URL:https://scarfg.org/event/le-50rented-uscg/2024-03-18/
LOCATION:LE 50\, 21 Fish and Game Ln\, scarborough\, ME\, 04074\, United States
CATEGORIES:LE Rental Ranges
ORGANIZER;CN="PO1 Donovan Warner":MAILTO:Donovan.M.Warner@uscg.mil
END:VEVENT
BEGIN:VEVENT
DTSTART;VALUE=DATE:20240311
DTEND;VALUE=DATE:20240312
DTSTAMP:20260422T115654
CREATED:20221219T201452Z
LAST-MODIFIED:20230312T223356Z
UID:10004631-1710115200-1710201599@scarfg.org
SUMMARY:LE 50-Rented-USCG
DESCRIPTION:
URL:https://scarfg.org/event/le-50rented-uscg/2024-03-11/
LOCATION:LE 50\, 21 Fish and Game Ln\, scarborough\, ME\, 04074\, United States
CATEGORIES:LE Rental Ranges
ORGANIZER;CN="PO1 Donovan Warner":MAILTO:Donovan.M.Warner@uscg.mil
END:VEVENT
BEGIN:VEVENT
DTSTART;VALUE=DATE:20240310
DTEND;VALUE=DATE:20240311
DTSTAMP:20260422T115654
CREATED:20240302T231848Z
LAST-MODIFIED:20240302T231848Z
UID:10005142-1710028800-1710115199@scarfg.org
SUMMARY:LE 50 Rented-SPPD
DESCRIPTION:
URL:https://scarfg.org/event/le-50-rented-sppd-7/
LOCATION:LE 50\, 21 Fish and Game Ln\, scarborough\, ME\, 04074\, United States
CATEGORIES:LE Rental Ranges
END:VEVENT
BEGIN:VEVENT
DTSTART;VALUE=DATE:20240308
DTEND;VALUE=DATE:20240309
DTSTAMP:20260422T115654
CREATED:20231202T141018Z
LAST-MODIFIED:20240202T154351Z
UID:10005457-1709856000-1709942399@scarfg.org
SUMMARY:LE 50 Rented - DEA
DESCRIPTION:
URL:https://scarfg.org/event/le-50-rented-dea-4/
LOCATION:LE 50\, 21 Fish and Game Ln\, scarborough\, ME\, 04074\, United States
CATEGORIES:LE Rental Ranges
ORGANIZER;CN="Robert Prouty":MAILTO:Robert.P.Prouty@dea.gov
END:VEVENT
BEGIN:VEVENT
DTSTART;VALUE=DATE:20240304
DTEND;VALUE=DATE:20240307
DTSTAMP:20260422T115654
CREATED:20231207T165729Z
LAST-MODIFIED:20231207T165729Z
UID:10005465-1709510400-1709769599@scarfg.org
SUMMARY:LE 50 Rented-USCG
DESCRIPTION:
URL:https://scarfg.org/event/le-50-rented-uscg-29/
LOCATION:LE 50\, 21 Fish and Game Ln\, scarborough\, ME\, 04074\, United States
CATEGORIES:LE Rental Ranges
ORGANIZER;CN="Matt Saunders GM2":MAILTO:Matthew.J.Saunders@uscg.mil
END:VEVENT
BEGIN:VEVENT
DTSTART;VALUE=DATE:20240304
DTEND;VALUE=DATE:20240305
DTSTAMP:20260422T115654
CREATED:20221219T201452Z
LAST-MODIFIED:20230312T223356Z
UID:10004630-1709510400-1709596799@scarfg.org
SUMMARY:LE 50-Rented-USCG
DESCRIPTION:
URL:https://scarfg.org/event/le-50rented-uscg/2024-03-04/
LOCATION:LE 50\, 21 Fish and Game Ln\, scarborough\, ME\, 04074\, United States
CATEGORIES:LE Rental Ranges
ORGANIZER;CN="PO1 Donovan Warner":MAILTO:Donovan.M.Warner@uscg.mil
END:VEVENT
BEGIN:VEVENT
DTSTART;VALUE=DATE:20240228
DTEND;VALUE=DATE:20240301
DTSTAMP:20260422T115654
CREATED:20240213T162612Z
LAST-MODIFIED:20240213T162612Z
UID:10005602-1709078400-1709251199@scarfg.org
SUMMARY:LE 50 Rented-MDOC
DESCRIPTION:
URL:https://scarfg.org/event/le-50-rented-mdoc-2/
LOCATION:LE 50\, 21 Fish and Game Ln\, scarborough\, ME\, 04074\, United States
CATEGORIES:LE Rental Ranges
ORGANIZER;CN="Harvey Bailey":MAILTO:harvey.bailey@maine.gov
END:VEVENT
BEGIN:VEVENT
DTSTART;VALUE=DATE:20240227
DTEND;VALUE=DATE:20240228
DTSTAMP:20260422T115654
CREATED:20240104T030710Z
LAST-MODIFIED:20240104T030710Z
UID:10005532-1708992000-1709078399@scarfg.org
SUMMARY:LE 50 Rented-USCG
DESCRIPTION:
URL:https://scarfg.org/event/le-50-rented-uscg-32/
LOCATION:LE 50\, 21 Fish and Game Ln\, scarborough\, ME\, 04074\, United States
CATEGORIES:LE Rental Ranges
ORGANIZER;CN="Matt Saunders GM2":MAILTO:Matthew.J.Saunders@uscg.mil
END:VEVENT
BEGIN:VEVENT
DTSTART;VALUE=DATE:20240226
DTEND;VALUE=DATE:20240227
DTSTAMP:20260422T115654
CREATED:20240220T191103Z
LAST-MODIFIED:20240220T191103Z
UID:10005618-1708905600-1708991999@scarfg.org
SUMMARY:LE 50 Rented-CCSO-Hovey
DESCRIPTION:
URL:https://scarfg.org/event/le-50-rented-ccso-hovey-10/
LOCATION:LE 50\, 21 Fish and Game Ln\, scarborough\, ME\, 04074\, United States
CATEGORIES:LE Rental Ranges
ORGANIZER;CN="Lt. Anthony Hovey":MAILTO:hovey@cumberlandcounty.org
END:VEVENT
BEGIN:VEVENT
DTSTART;VALUE=DATE:20240226
DTEND;VALUE=DATE:20240227
DTSTAMP:20260422T115654
CREATED:20221219T201452Z
LAST-MODIFIED:20230312T223356Z
UID:10004629-1708905600-1708991999@scarfg.org
SUMMARY:LE 50-Rented-USCG
DESCRIPTION:
URL:https://scarfg.org/event/le-50rented-uscg/2024-02-26/
LOCATION:LE 50\, 21 Fish and Game Ln\, scarborough\, ME\, 04074\, United States
CATEGORIES:LE Rental Ranges
ORGANIZER;CN="PO1 Donovan Warner":MAILTO:Donovan.M.Warner@uscg.mil
END:VEVENT
BEGIN:VEVENT
DTSTART;VALUE=DATE:20240220
DTEND;VALUE=DATE:20240221
DTSTAMP:20260422T115654
CREATED:20240214T161715Z
LAST-MODIFIED:20240214T161715Z
UID:10005604-1708387200-1708473599@scarfg.org
SUMMARY:LE 50 Rented-Kennebunkport PD
DESCRIPTION:
URL:https://scarfg.org/event/le-50-rented-kennebunkport-pd-2/
LOCATION:LE 50\, 21 Fish and Game Ln\, scarborough\, ME\, 04074\, United States
CATEGORIES:LE Rental Ranges
ORGANIZER;CN="Cory Tardif":MAILTO:ctardif@kennebunkportme.gov
END:VEVENT
BEGIN:VEVENT
DTSTART;VALUE=DATE:20240219
DTEND;VALUE=DATE:20240220
DTSTAMP:20260422T115654
CREATED:20221219T201452Z
LAST-MODIFIED:20230312T223356Z
UID:10004628-1708300800-1708387199@scarfg.org
SUMMARY:LE 50-Rented-USCG
DESCRIPTION:
URL:https://scarfg.org/event/le-50rented-uscg/2024-02-19/
LOCATION:LE 50\, 21 Fish and Game Ln\, scarborough\, ME\, 04074\, United States
CATEGORIES:LE Rental Ranges
ORGANIZER;CN="PO1 Donovan Warner":MAILTO:Donovan.M.Warner@uscg.mil
END:VEVENT
BEGIN:VEVENT
DTSTART;TZID=America/New_York:20240216T080000
DTEND;TZID=America/New_York:20240216T110000
DTSTAMP:20260422T115654
CREATED:20240211T164856Z
LAST-MODIFIED:20240211T164856Z
UID:10005593-1708070400-1708081200@scarfg.org
SUMMARY:LE 50 Rented-FBI
DESCRIPTION:
URL:https://scarfg.org/event/le-50-rented-fbi/
LOCATION:LE 50\, 21 Fish and Game Ln\, scarborough\, ME\, 04074\, United States
CATEGORIES:LE Rental Ranges
END:VEVENT
BEGIN:VEVENT
DTSTART;VALUE=DATE:20240212
DTEND;VALUE=DATE:20240213
DTSTAMP:20260422T115654
CREATED:20221219T201452Z
LAST-MODIFIED:20230312T223356Z
UID:10004627-1707696000-1707782399@scarfg.org
SUMMARY:LE 50-Rented-USCG
DESCRIPTION:
URL:https://scarfg.org/event/le-50rented-uscg/2024-02-12/
LOCATION:LE 50\, 21 Fish and Game Ln\, scarborough\, ME\, 04074\, United States
CATEGORIES:LE Rental Ranges
ORGANIZER;CN="PO1 Donovan Warner":MAILTO:Donovan.M.Warner@uscg.mil
END:VEVENT
BEGIN:VEVENT
DTSTART;VALUE=DATE:20240206
DTEND;VALUE=DATE:20240207
DTSTAMP:20260422T115654
CREATED:20240124T191248Z
LAST-MODIFIED:20240124T191248Z
UID:10005584-1707177600-1707263999@scarfg.org
SUMMARY:LE 50 Rented-Kennebunkport PD
DESCRIPTION:
URL:https://scarfg.org/event/le-50-rented-kennebunkport-pd/
LOCATION:LE 50\, 21 Fish and Game Ln\, scarborough\, ME\, 04074\, United States
CATEGORIES:LE Rental Ranges
ORGANIZER;CN="Cory Tardif":MAILTO:ctardif@kennebunkportme.gov
END:VEVENT
BEGIN:VEVENT
DTSTART;VALUE=DATE:20240205
DTEND;VALUE=DATE:20240206
DTSTAMP:20260422T115654
CREATED:20221219T201452Z
LAST-MODIFIED:20230312T223356Z
UID:10004626-1707091200-1707177599@scarfg.org
SUMMARY:LE 50-Rented-USCG
DESCRIPTION:
URL:https://scarfg.org/event/le-50rented-uscg/2024-02-05/
LOCATION:LE 50\, 21 Fish and Game Ln\, scarborough\, ME\, 04074\, United States
CATEGORIES:LE Rental Ranges
ORGANIZER;CN="PO1 Donovan Warner":MAILTO:Donovan.M.Warner@uscg.mil
END:VEVENT
BEGIN:VEVENT
DTSTART;VALUE=DATE:20240129
DTEND;VALUE=DATE:20240130
DTSTAMP:20260422T115654
CREATED:20221219T201452Z
LAST-MODIFIED:20230312T223356Z
UID:10004625-1706486400-1706572799@scarfg.org
SUMMARY:LE 50-Rented-USCG
DESCRIPTION:
URL:https://scarfg.org/event/le-50rented-uscg/2024-01-29/
LOCATION:LE 50\, 21 Fish and Game Ln\, scarborough\, ME\, 04074\, United States
CATEGORIES:LE Rental Ranges
ORGANIZER;CN="PO1 Donovan Warner":MAILTO:Donovan.M.Warner@uscg.mil
END:VEVENT
BEGIN:VEVENT
DTSTART;VALUE=DATE:20240122
DTEND;VALUE=DATE:20240123
DTSTAMP:20260422T115654
CREATED:20221219T201452Z
LAST-MODIFIED:20230312T223356Z
UID:10004624-1705881600-1705967999@scarfg.org
SUMMARY:LE 50-Rented-USCG
DESCRIPTION:
URL:https://scarfg.org/event/le-50rented-uscg/2024-01-22/
LOCATION:LE 50\, 21 Fish and Game Ln\, scarborough\, ME\, 04074\, United States
CATEGORIES:LE Rental Ranges
ORGANIZER;CN="PO1 Donovan Warner":MAILTO:Donovan.M.Warner@uscg.mil
END:VEVENT
BEGIN:VEVENT
DTSTART;VALUE=DATE:20240116
DTEND;VALUE=DATE:20240117
DTSTAMP:20260422T115654
CREATED:20231212T140839Z
LAST-MODIFIED:20231212T140839Z
UID:10005468-1705363200-1705449599@scarfg.org
SUMMARY:LE 50 Rented-CCSO/ESU
DESCRIPTION:
URL:https://scarfg.org/event/le-50-rented-ccso-esu-8/
LOCATION:LE 50\, 21 Fish and Game Ln\, scarborough\, ME\, 04074\, United States
CATEGORIES:LE Rental Ranges
ORGANIZER;CN="Sgt. Mark Marion":MAILTO:marion@cumberlandcounty.org
END:VEVENT
BEGIN:VEVENT
DTSTART;VALUE=DATE:20240115
DTEND;VALUE=DATE:20240116
DTSTAMP:20260422T115654
CREATED:20221219T201452Z
LAST-MODIFIED:20230312T223356Z
UID:10004623-1705276800-1705363199@scarfg.org
SUMMARY:LE 50-Rented-USCG
DESCRIPTION:
URL:https://scarfg.org/event/le-50rented-uscg/2024-01-15/
LOCATION:LE 50\, 21 Fish and Game Ln\, scarborough\, ME\, 04074\, United States
CATEGORIES:LE Rental Ranges
ORGANIZER;CN="PO1 Donovan Warner":MAILTO:Donovan.M.Warner@uscg.mil
END:VEVENT
BEGIN:VEVENT
DTSTART;VALUE=DATE:20240108
DTEND;VALUE=DATE:20240113
DTSTAMP:20260422T115654
CREATED:20230822T144736Z
LAST-MODIFIED:20230822T144736Z
UID:10005362-1704672000-1705103999@scarfg.org
SUMMARY:LE 50 Rented-SPPD-Lowlight
DESCRIPTION:
URL:https://scarfg.org/event/le-50-rented-sppd-lowlight/
LOCATION:LE 50\, 21 Fish and Game Ln\, scarborough\, ME\, 04074\, United States
CATEGORIES:LE Rental Ranges
END:VEVENT
BEGIN:VEVENT
DTSTART;VALUE=DATE:20240108
DTEND;VALUE=DATE:20240109
DTSTAMP:20260422T115654
CREATED:20221219T201452Z
LAST-MODIFIED:20230312T223356Z
UID:10004622-1704672000-1704758399@scarfg.org
SUMMARY:LE 50-Rented-USCG
DESCRIPTION:
URL:https://scarfg.org/event/le-50rented-uscg/2024-01-08/
LOCATION:LE 50\, 21 Fish and Game Ln\, scarborough\, ME\, 04074\, United States
CATEGORIES:LE Rental Ranges
ORGANIZER;CN="PO1 Donovan Warner":MAILTO:Donovan.M.Warner@uscg.mil
END:VEVENT
BEGIN:VEVENT
DTSTART;VALUE=DATE:20240106
DTEND;VALUE=DATE:20240107
DTSTAMP:20260422T115654
CREATED:20231028T201024Z
LAST-MODIFIED:20231115T153033Z
UID:10005432-1704499200-1704585599@scarfg.org
SUMMARY:LE 50 Rented-SRT
DESCRIPTION:
URL:https://scarfg.org/event/le-50-clubhouse-rented-srt-3/
LOCATION:LE 50\, 21 Fish and Game Ln\, scarborough\, ME\, 04074\, United States
CATEGORIES:LE Rental Ranges
ORGANIZER;CN="Peter Joyce":MAILTO:peter@srtconceptsllc.com
END:VEVENT
BEGIN:VEVENT
DTSTART;VALUE=DATE:20240105
DTEND;VALUE=DATE:20240106
DTSTAMP:20260422T115654
CREATED:20231222T212313Z
LAST-MODIFIED:20231222T212313Z
UID:10005505-1704412800-1704499199@scarfg.org
SUMMARY:LE 50 Rented-CCSO
DESCRIPTION:
URL:https://scarfg.org/event/le-50-rented-ccso-7/
LOCATION:LE 50\, 21 Fish and Game Ln\, scarborough\, ME\, 04074\, United States
CATEGORIES:LE Rental Ranges
END:VEVENT
END:VCALENDAR