BEGIN:VCALENDAR
VERSION:2.0
PRODID:-//Scarborough Fish &amp; Game Association - ECPv6.15.20//NONSGML v1.0//EN
CALSCALE:GREGORIAN
METHOD:PUBLISH
X-WR-CALNAME:Scarborough Fish &amp; Game Association
X-ORIGINAL-URL:https://scarfg.org
X-WR-CALDESC:Events for Scarborough Fish &amp; Game Association
REFRESH-INTERVAL;VALUE=DURATION:PT1H
X-Robots-Tag:noindex
X-PUBLISHED-TTL:PT1H
BEGIN:VTIMEZONE
TZID:America/New_York
BEGIN:DAYLIGHT
TZOFFSETFROM:-0500
TZOFFSETTO:-0400
TZNAME:EDT
DTSTART:20230312T070000
END:DAYLIGHT
BEGIN:STANDARD
TZOFFSETFROM:-0400
TZOFFSETTO:-0500
TZNAME:EST
DTSTART:20231105T060000
END:STANDARD
BEGIN:DAYLIGHT
TZOFFSETFROM:-0500
TZOFFSETTO:-0400
TZNAME:EDT
DTSTART:20240310T070000
END:DAYLIGHT
BEGIN:STANDARD
TZOFFSETFROM:-0400
TZOFFSETTO:-0500
TZNAME:EST
DTSTART:20241103T060000
END:STANDARD
BEGIN:DAYLIGHT
TZOFFSETFROM:-0500
TZOFFSETTO:-0400
TZNAME:EDT
DTSTART:20250309T070000
END:DAYLIGHT
BEGIN:STANDARD
TZOFFSETFROM:-0400
TZOFFSETTO:-0500
TZNAME:EST
DTSTART:20251102T060000
END:STANDARD
END:VTIMEZONE
BEGIN:VEVENT
DTSTART;VALUE=DATE:20240909
DTEND;VALUE=DATE:20240914
DTSTAMP:20260422T103836
CREATED:20230822T145841Z
LAST-MODIFIED:20230822T145841Z
UID:10004851-1725840000-1726271999@scarfg.org
SUMMARY:LE 50 Rented-SPPD
DESCRIPTION:
URL:https://scarfg.org/event/le-50-rented-sppd-6/
LOCATION:LE 50\, 21 Fish and Game Ln\, scarborough\, ME\, 04074\, United States
CATEGORIES:LE Rental Ranges
END:VEVENT
BEGIN:VEVENT
DTSTART;VALUE=DATE:20240904
DTEND;VALUE=DATE:20240909
DTSTAMP:20260422T103836
CREATED:20230906T145542Z
LAST-MODIFIED:20230906T145542Z
UID:10005370-1725408000-1725839999@scarfg.org
SUMMARY:LE 50 in use-Pistol
DESCRIPTION:
URL:https://scarfg.org/event/le-50-in-use-pistol/
LOCATION:LE 50\, 21 Fish and Game Ln\, scarborough\, ME\, 04074\, United States
CATEGORIES:LE Rental Ranges
END:VEVENT
BEGIN:VEVENT
DTSTART;VALUE=DATE:20240829
DTEND;VALUE=DATE:20240830
DTSTAMP:20260422T103836
CREATED:20240611T011952Z
LAST-MODIFIED:20240611T011952Z
UID:10006967-1724889600-1724975999@scarfg.org
SUMMARY:LE 50 Rented - USCG
DESCRIPTION:
URL:https://scarfg.org/event/le-50-rented-uscg-38/
LOCATION:LE 50\, 21 Fish and Game Ln\, scarborough\, ME\, 04074\, United States
CATEGORIES:LE Rental Ranges
ORGANIZER;CN="Matt Saunders GM2":MAILTO:Matthew.J.Saunders@uscg.mil
END:VEVENT
BEGIN:VEVENT
DTSTART;VALUE=DATE:20240827
DTEND;VALUE=DATE:20240828
DTSTAMP:20260422T103836
CREATED:20240822T134232Z
LAST-MODIFIED:20240822T134232Z
UID:10007235-1724716800-1724803199@scarfg.org
SUMMARY:LE 50 Rented-MSP
DESCRIPTION:
URL:https://scarfg.org/event/le-50-rented-msp-2/
LOCATION:LE 50\, 21 Fish and Game Ln\, scarborough\, ME\, 04074\, United States
CATEGORIES:LE Rental Ranges
ORGANIZER;CN="Cpl. Eric Paquette":MAILTO:Eric.S.Paquette@Maine.Gov
END:VEVENT
BEGIN:VEVENT
DTSTART;VALUE=DATE:20240826
DTEND;VALUE=DATE:20240827
DTSTAMP:20260422T103836
CREATED:20240805T193703Z
LAST-MODIFIED:20240805T193703Z
UID:10007217-1724630400-1724716799@scarfg.org
SUMMARY:LE 50 Rented-C&BP
DESCRIPTION:
URL:https://scarfg.org/event/le-50-rented-cbp-12/
LOCATION:LE 50\, 21 Fish and Game Ln\, scarborough\, ME\, 04074\, United States
CATEGORIES:LE Rental Ranges
ORGANIZER;CN="Michael Morneault":MAILTO:MICHAEL.MORNEAULT@CBP.DHS.GOV
END:VEVENT
BEGIN:VEVENT
DTSTART;VALUE=DATE:20240822
DTEND;VALUE=DATE:20240823
DTSTAMP:20260422T103836
CREATED:20240502T155103Z
LAST-MODIFIED:20240502T155103Z
UID:10006093-1724313600-1724346000@scarfg.org
SUMMARY:LE 50 Rented-C&BP
DESCRIPTION:
URL:https://scarfg.org/event/le-50-rented-cbp-10/2024-08-22/
LOCATION:LE 50\, 21 Fish and Game Ln\, scarborough\, ME\, 04074\, United States
CATEGORIES:LE Rental Ranges
ORGANIZER;CN="Michael Morneault":MAILTO:MICHAEL.MORNEAULT@CBP.DHS.GOV
END:VEVENT
BEGIN:VEVENT
DTSTART;VALUE=DATE:20240821
DTEND;VALUE=DATE:20240822
DTSTAMP:20260422T103836
CREATED:20240502T155103Z
LAST-MODIFIED:20240502T155103Z
UID:10006092-1724227200-1724259600@scarfg.org
SUMMARY:LE 50 Rented-C&BP
DESCRIPTION:
URL:https://scarfg.org/event/le-50-rented-cbp-10/2024-08-21/
LOCATION:LE 50\, 21 Fish and Game Ln\, scarborough\, ME\, 04074\, United States
CATEGORIES:LE Rental Ranges
ORGANIZER;CN="Michael Morneault":MAILTO:MICHAEL.MORNEAULT@CBP.DHS.GOV
END:VEVENT
BEGIN:VEVENT
DTSTART;VALUE=DATE:20240817
DTEND;VALUE=DATE:20240818
DTSTAMP:20260422T103836
CREATED:20240630T182940Z
LAST-MODIFIED:20240630T182940Z
UID:10006991-1723852800-1723939199@scarfg.org
SUMMARY:LE 50 in use-Trng
DESCRIPTION:
URL:https://scarfg.org/event/le-50-in-use-trng-2/
LOCATION:LE 50\, 21 Fish and Game Ln\, scarborough\, ME\, 04074\, United States
CATEGORIES:LE Rental Ranges
END:VEVENT
BEGIN:VEVENT
DTSTART;VALUE=DATE:20240815
DTEND;VALUE=DATE:20240817
DTSTAMP:20260422T103836
CREATED:20230426T140112Z
LAST-MODIFIED:20230426T140112Z
UID:10004777-1723680000-1723852799@scarfg.org
SUMMARY:LE 50 Rented-Cumberland PD
DESCRIPTION:
URL:https://scarfg.org/event/le-50-rented-cumberland-pd-5/
LOCATION:LE 50\, 21 Fish and Game Ln\, scarborough\, ME\, 04074\, United States
CATEGORIES:LE Rental Ranges
ORGANIZER;CN="Sgt. Antonio Rdge":MAILTO:tridge@cumberlandmaine.com
END:VEVENT
BEGIN:VEVENT
DTSTART;VALUE=DATE:20240814
DTEND;VALUE=DATE:20240815
DTSTAMP:20260422T103836
CREATED:20240801T225643Z
LAST-MODIFIED:20240801T225643Z
UID:10007214-1723593600-1723679999@scarfg.org
SUMMARY:LE 50 Rented- Scarborough PD
DESCRIPTION:
URL:https://scarfg.org/event/le-50-rented-scarborough-pd-2/
LOCATION:LE 50\, 21 Fish and Game Ln\, scarborough\, ME\, 04074\, United States
CATEGORIES:LE Rental Ranges
ORGANIZER;CN="Sgt. Don Laflin":MAILTO:dlaflin@scarboroughmaine.org
END:VEVENT
BEGIN:VEVENT
DTSTART;VALUE=DATE:20240813
DTEND;VALUE=DATE:20240814
DTSTAMP:20260422T103836
CREATED:20240502T155103Z
LAST-MODIFIED:20240502T155103Z
UID:10006091-1723507200-1723593599@scarfg.org
SUMMARY:LE 50 Rented-C&BP
DESCRIPTION:
URL:https://scarfg.org/event/le-50-rented-cbp-10/2024-08-13/
LOCATION:LE 50\, 21 Fish and Game Ln\, scarborough\, ME\, 04074\, United States
CATEGORIES:LE Rental Ranges
ORGANIZER;CN="Michael Morneault":MAILTO:MICHAEL.MORNEAULT@CBP.DHS.GOV
END:VEVENT
BEGIN:VEVENT
DTSTART;VALUE=DATE:20240805
DTEND;VALUE=DATE:20240810
DTSTAMP:20260422T103836
CREATED:20240104T171027Z
LAST-MODIFIED:20240104T171155Z
UID:10005534-1722816000-1723247999@scarfg.org
SUMMARY:LE 50 in Use-SFGA Training Unit-NRA TC Workshop
DESCRIPTION:
URL:https://scarfg.org/event/le-50-in-use-sfga-training-unit-nra-tc-training/
LOCATION:LE 50\, 21 Fish and Game Ln\, scarborough\, ME\, 04074\, United States
CATEGORIES:LE Rental Ranges
END:VEVENT
BEGIN:VEVENT
DTSTART;VALUE=DATE:20240725
DTEND;VALUE=DATE:20240726
DTSTAMP:20260422T103836
CREATED:20240614T131000Z
LAST-MODIFIED:20240614T131000Z
UID:10006975-1721865600-1721951999@scarfg.org
SUMMARY:LE 50 Rented - CCSO/ESU
DESCRIPTION:
URL:https://scarfg.org/event/le-50-rented-ccso-esu-9/
LOCATION:LE 50\, 21 Fish and Game Ln\, scarborough\, ME\, 04074\, United States
CATEGORIES:LE Rental Ranges
ORGANIZER;CN="Sgt. Mark Marion":MAILTO:marion@cumberlandcounty.org
END:VEVENT
BEGIN:VEVENT
DTSTART;TZID=America/New_York:20240626T130000
DTEND;TZID=America/New_York:20240626T150000
DTSTAMP:20260422T103836
CREATED:20240612T144242Z
LAST-MODIFIED:20240612T144242Z
UID:10006974-1719406800-1719414000@scarfg.org
SUMMARY:LE 50 in Use - HR218
DESCRIPTION:
URL:https://scarfg.org/event/le-50-in-use-hr218-4/
LOCATION:LE 50\, 21 Fish and Game Ln\, scarborough\, ME\, 04074\, United States
CATEGORIES:LE Rental Ranges
END:VEVENT
BEGIN:VEVENT
DTSTART;VALUE=DATE:20240625
DTEND;VALUE=DATE:20240626
DTSTAMP:20260422T103836
CREATED:20240624T155912Z
LAST-MODIFIED:20240624T155912Z
UID:10006980-1719273600-1719359999@scarfg.org
SUMMARY:LE 50 Rented-C&BP
DESCRIPTION:
URL:https://scarfg.org/event/le-50-rented-cbp-11/
LOCATION:LE 50\, 21 Fish and Game Ln\, scarborough\, ME\, 04074\, United States
CATEGORIES:LE Rental Ranges
ORGANIZER;CN="Michael Morneault":MAILTO:MICHAEL.MORNEAULT@CBP.DHS.GOV
END:VEVENT
BEGIN:VEVENT
DTSTART;VALUE=DATE:20240604
DTEND;VALUE=DATE:20240605
DTSTAMP:20260422T103836
CREATED:20240523T144650Z
LAST-MODIFIED:20240523T144650Z
UID:10006275-1717459200-1717545599@scarfg.org
SUMMARY:LE 50 Rented-CCSO/Hovey
DESCRIPTION:
URL:https://scarfg.org/event/le-50-rented-ccso-hovey-12/
LOCATION:LE 50\, 21 Fish and Game Ln\, scarborough\, ME\, 04074\, United States
CATEGORIES:LE Rental Ranges
ORGANIZER;CN="Lt. Anthony Hovey":MAILTO:hovey@cumberlandcounty.org
END:VEVENT
BEGIN:VEVENT
DTSTART;VALUE=DATE:20240603
DTEND;VALUE=DATE:20240604
DTSTAMP:20260422T103836
CREATED:20230719T163142Z
LAST-MODIFIED:20240429T130707Z
UID:10005331-1717372800-1717459199@scarfg.org
SUMMARY:LE 50 Range Rented-Waldens/Court Security
DESCRIPTION:
URL:https://scarfg.org/event/le-50-range-rented-waldens-court-security/
LOCATION:LE 50\, 21 Fish and Game Ln\, scarborough\, ME\, 04074\, United States
CATEGORIES:LE Rental Ranges
ORGANIZER;CN="Alex Patnode":MAILTO:alexander.patnode@ops.waldensecurity.com
END:VEVENT
BEGIN:VEVENT
DTSTART;VALUE=DATE:20240530
DTEND;VALUE=DATE:20240601
DTSTAMP:20260422T103836
CREATED:20240315T143612Z
LAST-MODIFIED:20240315T143612Z
UID:10005649-1717027200-1717199999@scarfg.org
SUMMARY:LE 50 Rented-Falmouth PD
DESCRIPTION:
URL:https://scarfg.org/event/le-50-rented-falmouth-pd-4/
LOCATION:LE 50\, 21 Fish and Game Ln\, scarborough\, ME\, 04074\, United States
CATEGORIES:LE Rental Ranges
ORGANIZER;CN="LT. Chris St.Pierre":MAILTO:cstpierre@falmouthme.org
END:VEVENT
BEGIN:VEVENT
DTSTART;VALUE=DATE:20240529
DTEND;VALUE=DATE:20240530
DTSTAMP:20260422T103836
CREATED:20240502T154406Z
LAST-MODIFIED:20240502T154406Z
UID:10006088-1716969600-1717002000@scarfg.org
SUMMARY:LE 50 Rented-C&BP
DESCRIPTION:
URL:https://scarfg.org/event/le-50-rented-cbp-9/2024-05-29/
LOCATION:LE 50\, 21 Fish and Game Ln\, scarborough\, ME\, 04074\, United States
CATEGORIES:LE Rental Ranges
ORGANIZER;CN="Michael Morneault":MAILTO:MICHAEL.MORNEAULT@CBP.DHS.GOV
END:VEVENT
BEGIN:VEVENT
DTSTART;VALUE=DATE:20240527
DTEND;VALUE=DATE:20240529
DTSTAMP:20260422T103836
CREATED:20230815T152813Z
LAST-MODIFIED:20230815T152813Z
UID:10005350-1716768000-1716940799@scarfg.org
SUMMARY:LE 50 Rented-OOB
DESCRIPTION:
URL:https://scarfg.org/event/le-50-rented-oob-3/
LOCATION:LE 50\, 21 Fish and Game Ln\, scarborough\, ME\, 04074\, United States
CATEGORIES:LE Rental Ranges
ORGANIZER;CN="Will Watson":MAILTO:wwatson@oobmaine.com
END:VEVENT
BEGIN:VEVENT
DTSTART;VALUE=DATE:20240524
DTEND;VALUE=DATE:20240526
DTSTAMP:20260422T103836
CREATED:20230127T160645Z
LAST-MODIFIED:20230127T160645Z
UID:10005130-1716508800-1716681599@scarfg.org
SUMMARY:LE 50 Rented-Scar. PD
DESCRIPTION:
URL:https://scarfg.org/event/le-50-rented-scar-pd-3/
LOCATION:LE 50\, 21 Fish and Game Ln\, scarborough\, ME\, 04074\, United States
CATEGORIES:LE Rental Ranges
ORGANIZER;CN="Sgt. Don Laflin":MAILTO:dlaflin@scarboroughmaine.org
END:VEVENT
BEGIN:VEVENT
DTSTART;VALUE=DATE:20240523
DTEND;VALUE=DATE:20240524
DTSTAMP:20260422T103836
CREATED:20240502T154406Z
LAST-MODIFIED:20240502T154406Z
UID:10006087-1716422400-1716508799@scarfg.org
SUMMARY:LE 50 Rented-C&BP
DESCRIPTION:
URL:https://scarfg.org/event/le-50-rented-cbp-9/2024-05-23/
LOCATION:LE 50\, 21 Fish and Game Ln\, scarborough\, ME\, 04074\, United States
CATEGORIES:LE Rental Ranges
ORGANIZER;CN="Michael Morneault":MAILTO:MICHAEL.MORNEAULT@CBP.DHS.GOV
END:VEVENT
BEGIN:VEVENT
DTSTART;VALUE=DATE:20240520
DTEND;VALUE=DATE:20240523
DTSTAMP:20260422T103836
CREATED:20231011T152718Z
LAST-MODIFIED:20231011T152718Z
UID:10005427-1716163200-1716422399@scarfg.org
SUMMARY:LE 50 Rented-P&P1
DESCRIPTION:
URL:https://scarfg.org/event/le-50-rented-pp1-4/
LOCATION:LE 50\, 21 Fish and Game Ln\, scarborough\, ME\, 04074\, United States
CATEGORIES:LE Rental Ranges
END:VEVENT
BEGIN:VEVENT
DTSTART;TZID=America/New_York:20240519T080000
DTEND;TZID=America/New_York:20240519T170000
DTSTAMP:20260422T103836
CREATED:20240501T231310Z
LAST-MODIFIED:20240501T231310Z
UID:10006086-1716105600-1716138000@scarfg.org
SUMMARY:LE 50 Rented-CCSO-Hovey
DESCRIPTION:
URL:https://scarfg.org/event/le-50-rented-ccso-hovey-11/
LOCATION:LE 50\, 21 Fish and Game Ln\, scarborough\, ME\, 04074\, United States
CATEGORIES:LE Rental Ranges
ORGANIZER;CN="Lt. Anthony Hovey":MAILTO:hovey@cumberlandcounty.org
END:VEVENT
BEGIN:VEVENT
DTSTART;VALUE=DATE:20240518
DTEND;VALUE=DATE:20240519
DTSTAMP:20260422T103836
CREATED:20240315T150256Z
LAST-MODIFIED:20240315T150256Z
UID:10005652-1715990400-1716076799@scarfg.org
SUMMARY:LE 50 Rented-USCG
DESCRIPTION:
URL:https://scarfg.org/event/le-50-rented-uscg-36/
LOCATION:LE 50\, 21 Fish and Game Ln\, scarborough\, ME\, 04074\, United States
CATEGORIES:LE Rental Ranges
ORGANIZER;CN="Matt Saunders GM2":MAILTO:Matthew.J.Saunders@uscg.mil
END:VEVENT
BEGIN:VEVENT
DTSTART;TZID=America/New_York:20240516T120000
DTEND;TZID=America/New_York:20240517T180000
DTSTAMP:20260422T103836
CREATED:20231205T021321Z
LAST-MODIFIED:20240510T152129Z
UID:10005462-1715860800-1715968800@scarfg.org
SUMMARY:LE 50 Rented-C&BP
DESCRIPTION:
URL:https://scarfg.org/event/le-50-rented-cbp-8/
LOCATION:LE 50\, 21 Fish and Game Ln\, scarborough\, ME\, 04074\, United States
CATEGORIES:LE Rental Ranges
ORGANIZER;CN="Michael Morneault":MAILTO:MICHAEL.MORNEAULT@CBP.DHS.GOV
END:VEVENT
BEGIN:VEVENT
DTSTART;TZID=America/New_York:20240516T080000
DTEND;TZID=America/New_York:20240516T120000
DTSTAMP:20260422T103836
CREATED:20240510T152355Z
LAST-MODIFIED:20240510T152534Z
UID:10006101-1715846400-1715860800@scarfg.org
SUMMARY:LE 50 Rented - Portland PD
DESCRIPTION:
URL:https://scarfg.org/event/le-50-rented-portland-pd/
LOCATION:LE 50\, 21 Fish and Game Ln\, scarborough\, ME\, 04074\, United States
CATEGORIES:LE Rental Ranges
END:VEVENT
BEGIN:VEVENT
DTSTART;VALUE=DATE:20240514
DTEND;VALUE=DATE:20240516
DTSTAMP:20260422T103836
CREATED:20240425T151429Z
LAST-MODIFIED:20240425T151429Z
UID:10005738-1715644800-1715817599@scarfg.org
SUMMARY:LE 50 Rented - USCG
DESCRIPTION:
URL:https://scarfg.org/event/le-50-rented-uscg-37/
LOCATION:LE 50\, 21 Fish and Game Ln\, scarborough\, ME\, 04074\, United States
CATEGORIES:LE Rental Ranges
ORGANIZER;CN="Matt Saunders GM2":MAILTO:Matthew.J.Saunders@uscg.mil
END:VEVENT
BEGIN:VEVENT
DTSTART;VALUE=DATE:20240513
DTEND;VALUE=DATE:20240514
DTSTAMP:20260422T103836
CREATED:20231205T021051Z
LAST-MODIFIED:20231205T021051Z
UID:10005461-1715558400-1715644799@scarfg.org
SUMMARY:LE 50 Rented-C&BP
DESCRIPTION:
URL:https://scarfg.org/event/le-50-rented-cbp-7/
LOCATION:LE 50\, 21 Fish and Game Ln\, scarborough\, ME\, 04074\, United States
CATEGORIES:LE Rental Ranges
ORGANIZER;CN="Michael Morneault":MAILTO:MICHAEL.MORNEAULT@CBP.DHS.GOV
END:VEVENT
BEGIN:VEVENT
DTSTART;VALUE=DATE:20240506
DTEND;VALUE=DATE:20240513
DTSTAMP:20260422T103836
CREATED:20230208T191356Z
LAST-MODIFIED:20230208T193830Z
UID:10004716-1714953600-1715558399@scarfg.org
SUMMARY:LE 50 Rented-CCSO
DESCRIPTION:
URL:https://scarfg.org/event/le-50-rented-ccso-4/
LOCATION:LE 50\, 21 Fish and Game Ln\, scarborough\, ME\, 04074\, United States
CATEGORIES:LE Rental Ranges
ORGANIZER;CN="Lt. Anthony Hovey":MAILTO:hovey@cumberlandcounty.org
END:VEVENT
END:VCALENDAR