BEGIN:VCALENDAR
VERSION:2.0
PRODID:-//Scarborough Fish &amp; Game Association - ECPv6.15.20//NONSGML v1.0//EN
CALSCALE:GREGORIAN
METHOD:PUBLISH
X-WR-CALNAME:Scarborough Fish &amp; Game Association
X-ORIGINAL-URL:https://scarfg.org
X-WR-CALDESC:Events for Scarborough Fish &amp; Game Association
REFRESH-INTERVAL;VALUE=DURATION:PT1H
X-Robots-Tag:noindex
X-PUBLISHED-TTL:PT1H
BEGIN:VTIMEZONE
TZID:America/New_York
BEGIN:DAYLIGHT
TZOFFSETFROM:-0500
TZOFFSETTO:-0400
TZNAME:EDT
DTSTART:20240310T070000
END:DAYLIGHT
BEGIN:STANDARD
TZOFFSETFROM:-0400
TZOFFSETTO:-0500
TZNAME:EST
DTSTART:20241103T060000
END:STANDARD
BEGIN:DAYLIGHT
TZOFFSETFROM:-0500
TZOFFSETTO:-0400
TZNAME:EDT
DTSTART:20250309T070000
END:DAYLIGHT
BEGIN:STANDARD
TZOFFSETFROM:-0400
TZOFFSETTO:-0500
TZNAME:EST
DTSTART:20251102T060000
END:STANDARD
BEGIN:DAYLIGHT
TZOFFSETFROM:-0500
TZOFFSETTO:-0400
TZNAME:EDT
DTSTART:20260308T070000
END:DAYLIGHT
BEGIN:STANDARD
TZOFFSETFROM:-0400
TZOFFSETTO:-0500
TZNAME:EST
DTSTART:20261101T060000
END:STANDARD
END:VTIMEZONE
BEGIN:VEVENT
DTSTART;VALUE=DATE:20250707
DTEND;VALUE=DATE:20250708
DTSTAMP:20260422T075254
CREATED:20250623T171841Z
LAST-MODIFIED:20250623T171914Z
UID:10012438-1751846400-1751932799@scarfg.org
SUMMARY:LE 50 Rented-Saco PD
DESCRIPTION:
URL:https://scarfg.org/event/le-50-rented-saco-pd-4/
LOCATION:LE 50\, 21 Fish and Game Ln\, scarborough\, ME\, 04074\, United States
CATEGORIES:LE Rental Ranges
ORGANIZER;CN="Lt. Ken Foss":MAILTO:KFoss@sacomaine.org
END:VEVENT
BEGIN:VEVENT
DTSTART;VALUE=DATE:20250628
DTEND;VALUE=DATE:20250629
DTSTAMP:20260422T075254
CREATED:20250118T030003Z
LAST-MODIFIED:20250118T030003Z
UID:10010948-1751097600-1751130000@scarfg.org
SUMMARY:LE 50 IN USE-TRNG
DESCRIPTION:
URL:https://scarfg.org/event/le-50-in-use-trng-5/2025-06-28/
LOCATION:LE 50\, 21 Fish and Game Ln\, scarborough\, ME\, 04074\, United States
CATEGORIES:LE Rental Ranges
END:VEVENT
BEGIN:VEVENT
DTSTART;VALUE=DATE:20250624
DTEND;VALUE=DATE:20250625
DTSTAMP:20260422T075254
CREATED:20250516T140656Z
LAST-MODIFIED:20250516T140656Z
UID:10011990-1750723200-1750809599@scarfg.org
SUMMARY:LE 50 Rented-C&BP
DESCRIPTION:
URL:https://scarfg.org/event/le-50-rented-cbp-18/
LOCATION:LE 50\, 21 Fish and Game Ln\, scarborough\, ME\, 04074\, United States
CATEGORIES:LE Rental Ranges
ORGANIZER;CN="COTE%2C ISAAC D <ISAAC.D.COTE@cbp.dhs.gov>":MAILTO:ISAAC.D.COTE@cbp.dhs.gov
END:VEVENT
BEGIN:VEVENT
DTSTART;TZID=America/New_York:20250617T130000
DTEND;TZID=America/New_York:20250617T150000
DTSTAMP:20260422T075254
CREATED:20250509T140106Z
LAST-MODIFIED:20250509T140106Z
UID:10011708-1750165200-1750172400@scarfg.org
SUMMARY:LE 50 in use-HR218
DESCRIPTION:
URL:https://scarfg.org/event/le-50-in-use-hr218-6/
LOCATION:LE 50\, 21 Fish and Game Ln\, scarborough\, ME\, 04074\, United States
CATEGORIES:LE Rental Ranges
END:VEVENT
BEGIN:VEVENT
DTSTART;VALUE=DATE:20250614
DTEND;VALUE=DATE:20250615
DTSTAMP:20260422T075254
CREATED:20250511T145529Z
LAST-MODIFIED:20250511T145529Z
UID:10011712-1749859200-1749945599@scarfg.org
SUMMARY:LE 50 In Use-Trng
DESCRIPTION:
URL:https://scarfg.org/event/le-50-in-use-trng-8/
LOCATION:LE 50\, 21 Fish and Game Ln\, scarborough\, ME\, 04074\, United States
CATEGORIES:LE Rental Ranges
END:VEVENT
BEGIN:VEVENT
DTSTART;VALUE=DATE:20250612
DTEND;VALUE=DATE:20250613
DTSTAMP:20260422T075254
CREATED:20250602T171854Z
LAST-MODIFIED:20250602T171854Z
UID:10012402-1749686400-1749772799@scarfg.org
SUMMARY:LE 50 Rented-USCG
DESCRIPTION:
URL:https://scarfg.org/event/le-50-rented-uscg-49/
LOCATION:LE 50\, 21 Fish and Game Ln\, scarborough\, ME\, 04074\, United States
CATEGORIES:LE Rental Ranges
ORGANIZER;CN="GM 1 Kyle Honning":MAILTO:Kyle.M.Honning@uscg.mil
END:VEVENT
BEGIN:VEVENT
DTSTART;VALUE=DATE:20250603
DTEND;VALUE=DATE:20250604
DTSTAMP:20260422T075254
CREATED:20250509T165928Z
LAST-MODIFIED:20250509T165928Z
UID:10011709-1748908800-1748995199@scarfg.org
SUMMARY:LE 50 Rented-CCSO-Hovey
DESCRIPTION:
URL:https://scarfg.org/event/le-50-rented-ccso-hovey-21/
LOCATION:LE 50\, 21 Fish and Game Ln\, scarborough\, ME\, 04074\, United States
CATEGORIES:LE Rental Ranges
ORGANIZER;CN="Lt. Anthony Hovey":MAILTO:hovey@cumberlandcounty.org
END:VEVENT
BEGIN:VEVENT
DTSTART;VALUE=DATE:20250602
DTEND;VALUE=DATE:20250603
DTSTAMP:20260422T075254
CREATED:20240723T194859Z
LAST-MODIFIED:20240723T194859Z
UID:10007212-1748822400-1748908799@scarfg.org
SUMMARY:LE 50 Rented-Walden's CSO
DESCRIPTION:
URL:https://scarfg.org/event/le-50-rented-waldens-cso/
LOCATION:LE 50\, 21 Fish and Game Ln\, scarborough\, ME\, 04074\, United States
CATEGORIES:LE Rental Ranges
ORGANIZER;CN="Lowell Smith":MAILTO:lowell.smith@fsd.waldensecurity.com
END:VEVENT
BEGIN:VEVENT
DTSTART;VALUE=DATE:20250531
DTEND;VALUE=DATE:20250601
DTSTAMP:20260422T075254
CREATED:20250118T030003Z
LAST-MODIFIED:20250118T030003Z
UID:10010947-1748678400-1748710800@scarfg.org
SUMMARY:LE 50 IN USE-TRNG
DESCRIPTION:
URL:https://scarfg.org/event/le-50-in-use-trng-5/2025-05-31/
LOCATION:LE 50\, 21 Fish and Game Ln\, scarborough\, ME\, 04074\, United States
CATEGORIES:LE Rental Ranges
END:VEVENT
BEGIN:VEVENT
DTSTART;TZID=America/New_York:20250529T130000
DTEND;TZID=America/New_York:20250529T170000
DTSTAMP:20260422T075254
CREATED:20250527T145313Z
LAST-MODIFIED:20250527T145313Z
UID:10011998-1748523600-1748538000@scarfg.org
SUMMARY:LE 50 in Use-Scarboro PD
DESCRIPTION:
URL:https://scarfg.org/event/le-50-in-use-scarboro-pd-2/
LOCATION:LE 50\, 21 Fish and Game Ln\, scarborough\, ME\, 04074\, United States
CATEGORIES:LE Rental Ranges
ORGANIZER;CN="Craig Hebert":MAILTO:chebert@scarboroughmaine.org
END:VEVENT
BEGIN:VEVENT
DTSTART;TZID=America/New_York:20250529T100000
DTEND;TZID=America/New_York:20250529T123000
DTSTAMP:20260422T075254
CREATED:20250509T135854Z
LAST-MODIFIED:20250509T135854Z
UID:10011707-1748512800-1748521800@scarfg.org
SUMMARY:LE 50-HR218
DESCRIPTION:
URL:https://scarfg.org/event/le-50-hr218/
LOCATION:LE 50\, 21 Fish and Game Ln\, scarborough\, ME\, 04074\, United States
CATEGORIES:LE Rental Ranges
END:VEVENT
BEGIN:VEVENT
DTSTART;VALUE=DATE:20250527
DTEND;VALUE=DATE:20250529
DTSTAMP:20260422T075254
CREATED:20240530T142444Z
LAST-MODIFIED:20240827T205134Z
UID:10006931-1748304000-1748476799@scarfg.org
SUMMARY:LE 50 Rented-OOB
DESCRIPTION:
URL:https://scarfg.org/event/le-rifle-rented-oob-6/
LOCATION:LE 50\, 21 Fish and Game Ln\, scarborough\, ME\, 04074\, United States
CATEGORIES:LE Rental Ranges
ORGANIZER;CN="Will Watson":MAILTO:wwatson@oobmaine.com
END:VEVENT
BEGIN:VEVENT
DTSTART;VALUE=DATE:20250520
DTEND;VALUE=DATE:20250523
DTSTAMP:20260422T075254
CREATED:20241114T163456Z
LAST-MODIFIED:20241114T163456Z
UID:10007668-1747699200-1747958399@scarfg.org
SUMMARY:LE 50 Rented-P&P1
DESCRIPTION:
URL:https://scarfg.org/event/le-50-rented-pp1-5/
LOCATION:LE 50\, 21 Fish and Game Ln\, scarborough\, ME\, 04074\, United States
CATEGORIES:LE Rental Ranges
ORGANIZER;CN="Robert Omiecinski":MAILTO:Robert.Omiecinski@maine.gov
END:VEVENT
BEGIN:VEVENT
DTSTART;VALUE=DATE:20250519
DTEND;VALUE=DATE:20250520
DTSTAMP:20260422T075254
CREATED:20240908T161314Z
LAST-MODIFIED:20240908T161314Z
UID:10007285-1747641600-1747674000@scarfg.org
SUMMARY:LE 50 Rented-NOAA
DESCRIPTION:
URL:https://scarfg.org/event/le-50-rented-noaa-8/2025-05-19/
LOCATION:LE 50\, 21 Fish and Game Ln\, scarborough\, ME\, 04074\, United States
CATEGORIES:LE Rental Ranges
ORGANIZER;CN="Troy Audyatis - NOAA Federal":MAILTO:troy.audyatis@noaa.gov
END:VEVENT
BEGIN:VEVENT
DTSTART;VALUE=DATE:20250517
DTEND;VALUE=DATE:20250518
DTSTAMP:20260422T075254
CREATED:20240827T212251Z
LAST-MODIFIED:20240827T212251Z
UID:10007245-1747468800-1747501200@scarfg.org
SUMMARY:LE 50 & Clubhouse Rented-SRT
DESCRIPTION:
URL:https://scarfg.org/event/le-50-clubhouse-rented-srt-4/2025-05-17/
LOCATION:LE 50\, 21 Fish and Game Ln\, scarborough\, ME\, 04074\, United States
CATEGORIES:LE Rental Ranges
ORGANIZER;CN="Peter Joyce":MAILTO:peter@srtconceptsllc.com
END:VEVENT
BEGIN:VEVENT
DTSTART;VALUE=DATE:20250512
DTEND;VALUE=DATE:20250517
DTSTAMP:20260422T075254
CREATED:20240129T174142Z
LAST-MODIFIED:20240129T174142Z
UID:10005586-1747008000-1747439999@scarfg.org
SUMMARY:LE 50 Rented-Biddeford PD
DESCRIPTION:
URL:https://scarfg.org/event/le-50-rented-biddeford-pd-3/
LOCATION:LE 50\, 21 Fish and Game Ln\, scarborough\, ME\, 04074\, United States
CATEGORIES:LE Rental Ranges
ORGANIZER;CN="Anthony Ciampi":MAILTO:Anthony.Ciampi@Biddefordmaine.org
END:VEVENT
BEGIN:VEVENT
DTSTART;VALUE=DATE:20250509
DTEND;VALUE=DATE:20250511
DTSTAMP:20260422T075254
CREATED:20250506T134809Z
LAST-MODIFIED:20250506T134810Z
UID:10005145-1746748800-1746921599@scarfg.org
SUMMARY:LE 50 & LE Rifle Rented-Scarboro PD
DESCRIPTION:
URL:https://scarfg.org/event/le-50-rented-scarboro-pd-2-2/
LOCATION:LE 50\, 21 Fish and Game Ln\, scarborough\, ME\, 04074\, United States
CATEGORIES:LE Rental Ranges
ORGANIZER;CN="Sgt. Don Laflin":MAILTO:dlaflin@scarboroughmaine.org
END:VEVENT
BEGIN:VEVENT
DTSTART;VALUE=DATE:20250508
DTEND;VALUE=DATE:20250509
DTSTAMP:20260422T075254
CREATED:20250205T183643Z
LAST-MODIFIED:20250205T192714Z
UID:10011327-1746662400-1746748799@scarfg.org
SUMMARY:LE 3 Rented-C&BP
DESCRIPTION:
URL:https://scarfg.org/event/le-50-rented-cbp-19/
LOCATION:LE 50\, 21 Fish and Game Ln\, scarborough\, ME\, 04074\, United States
CATEGORIES:LE Rental Ranges
ORGANIZER;CN="COTE%2C ISAAC D <ISAAC.D.COTE@cbp.dhs.gov>":MAILTO:ISAAC.D.COTE@cbp.dhs.gov
END:VEVENT
BEGIN:VEVENT
DTSTART;VALUE=DATE:20250505
DTEND;VALUE=DATE:20250508
DTSTAMP:20260422T075254
CREATED:20240530T142200Z
LAST-MODIFIED:20240827T205004Z
UID:10006930-1746403200-1746662399@scarfg.org
SUMMARY:LE 50 Rented-OOB
DESCRIPTION:
URL:https://scarfg.org/event/le-50-rented-oob-4/
LOCATION:LE 50\, 21 Fish and Game Ln\, scarborough\, ME\, 04074\, United States
CATEGORIES:LE Rental Ranges
ORGANIZER;CN="Will Watson":MAILTO:wwatson@oobmaine.com
END:VEVENT
BEGIN:VEVENT
DTSTART;VALUE=DATE:20250424
DTEND;VALUE=DATE:20250425
DTSTAMP:20260422T075254
CREATED:20250407T172254Z
LAST-MODIFIED:20250407T172254Z
UID:10011481-1745452800-1745539199@scarfg.org
SUMMARY:LE 50 Rented-USCG
DESCRIPTION:
URL:https://scarfg.org/event/le-50-rented-uscg-47/
LOCATION:LE 50\, 21 Fish and Game Ln\, scarborough\, ME\, 04074\, United States
CATEGORIES:LE Rental Ranges
ORGANIZER;CN="GM 1 Kyle Honning":MAILTO:Kyle.M.Honning@uscg.mil
END:VEVENT
BEGIN:VEVENT
DTSTART;VALUE=DATE:20250422
DTEND;VALUE=DATE:20250423
DTSTAMP:20260422T075254
CREATED:20250304T163353Z
LAST-MODIFIED:20250407T172524Z
UID:10011360-1745280000-1745366399@scarfg.org
SUMMARY:LE 50 Rented-USCG
DESCRIPTION:
URL:https://scarfg.org/event/le-3-rented-uscg-14/
LOCATION:LE 50\, 21 Fish and Game Ln\, scarborough\, ME\, 04074\, United States
CATEGORIES:LE Rental Ranges
ORGANIZER;CN="GM 1 Kyle Honning":MAILTO:Kyle.M.Honning@uscg.mil
END:VEVENT
BEGIN:VEVENT
DTSTART;VALUE=DATE:20250421
DTEND;VALUE=DATE:20250422
DTSTAMP:20260422T075254
CREATED:20250414T174706Z
LAST-MODIFIED:20250414T174706Z
UID:10011651-1745193600-1745279999@scarfg.org
SUMMARY:LE 50 In Use-Scarb. PD
DESCRIPTION:
URL:https://scarfg.org/event/le-50-in-use-scarb-pd/
LOCATION:LE 50\, 21 Fish and Game Ln\, scarborough\, ME\, 04074\, United States
CATEGORIES:LE Rental Ranges
ORGANIZER;CN="Craig Hebert":MAILTO:chebert@scarboroughmaine.org
END:VEVENT
BEGIN:VEVENT
DTSTART;VALUE=DATE:20250420
DTEND;VALUE=DATE:20250503
DTSTAMP:20260422T075254
CREATED:20240129T175808Z
LAST-MODIFIED:20250324T172616Z
UID:10005074-1745107200-1746230399@scarfg.org
SUMMARY:LE 50 Rented-CCSO-Hovey
DESCRIPTION:
URL:https://scarfg.org/event/le-50-rented-ccso-hovey-8/
LOCATION:LE 50\, 21 Fish and Game Ln\, scarborough\, ME\, 04074\, United States
CATEGORIES:LE Rental Ranges
ORGANIZER;CN="Lt. Anthony Hovey":MAILTO:hovey@cumberlandcounty.org
END:VEVENT
BEGIN:VEVENT
DTSTART;VALUE=DATE:20250415
DTEND;VALUE=DATE:20250416
DTSTAMP:20260422T075254
CREATED:20250414T143523Z
LAST-MODIFIED:20250414T143523Z
UID:10011650-1744675200-1744761599@scarfg.org
SUMMARY:LE 50 Rented-CCSO/Hovey
DESCRIPTION:
URL:https://scarfg.org/event/le-50-rented-ccso-hovey-20/
LOCATION:LE 50\, 21 Fish and Game Ln\, scarborough\, ME\, 04074\, United States
CATEGORIES:LE Rental Ranges
ORGANIZER;CN="Lt. Anthony Hovey":MAILTO:hovey@cumberlandcounty.org
END:VEVENT
BEGIN:VEVENT
DTSTART;VALUE=DATE:20250407
DTEND;VALUE=DATE:20250412
DTSTAMP:20260422T075254
CREATED:20241112T011611Z
LAST-MODIFIED:20241112T011611Z
UID:10007641-1743984000-1744415999@scarfg.org
SUMMARY:LE 50 Rented-SPPD
DESCRIPTION:
URL:https://scarfg.org/event/le-50-rented-sppd-9/
LOCATION:LE 50\, 21 Fish and Game Ln\, scarborough\, ME\, 04074\, United States
CATEGORIES:LE Rental Ranges
END:VEVENT
BEGIN:VEVENT
DTSTART;VALUE=DATE:20250405
DTEND;VALUE=DATE:20250406
DTSTAMP:20260422T075254
CREATED:20250118T030003Z
LAST-MODIFIED:20250118T030003Z
UID:10010946-1743811200-1743897599@scarfg.org
SUMMARY:LE 50 IN USE-TRNG
DESCRIPTION:
URL:https://scarfg.org/event/le-50-in-use-trng-5/2025-04-05/
LOCATION:LE 50\, 21 Fish and Game Ln\, scarborough\, ME\, 04074\, United States
CATEGORIES:LE Rental Ranges
END:VEVENT
BEGIN:VEVENT
DTSTART;VALUE=DATE:20250403
DTEND;VALUE=DATE:20250404
DTSTAMP:20260422T075254
CREATED:20250327T143632Z
LAST-MODIFIED:20250327T143632Z
UID:10011467-1743638400-1743724799@scarfg.org
SUMMARY:LE 50 Rented-CCSO/Hovey
DESCRIPTION:
URL:https://scarfg.org/event/le-50-rented-ccso-hovey-19/
LOCATION:LE 50\, 21 Fish and Game Ln\, scarborough\, ME\, 04074\, United States
CATEGORIES:LE Rental Ranges
ORGANIZER;CN="Lt. Anthony Hovey":MAILTO:hovey@cumberlandcounty.org
END:VEVENT
BEGIN:VEVENT
DTSTART;VALUE=DATE:20250401
DTEND;VALUE=DATE:20250402
DTSTAMP:20260422T075254
CREATED:20250305T220522Z
LAST-MODIFIED:20250305T220522Z
UID:10011362-1743465600-1743551999@scarfg.org
SUMMARY:LE 50 Rented-CCSO/ESU
DESCRIPTION:
URL:https://scarfg.org/event/le-50-rented-ccso-esu-13/
LOCATION:LE 50\, 21 Fish and Game Ln\, scarborough\, ME\, 04074\, United States
CATEGORIES:LE Rental Ranges
ORGANIZER;CN="Sgt. Mark Marion":MAILTO:marion@cumberlandcounty.org
END:VEVENT
BEGIN:VEVENT
DTSTART;VALUE=DATE:20250331
DTEND;VALUE=DATE:20250401
DTSTAMP:20260422T075254
CREATED:20250314T145340Z
LAST-MODIFIED:20250314T145714Z
UID:10011402-1743379200-1743465599@scarfg.org
SUMMARY:LE 50 Rented-Cumberland PD-Lowlight
DESCRIPTION:
URL:https://scarfg.org/event/le-50-rented-cumberland-pd-7/
LOCATION:LE 50\, 21 Fish and Game Ln\, scarborough\, ME\, 04074\, United States
CATEGORIES:LE Rental Ranges
ORGANIZER;CN="Matt Merriman":MAILTO:mmerriman@cumberlandmaine.com
END:VEVENT
BEGIN:VEVENT
DTSTART;TZID=America/New_York:20250324T080000
DTEND;TZID=America/New_York:20250327T170000
DTSTAMP:20260422T075254
CREATED:20250125T195730Z
LAST-MODIFIED:20250125T195730Z
UID:10011185-1742803200-1743094800@scarfg.org
SUMMARY:LE 50 Rented-USCG
DESCRIPTION:
URL:https://scarfg.org/event/le-50-rented-uscg-45/
LOCATION:LE 50\, 21 Fish and Game Ln\, scarborough\, ME\, 04074\, United States
CATEGORIES:LE Rental Ranges
ORGANIZER;CN="GM 1 Kyle Honning":MAILTO:Kyle.M.Honning@uscg.mil
END:VEVENT
END:VCALENDAR