BEGIN:VCALENDAR
VERSION:2.0
PRODID:-//Scarborough Fish &amp; Game Association - ECPv6.15.20//NONSGML v1.0//EN
CALSCALE:GREGORIAN
METHOD:PUBLISH
X-ORIGINAL-URL:https://scarfg.org
X-WR-CALDESC:Events for Scarborough Fish &amp; Game Association
REFRESH-INTERVAL;VALUE=DURATION:PT1H
X-Robots-Tag:noindex
X-PUBLISHED-TTL:PT1H
BEGIN:VTIMEZONE
TZID:America/New_York
BEGIN:DAYLIGHT
TZOFFSETFROM:-0500
TZOFFSETTO:-0400
TZNAME:EDT
DTSTART:20240310T070000
END:DAYLIGHT
BEGIN:STANDARD
TZOFFSETFROM:-0400
TZOFFSETTO:-0500
TZNAME:EST
DTSTART:20241103T060000
END:STANDARD
BEGIN:DAYLIGHT
TZOFFSETFROM:-0500
TZOFFSETTO:-0400
TZNAME:EDT
DTSTART:20250309T070000
END:DAYLIGHT
BEGIN:STANDARD
TZOFFSETFROM:-0400
TZOFFSETTO:-0500
TZNAME:EST
DTSTART:20251102T060000
END:STANDARD
BEGIN:DAYLIGHT
TZOFFSETFROM:-0500
TZOFFSETTO:-0400
TZNAME:EDT
DTSTART:20260308T070000
END:DAYLIGHT
BEGIN:STANDARD
TZOFFSETFROM:-0400
TZOFFSETTO:-0500
TZNAME:EST
DTSTART:20261101T060000
END:STANDARD
BEGIN:DAYLIGHT
TZOFFSETFROM:-0500
TZOFFSETTO:-0400
TZNAME:EDT
DTSTART:20270314T070000
END:DAYLIGHT
BEGIN:STANDARD
TZOFFSETFROM:-0400
TZOFFSETTO:-0500
TZNAME:EST
DTSTART:20271107T060000
END:STANDARD
END:VTIMEZONE
BEGIN:VEVENT
DTSTART;VALUE=DATE:20260418
DTEND;VALUE=DATE:20260419
DTSTAMP:20260422T050817
CREATED:20250926T014925Z
LAST-MODIFIED:20250926T014925Z
UID:10012887-1776470400-1776556799@scarfg.org
SUMMARY:LE 50 & Clubhouse Rented
DESCRIPTION:Content is protected.
URL:https://scarfg.org/event/le-50-clubhouse-rented-2/2026-04-18/
LOCATION:LE 50\, 21 Fish and Game Ln\, scarborough\, ME\, 04074\, United States
CATEGORIES:LE Rental Ranges
END:VEVENT
BEGIN:VEVENT
DTSTART;VALUE=DATE:20260417
DTEND;VALUE=DATE:20260418
DTSTAMP:20260422T050817
CREATED:20251219T032404Z
LAST-MODIFIED:20251219T032404Z
UID:10013184-1776384000-1776470399@scarfg.org
SUMMARY:LE 50 Rented
DESCRIPTION:Content is protected.
URL:https://scarfg.org/event/le-50-rented-22/
LOCATION:LE 50\, 21 Fish and Game Ln\, scarborough\, ME\, 04074\, United States
CATEGORIES:LE Rental Ranges
END:VEVENT
BEGIN:VEVENT
DTSTART;VALUE=DATE:20260414
DTEND;VALUE=DATE:20260416
DTSTAMP:20260422T050817
CREATED:20260204T194408Z
LAST-MODIFIED:20260204T194408Z
UID:10013517-1776124800-1776297599@scarfg.org
SUMMARY:LE 50 Rented
DESCRIPTION:Content is protected.
URL:https://scarfg.org/event/le-50-rented-30/
LOCATION:LE 50\, 21 Fish and Game Ln\, scarborough\, ME\, 04074\, United States
CATEGORIES:LE Rental Ranges
END:VEVENT
BEGIN:VEVENT
DTSTART;VALUE=DATE:20260412
DTEND;VALUE=DATE:20260413
DTSTAMP:20260422T050817
CREATED:20260320T145852Z
LAST-MODIFIED:20260320T145852Z
UID:10013573-1775952000-1776038399@scarfg.org
SUMMARY:LE 50 Rented
DESCRIPTION:Content is protected.
URL:https://scarfg.org/event/le-50-rented-39/
LOCATION:LE 50\, 21 Fish and Game Ln\, scarborough\, ME\, 04074\, United States
CATEGORIES:LE Rental Ranges
END:VEVENT
BEGIN:VEVENT
DTSTART;TZID=America/New_York:20260402T120000
DTEND;TZID=America/New_York:20260402T170000
DTSTAMP:20260422T050817
CREATED:20260328T005900Z
LAST-MODIFIED:20260328T005900Z
UID:10013583-1775131200-1775149200@scarfg.org
SUMMARY:LE 50 Rented
DESCRIPTION:Content is protected.
URL:https://scarfg.org/event/le-50-rented-42/
LOCATION:LE 50\, 21 Fish and Game Ln\, scarborough\, ME\, 04074\, United States
CATEGORIES:LE Rental Ranges
END:VEVENT
BEGIN:VEVENT
DTSTART;VALUE=DATE:20260330
DTEND;VALUE=DATE:20260331
DTSTAMP:20260422T050817
CREATED:20250811T200153Z
LAST-MODIFIED:20250811T200153Z
UID:10012752-1774828800-1774915199@scarfg.org
SUMMARY:LE 50 Rented
DESCRIPTION:Content is protected.
URL:https://scarfg.org/event/le-50-rented-6/2026-03-30/
LOCATION:LE 50\, 21 Fish and Game Ln\, scarborough\, ME\, 04074\, United States
CATEGORIES:LE Rental Ranges
END:VEVENT
BEGIN:VEVENT
DTSTART;VALUE=DATE:20260327
DTEND;VALUE=DATE:20260328
DTSTAMP:20260422T050817
CREATED:20251214T150044Z
LAST-MODIFIED:20251214T150044Z
UID:10013170-1774569600-1774655999@scarfg.org
SUMMARY:LE 50 Rented - MCJA
DESCRIPTION:MCJA – Eric Paquette
URL:https://scarfg.org/event/le-50-rented-mcja/2026-03-27/
LOCATION:LE 50\, 21 Fish and Game Ln\, scarborough\, ME\, 04074\, United States
CATEGORIES:LE Rental Ranges
ORGANIZER;CN="Cpl. Eric Paquette":MAILTO:Eric.S.Paquette@Maine.Gov
END:VEVENT
BEGIN:VEVENT
DTSTART;VALUE=DATE:20260326
DTEND;VALUE=DATE:20260327
DTSTAMP:20260422T050817
CREATED:20260310T134333Z
LAST-MODIFIED:20260310T134333Z
UID:10013565-1774483200-1774569599@scarfg.org
SUMMARY:LE 50 Rented
DESCRIPTION:Content is protected.
URL:https://scarfg.org/event/le-50-rented-36/
LOCATION:LE 50\, 21 Fish and Game Ln\, scarborough\, ME\, 04074\, United States
CATEGORIES:LE Rental Ranges
END:VEVENT
BEGIN:VEVENT
DTSTART;VALUE=DATE:20260325
DTEND;VALUE=DATE:20260326
DTSTAMP:20260422T050817
CREATED:20260114T161756Z
LAST-MODIFIED:20260114T161756Z
UID:10013466-1774396800-1774483199@scarfg.org
SUMMARY:LE 50 Rented
DESCRIPTION:Content is protected.
URL:https://scarfg.org/event/le-50-rented-27/
LOCATION:LE 50\, 21 Fish and Game Ln\, scarborough\, ME\, 04074\, United States
CATEGORIES:LE Rental Ranges
END:VEVENT
BEGIN:VEVENT
DTSTART;VALUE=DATE:20260323
DTEND;VALUE=DATE:20260325
DTSTAMP:20260422T050817
CREATED:20251007T012741Z
LAST-MODIFIED:20251007T012741Z
UID:10012943-1774224000-1774396799@scarfg.org
SUMMARY:LE 50 Rented
DESCRIPTION:Content is protected.
URL:https://scarfg.org/event/le-50-rented-14/
LOCATION:LE 50\, 21 Fish and Game Ln\, scarborough\, ME\, 04074\, United States
CATEGORIES:LE Rental Ranges
END:VEVENT
BEGIN:VEVENT
DTSTART;VALUE=DATE:20260321
DTEND;VALUE=DATE:20260322
DTSTAMP:20260422T050817
CREATED:20251007T173922Z
LAST-MODIFIED:20251007T173922Z
UID:10012952-1774051200-1774137599@scarfg.org
SUMMARY:LE 50 in Use-Training
DESCRIPTION:
URL:https://scarfg.org/event/le-50-in-use-training-3/2026-03-21/
LOCATION:LE 50\, 21 Fish and Game Ln\, scarborough\, ME\, 04074\, United States
CATEGORIES:LE Rental Ranges
END:VEVENT
BEGIN:VEVENT
DTSTART;VALUE=DATE:20260320
DTEND;VALUE=DATE:20260321
DTSTAMP:20260422T050817
CREATED:20260311T141747Z
LAST-MODIFIED:20260311T141747Z
UID:10013566-1773964800-1774051199@scarfg.org
SUMMARY:LE 50 Rented
DESCRIPTION:Content is protected.
URL:https://scarfg.org/event/le-50-rented-37/
LOCATION:LE 50\, 21 Fish and Game Ln\, scarborough\, ME\, 04074\, United States
CATEGORIES:LE Rental Ranges
END:VEVENT
BEGIN:VEVENT
DTSTART;VALUE=DATE:20260316
DTEND;VALUE=DATE:20260320
DTSTAMP:20260422T050817
CREATED:20251007T012554Z
LAST-MODIFIED:20251007T012554Z
UID:10012942-1773619200-1773964799@scarfg.org
SUMMARY:LE 50 Rented
DESCRIPTION:Content is protected.
URL:https://scarfg.org/event/le-50-rented-13/
LOCATION:LE 50\, 21 Fish and Game Ln\, scarborough\, ME\, 04074\, United States
CATEGORIES:LE Rental Ranges
END:VEVENT
BEGIN:VEVENT
DTSTART;VALUE=DATE:20260313
DTEND;VALUE=DATE:20260314
DTSTAMP:20260422T050817
CREATED:20250910T155658Z
LAST-MODIFIED:20250910T160453Z
UID:10012780-1773360000-1773446399@scarfg.org
SUMMARY:LE 50 Rented
DESCRIPTION:Content is protected.
URL:https://scarfg.org/event/le-50-rented-10/
LOCATION:LE 50\, 21 Fish and Game Ln\, scarborough\, ME\, 04074\, United States
CATEGORIES:LE Rental Ranges
END:VEVENT
BEGIN:VEVENT
DTSTART;VALUE=DATE:20260311
DTEND;VALUE=DATE:20260313
DTSTAMP:20260422T050817
CREATED:20260306T180851Z
LAST-MODIFIED:20260306T180851Z
UID:10013556-1773187200-1773359999@scarfg.org
SUMMARY:LE 50 Rented
DESCRIPTION:Content is protected.
URL:https://scarfg.org/event/le-50-rented-35/
LOCATION:LE 50\, 21 Fish and Game Ln\, scarborough\, ME\, 04074\, United States
CATEGORIES:LE Rental Ranges
END:VEVENT
BEGIN:VEVENT
DTSTART;VALUE=DATE:20260310
DTEND;VALUE=DATE:20260311
DTSTAMP:20260422T050817
CREATED:20250619T150832Z
LAST-MODIFIED:20251204T154836Z
UID:10012430-1773100800-1773187199@scarfg.org
SUMMARY:LE 50 Rented-Lowlight
DESCRIPTION:Content is protected.
URL:https://scarfg.org/event/le-50-rented-cbp-lowlight-2/
LOCATION:LE 50\, 21 Fish and Game Ln\, scarborough\, ME\, 04074\, United States
CATEGORIES:LE Rental Ranges
ORGANIZER;CN="COTE%2C ISAAC D <ISAAC.D.COTE@cbp.dhs.gov>":MAILTO:ISAAC.D.COTE@cbp.dhs.gov
END:VEVENT
BEGIN:VEVENT
DTSTART;VALUE=DATE:20260309
DTEND;VALUE=DATE:20260310
DTSTAMP:20260422T050817
CREATED:20251007T012404Z
LAST-MODIFIED:20251007T012404Z
UID:10012941-1773014400-1773100799@scarfg.org
SUMMARY:LE 50 Rented
DESCRIPTION:Content is protected.
URL:https://scarfg.org/event/le-50-rented-12/
LOCATION:LE 50\, 21 Fish and Game Ln\, scarborough\, ME\, 04074\, United States
CATEGORIES:LE Rental Ranges
END:VEVENT
BEGIN:VEVENT
DTSTART;VALUE=DATE:20260304
DTEND;VALUE=DATE:20260307
DTSTAMP:20260422T050817
CREATED:20250619T150643Z
LAST-MODIFIED:20251204T155213Z
UID:10012429-1772582400-1772841599@scarfg.org
SUMMARY:LE 50 rented-Lowlight
DESCRIPTION:Content is protected.
URL:https://scarfg.org/event/le-50-rented-cbp-lowlight/
LOCATION:LE 50\, 21 Fish and Game Ln\, scarborough\, ME\, 04074\, United States
CATEGORIES:LE Rental Ranges
ORGANIZER;CN="COTE%2C ISAAC D <ISAAC.D.COTE@cbp.dhs.gov>":MAILTO:ISAAC.D.COTE@cbp.dhs.gov
END:VEVENT
BEGIN:VEVENT
DTSTART;VALUE=DATE:20260302
DTEND;VALUE=DATE:20260304
DTSTAMP:20260422T050817
CREATED:20251007T012224Z
LAST-MODIFIED:20251007T012224Z
UID:10012940-1772409600-1772582399@scarfg.org
SUMMARY:LE 50 Rented
DESCRIPTION:Content is protected.
URL:https://scarfg.org/event/le-50-rented-11/
LOCATION:LE 50\, 21 Fish and Game Ln\, scarborough\, ME\, 04074\, United States
CATEGORIES:LE Rental Ranges
END:VEVENT
BEGIN:VEVENT
DTSTART;VALUE=DATE:20260227
DTEND;VALUE=DATE:20260228
DTSTAMP:20260422T050817
CREATED:20251204T155032Z
LAST-MODIFIED:20251204T155032Z
UID:10013115-1772150400-1772236799@scarfg.org
SUMMARY:LE 50 Rented - Lowlight
DESCRIPTION:Content is protected.
URL:https://scarfg.org/event/le-50-rented-lowlight-2/
LOCATION:LE 50\, 21 Fish and Game Ln\, scarborough\, ME\, 04074\, United States
CATEGORIES:LE Rental Ranges
END:VEVENT
BEGIN:VEVENT
DTSTART;VALUE=DATE:20260226
DTEND;VALUE=DATE:20260227
DTSTAMP:20260422T050817
CREATED:20260113T151749Z
LAST-MODIFIED:20260224T170016Z
UID:10013463-1772064000-1772150399@scarfg.org
SUMMARY:LE 50 Rented
DESCRIPTION:Content is protected.
URL:https://scarfg.org/event/le-50-rented-26/
LOCATION:LE 50\, 21 Fish and Game Ln\, scarborough\, ME\, 04074\, United States
CATEGORIES:LE Rental Ranges
END:VEVENT
BEGIN:VEVENT
DTSTART;VALUE=DATE:20260210
DTEND;VALUE=DATE:20260211
DTSTAMP:20260422T050817
CREATED:20260203T214901Z
LAST-MODIFIED:20260203T214901Z
UID:10013516-1770681600-1770767999@scarfg.org
SUMMARY:LE 50 Rented
DESCRIPTION:Content is protected.
URL:https://scarfg.org/event/le-50-rented-29/
LOCATION:LE 50\, 21 Fish and Game Ln\, scarborough\, ME\, 04074\, United States
CATEGORIES:LE Rental Ranges
END:VEVENT
BEGIN:VEVENT
DTSTART;VALUE=DATE:20260121
DTEND;VALUE=DATE:20260122
DTSTAMP:20260422T050817
CREATED:20260116T152016Z
LAST-MODIFIED:20260116T152016Z
UID:10013470-1768953600-1769039999@scarfg.org
SUMMARY:LE 50 Rented
DESCRIPTION:Content is protected.
URL:https://scarfg.org/event/le-50-rented-28/
LOCATION:LE 50\, 21 Fish and Game Ln\, scarborough\, ME\, 04074\, United States
CATEGORIES:LE Rental Ranges
END:VEVENT
BEGIN:VEVENT
DTSTART;VALUE=DATE:20260113
DTEND;VALUE=DATE:20260114
DTSTAMP:20260422T050817
CREATED:20260105T151214Z
LAST-MODIFIED:20260105T151214Z
UID:10013352-1768262400-1768348799@scarfg.org
SUMMARY:LE 50 Rented
DESCRIPTION:Content is protected.
URL:https://scarfg.org/event/le-50-rented-24/
LOCATION:LE 50\, 21 Fish and Game Ln\, scarborough\, ME\, 04074\, United States
CATEGORIES:LE Rental Ranges
END:VEVENT
BEGIN:VEVENT
DTSTART;VALUE=DATE:20260105
DTEND;VALUE=DATE:20260109
DTSTAMP:20260422T050817
CREATED:20251211T034859Z
LAST-MODIFIED:20251211T034859Z
UID:10013164-1767571200-1767916799@scarfg.org
SUMMARY:LE 50 Rented
DESCRIPTION:Content is protected.
URL:https://scarfg.org/event/le-50-rented-21/
LOCATION:LE 50\, 21 Fish and Game Ln\, scarborough\, ME\, 04074\, United States
CATEGORIES:LE Rental Ranges
END:VEVENT
BEGIN:VEVENT
DTSTART;VALUE=DATE:20251230
DTEND;VALUE=DATE:20251231
DTSTAMP:20260422T050817
CREATED:20251118T160513Z
LAST-MODIFIED:20251118T160513Z
UID:10013077-1767052800-1767139199@scarfg.org
SUMMARY:LE 50 Rented
DESCRIPTION:Content is protected.
URL:https://scarfg.org/event/le-50-rented-17/
LOCATION:LE 50\, 21 Fish and Game Ln\, scarborough\, ME\, 04074\, United States
CATEGORIES:LE Rental Ranges
END:VEVENT
BEGIN:VEVENT
DTSTART;VALUE=DATE:20251223
DTEND;VALUE=DATE:20251224
DTSTAMP:20260422T050817
CREATED:20251205T180324Z
LAST-MODIFIED:20251205T180325Z
UID:10012947-1766448000-1766534399@scarfg.org
SUMMARY:LE 50 Rented
DESCRIPTION:Content is protected.
URL:https://scarfg.org/event/le-rifle-rented-18-2/
LOCATION:LE 50\, 21 Fish and Game Ln\, scarborough\, ME\, 04074\, United States
CATEGORIES:LE Rental Ranges
END:VEVENT
BEGIN:VEVENT
DTSTART;VALUE=DATE:20251215
DTEND;VALUE=DATE:20251216
DTSTAMP:20260422T050817
CREATED:20251210T134626Z
LAST-MODIFIED:20251210T134626Z
UID:10013163-1765756800-1765843199@scarfg.org
SUMMARY:LE 50 Rented
DESCRIPTION:Content is protected.
URL:https://scarfg.org/event/le-50-rented-20/
LOCATION:LE 50\, 21 Fish and Game Ln\, scarborough\, ME\, 04074\, United States
CATEGORIES:LE Rental Ranges
END:VEVENT
BEGIN:VEVENT
DTSTART;VALUE=DATE:20251213
DTEND;VALUE=DATE:20251214
DTSTAMP:20260422T050817
CREATED:20250118T152058Z
LAST-MODIFIED:20250118T152058Z
UID:10010955-1765584000-1765670399@scarfg.org
SUMMARY:LE 50 IN USE-TRNG
DESCRIPTION:
URL:https://scarfg.org/event/le-50-in-use-trng-6/
LOCATION:LE 50\, 21 Fish and Game Ln\, scarborough\, ME\, 04074\, United States
CATEGORIES:LE Rental Ranges
END:VEVENT
BEGIN:VEVENT
DTSTART;VALUE=DATE:20251212
DTEND;VALUE=DATE:20251213
DTSTAMP:20260422T050817
CREATED:20251205T133008Z
LAST-MODIFIED:20251205T133008Z
UID:10013116-1765497600-1765583999@scarfg.org
SUMMARY:LE 50 Rented
DESCRIPTION:Content is protected.
URL:https://scarfg.org/event/le-50-rented-19/
LOCATION:LE 50\, 21 Fish and Game Ln\, scarborough\, ME\, 04074\, United States
CATEGORIES:LE Rental Ranges
END:VEVENT
END:VCALENDAR