BEGIN:VCALENDAR
VERSION:2.0
PRODID:-//Scarborough Fish &amp; Game Association - ECPv6.15.20//NONSGML v1.0//EN
CALSCALE:GREGORIAN
METHOD:PUBLISH
X-WR-CALNAME:Scarborough Fish &amp; Game Association
X-ORIGINAL-URL:https://scarfg.org
X-WR-CALDESC:Events for Scarborough Fish &amp; Game Association
REFRESH-INTERVAL;VALUE=DURATION:PT1H
X-Robots-Tag:noindex
X-PUBLISHED-TTL:PT1H
BEGIN:VTIMEZONE
TZID:America/New_York
BEGIN:DAYLIGHT
TZOFFSETFROM:-0500
TZOFFSETTO:-0400
TZNAME:EDT
DTSTART:20210314T070000
END:DAYLIGHT
BEGIN:STANDARD
TZOFFSETFROM:-0400
TZOFFSETTO:-0500
TZNAME:EST
DTSTART:20211107T060000
END:STANDARD
BEGIN:DAYLIGHT
TZOFFSETFROM:-0500
TZOFFSETTO:-0400
TZNAME:EDT
DTSTART:20220313T070000
END:DAYLIGHT
BEGIN:STANDARD
TZOFFSETFROM:-0400
TZOFFSETTO:-0500
TZNAME:EST
DTSTART:20221106T060000
END:STANDARD
BEGIN:DAYLIGHT
TZOFFSETFROM:-0500
TZOFFSETTO:-0400
TZNAME:EDT
DTSTART:20230312T070000
END:DAYLIGHT
BEGIN:STANDARD
TZOFFSETFROM:-0400
TZOFFSETTO:-0500
TZNAME:EST
DTSTART:20231105T060000
END:STANDARD
BEGIN:DAYLIGHT
TZOFFSETFROM:-0500
TZOFFSETTO:-0400
TZNAME:EDT
DTSTART:20240310T070000
END:DAYLIGHT
BEGIN:STANDARD
TZOFFSETFROM:-0400
TZOFFSETTO:-0500
TZNAME:EST
DTSTART:20241103T060000
END:STANDARD
BEGIN:DAYLIGHT
TZOFFSETFROM:-0500
TZOFFSETTO:-0400
TZNAME:EDT
DTSTART:20250309T070000
END:DAYLIGHT
BEGIN:STANDARD
TZOFFSETFROM:-0400
TZOFFSETTO:-0500
TZNAME:EST
DTSTART:20251102T060000
END:STANDARD
BEGIN:DAYLIGHT
TZOFFSETFROM:-0500
TZOFFSETTO:-0400
TZNAME:EDT
DTSTART:20260308T070000
END:DAYLIGHT
BEGIN:STANDARD
TZOFFSETFROM:-0400
TZOFFSETTO:-0500
TZNAME:EST
DTSTART:20261101T060000
END:STANDARD
END:VTIMEZONE
BEGIN:VEVENT
DTSTART;VALUE=DATE:20251106
DTEND;VALUE=DATE:20251108
DTSTAMP:20260424T234942
CREATED:20250102T145248Z
LAST-MODIFIED:20250102T145248Z
UID:10010892-1762387200-1762559999@scarfg.org
SUMMARY:LE 50 Rented-Lowlight-Cumberland PD
DESCRIPTION:
URL:https://scarfg.org/event/le-50-rented-lowlight-cumberland-pd/
LOCATION:LE 50\, 21 Fish and Game Ln\, scarborough\, ME\, 04074\, United States
CATEGORIES:LE Rental Ranges
ORGANIZER;CN="Anthony Ciampi":MAILTO:Anthony.Ciampi@Biddefordmaine.org
END:VEVENT
BEGIN:VEVENT
DTSTART;VALUE=DATE:20251020
DTEND;VALUE=DATE:20251025
DTSTAMP:20260424T234942
CREATED:20240129T174613Z
LAST-MODIFIED:20240129T174613Z
UID:10005072-1760918400-1761350399@scarfg.org
SUMMARY:LE 50 Rented-Biddeford PD-Lowlight
DESCRIPTION:
URL:https://scarfg.org/event/le-50-rented-biddeford-pd-lowlight-2/
LOCATION:LE 50\, 21 Fish and Game Ln\, scarborough\, ME\, 04074\, United States
CATEGORIES:LE Rental Ranges
ORGANIZER;CN="Anthony Ciampi":MAILTO:Anthony.Ciampi@Biddefordmaine.org
END:VEVENT
BEGIN:VEVENT
DTSTART;VALUE=DATE:20250922
DTEND;VALUE=DATE:20250927
DTSTAMP:20260424T234942
CREATED:20240129T174431Z
LAST-MODIFIED:20240129T174431Z
UID:10005070-1758499200-1758931199@scarfg.org
SUMMARY:LE Rifle Rented-Biddeford PD
DESCRIPTION:
URL:https://scarfg.org/event/le-rifle-rented-biddeford-pd/
LOCATION:LE Rifle\, 21 Fish and Game Ln\, scarborough\, ME\, 07047\, United States
CATEGORIES:LE Rental Ranges
ORGANIZER;CN="Anthony Ciampi":MAILTO:Anthony.Ciampi@Biddefordmaine.org
END:VEVENT
BEGIN:VEVENT
DTSTART;VALUE=DATE:20250802
DTEND;VALUE=DATE:20250803
DTSTAMP:20260424T234942
CREATED:20250702T015633Z
LAST-MODIFIED:20250702T015659Z
UID:10012708-1754092800-1754179199@scarfg.org
SUMMARY:LE 50 Rented-
DESCRIPTION:Content is protected.
URL:https://scarfg.org/event/le-50-rented/
LOCATION:LE 50\, 21 Fish and Game Ln\, scarborough\, ME\, 04074\, United States
CATEGORIES:LE Rental Ranges
ORGANIZER;CN="Anthony Ciampi":MAILTO:Anthony.Ciampi@Biddefordmaine.org
END:VEVENT
BEGIN:VEVENT
DTSTART;VALUE=DATE:20250614
DTEND;VALUE=DATE:20250615
DTSTAMP:20260424T234942
CREATED:20250429T141638Z
LAST-MODIFIED:20250516T140959Z
UID:10011655-1749859200-1749945599@scarfg.org
SUMMARY:LE 3 Rented-New Life
DESCRIPTION:
URL:https://scarfg.org/event/le-rifle-rented-new-life/
LOCATION:LE Rifle\, 21 Fish and Game Ln\, scarborough\, ME\, 07047\, United States
CATEGORIES:LE Rental Ranges
ORGANIZER;CN="Anthony Ciampi":MAILTO:Anthony.Ciampi@Biddefordmaine.org
END:VEVENT
BEGIN:VEVENT
DTSTART;VALUE=DATE:20250512
DTEND;VALUE=DATE:20250517
DTSTAMP:20260424T234942
CREATED:20240129T174142Z
LAST-MODIFIED:20240129T174142Z
UID:10005586-1747008000-1747439999@scarfg.org
SUMMARY:LE 50 Rented-Biddeford PD
DESCRIPTION:
URL:https://scarfg.org/event/le-50-rented-biddeford-pd-3/
LOCATION:LE 50\, 21 Fish and Game Ln\, scarborough\, ME\, 04074\, United States
CATEGORIES:LE Rental Ranges
ORGANIZER;CN="Anthony Ciampi":MAILTO:Anthony.Ciampi@Biddefordmaine.org
END:VEVENT
BEGIN:VEVENT
DTSTART;VALUE=DATE:20250102
DTEND;VALUE=DATE:20250103
DTSTAMP:20260424T234942
CREATED:20241226T171739Z
LAST-MODIFIED:20241226T171739Z
UID:10007768-1735776000-1735862399@scarfg.org
SUMMARY:LE Rifle Rented- Biddeford PD
DESCRIPTION:
URL:https://scarfg.org/event/le-rifle-rented-biddeford-pd-4/
LOCATION:LE Rifle\, 21 Fish and Game Ln\, scarborough\, ME\, 07047\, United States
CATEGORIES:LE Rental Ranges
ORGANIZER;CN="Anthony Ciampi":MAILTO:Anthony.Ciampi@Biddefordmaine.org
END:VEVENT
BEGIN:VEVENT
DTSTART;VALUE=DATE:20241118
DTEND;VALUE=DATE:20241119
DTSTAMP:20260424T234942
CREATED:20241107T002557Z
LAST-MODIFIED:20241107T002557Z
UID:10007627-1731888000-1731974399@scarfg.org
SUMMARY:LE 3 Rented-Biddeford PD
DESCRIPTION:
URL:https://scarfg.org/event/le-3-rented-biddeford-pd-13/
LOCATION:LE 3\, 21 Fish and Game Ln\, Scarborough\, ME\, 04072\, United States
CATEGORIES:LE Rental Ranges
ORGANIZER;CN="Anthony Ciampi":MAILTO:Anthony.Ciampi@Biddefordmaine.org
END:VEVENT
BEGIN:VEVENT
DTSTART;VALUE=DATE:20241021
DTEND;VALUE=DATE:20241026
DTSTAMP:20260424T234942
CREATED:20230213T162258Z
LAST-MODIFIED:20230823T133925Z
UID:10004729-1729468800-1729900799@scarfg.org
SUMMARY:LE Rifle-Rented-Biddeford PD-Lowlight
DESCRIPTION:
URL:https://scarfg.org/event/le-3-rented-biddeford-pd-lowlight-2/
LOCATION:LE Rifle\, 21 Fish and Game Ln\, scarborough\, ME\, 07047\, United States
CATEGORIES:LE Rental Ranges
ORGANIZER;CN="Anthony Ciampi":MAILTO:Anthony.Ciampi@Biddefordmaine.org
END:VEVENT
BEGIN:VEVENT
DTSTART;VALUE=DATE:20241012
DTEND;VALUE=DATE:20241013
DTSTAMP:20260424T234942
CREATED:20240626T154100Z
LAST-MODIFIED:20240824T200907Z
UID:10006985-1728691200-1728777599@scarfg.org
SUMMARY:LE 3 Rented-NewLife/AC
DESCRIPTION:
URL:https://scarfg.org/event/le-3-rented-newlife-ac-2/
LOCATION:LE 3\, 21 Fish and Game Ln\, Scarborough\, ME\, 04072\, United States
CATEGORIES:LE Rental Ranges
ORGANIZER;CN="Anthony Ciampi":MAILTO:Anthony.Ciampi@Biddefordmaine.org
END:VEVENT
BEGIN:VEVENT
DTSTART;VALUE=DATE:20240928
DTEND;VALUE=DATE:20240929
DTSTAMP:20260424T234942
CREATED:20240805T030419Z
LAST-MODIFIED:20240824T200737Z
UID:10007216-1727481600-1727567999@scarfg.org
SUMMARY:LE 3 Rented-Newlife/AC
DESCRIPTION:
URL:https://scarfg.org/event/le-3-rented-newlife-ac/
LOCATION:LE 3\, 21 Fish and Game Ln\, Scarborough\, ME\, 04072\, United States
CATEGORIES:LE Rental Ranges
ORGANIZER;CN="Anthony Ciampi":MAILTO:Anthony.Ciampi@Biddefordmaine.org
END:VEVENT
BEGIN:VEVENT
DTSTART;VALUE=DATE:20240923
DTEND;VALUE=DATE:20240928
DTSTAMP:20260424T234942
CREATED:20230213T162121Z
LAST-MODIFIED:20230213T162121Z
UID:10004728-1727049600-1727481599@scarfg.org
SUMMARY:LE 50 Rented-Biddeford PD
DESCRIPTION:
URL:https://scarfg.org/event/le-50-rented-biddeford-pd/
LOCATION:LE 50\, 21 Fish and Game Ln\, scarborough\, ME\, 04074\, United States
CATEGORIES:LE Rental Ranges
ORGANIZER;CN="Anthony Ciampi":MAILTO:Anthony.Ciampi@Biddefordmaine.org
END:VEVENT
BEGIN:VEVENT
DTSTART;VALUE=DATE:20240615
DTEND;VALUE=DATE:20240616
DTSTAMP:20260424T234942
CREATED:20240523T145008Z
LAST-MODIFIED:20240523T145008Z
UID:10006276-1718409600-1718495999@scarfg.org
SUMMARY:LE 3 Rented-Biddeford PD
DESCRIPTION:
URL:https://scarfg.org/event/le-3-rented-biddeford-pd-10/
LOCATION:LE 3\, 21 Fish and Game Ln\, Scarborough\, ME\, 04072\, United States
CATEGORIES:LE Rental Ranges
ORGANIZER;CN="Anthony Ciampi":MAILTO:Anthony.Ciampi@Biddefordmaine.org
END:VEVENT
BEGIN:VEVENT
DTSTART;VALUE=DATE:20240520
DTEND;VALUE=DATE:20240525
DTSTAMP:20260424T234942
CREATED:20230213T161935Z
LAST-MODIFIED:20230213T161935Z
UID:10004727-1716163200-1716595199@scarfg.org
SUMMARY:LE 3 Rented-Biddeford PD
DESCRIPTION:
URL:https://scarfg.org/event/le-3-rented-biddeford-pd-8/
LOCATION:LE 3\, 21 Fish and Game Ln\, Scarborough\, ME\, 04072\, United States
CATEGORIES:LE Rental Ranges
ORGANIZER;CN="Anthony Ciampi":MAILTO:Anthony.Ciampi@Biddefordmaine.org
END:VEVENT
BEGIN:VEVENT
DTSTART;VALUE=DATE:20240315
DTEND;VALUE=DATE:20240316
DTSTAMP:20260424T234942
CREATED:20240223T144042Z
LAST-MODIFIED:20240223T144042Z
UID:10005627-1710460800-1710547199@scarfg.org
SUMMARY:LE 3 Rented-Biddeford PD
DESCRIPTION:
URL:https://scarfg.org/event/le-3-rented-biddeford-pd-9/
LOCATION:LE 3\, 21 Fish and Game Ln\, Scarborough\, ME\, 04072\, United States
CATEGORIES:LE Rental Ranges
ORGANIZER;CN="Anthony Ciampi":MAILTO:Anthony.Ciampi@Biddefordmaine.org
END:VEVENT
BEGIN:VEVENT
DTSTART;VALUE=DATE:20230925
DTEND;VALUE=DATE:20230930
DTSTAMP:20260424T234942
CREATED:20220803T204740Z
LAST-MODIFIED:20220803T204740Z
UID:10004835-1695600000-1696031999@scarfg.org
SUMMARY:LE 3 Rented-Bidd. PD
DESCRIPTION:
URL:https://scarfg.org/event/le-3-rented-bidd-pd/
LOCATION:LE 3\, 21 Fish and Game Ln\, Scarborough\, ME\, 04072\, United States
CATEGORIES:LE Rental Ranges
ORGANIZER;CN="Anthony Ciampi":MAILTO:Anthony.Ciampi@Biddefordmaine.org
END:VEVENT
BEGIN:VEVENT
DTSTART;VALUE=DATE:20230501
DTEND;VALUE=DATE:20230506
DTSTAMP:20260424T234942
CREATED:20220803T204539Z
LAST-MODIFIED:20220803T204539Z
UID:10004833-1682899200-1683331199@scarfg.org
SUMMARY:LE 50 Rented-Bidd. PD
DESCRIPTION:
URL:https://scarfg.org/event/le-50-rented-bidd-pd/
CATEGORIES:LE Rental Ranges
ORGANIZER;CN="Anthony Ciampi":MAILTO:Anthony.Ciampi@Biddefordmaine.org
END:VEVENT
BEGIN:VEVENT
DTSTART;VALUE=DATE:20221208
DTEND;VALUE=DATE:20221209
DTSTAMP:20260424T234942
CREATED:20221205T173749Z
LAST-MODIFIED:20221205T173749Z
UID:10004547-1670457600-1670543999@scarfg.org
SUMMARY:LE Rifle Rented-Biddeford PD
DESCRIPTION:
URL:https://scarfg.org/event/le-rifle-rented-biddeford-pd-3/
LOCATION:LE Rifle\, 21 Fish and Game Ln\, scarborough\, ME\, 07047\, United States
CATEGORIES:LE Rental Ranges
ORGANIZER;CN="Anthony Ciampi":MAILTO:Anthony.Ciampi@Biddefordmaine.org
END:VEVENT
BEGIN:VEVENT
DTSTART;VALUE=DATE:20221110
DTEND;VALUE=DATE:20221111
DTSTAMP:20260424T234942
CREATED:20221025T154349Z
LAST-MODIFIED:20221025T154349Z
UID:10004496-1668038400-1668124799@scarfg.org
SUMMARY:LE Rifle Rented-Biddeford PD-Lowlight
DESCRIPTION:
URL:https://scarfg.org/event/le-rifle-rented-biddeford-pd-lowlight-2/
LOCATION:LE Rifle\, 21 Fish and Game Ln\, scarborough\, ME\, 07047\, United States
CATEGORIES:LE Rental Ranges
ORGANIZER;CN="Anthony Ciampi":MAILTO:Anthony.Ciampi@Biddefordmaine.org
END:VEVENT
BEGIN:VEVENT
DTSTART;VALUE=DATE:20221107
DTEND;VALUE=DATE:20221108
DTSTAMP:20260424T234942
CREATED:20221105T142619Z
LAST-MODIFIED:20221105T142619Z
UID:10004507-1667779200-1667865599@scarfg.org
SUMMARY:LE 3 Range Rented-Biddeford PD-Lowlight
DESCRIPTION:
URL:https://scarfg.org/event/le-3-range-rented-biddeford-pd-lowlight/
LOCATION:LE 3\, 21 Fish and Game Ln\, Scarborough\, ME\, 04072\, United States
CATEGORIES:LE Rental Ranges
ORGANIZER;CN="Anthony Ciampi":MAILTO:Anthony.Ciampi@Biddefordmaine.org
END:VEVENT
BEGIN:VEVENT
DTSTART;VALUE=DATE:20220829
DTEND;VALUE=DATE:20220830
DTSTAMP:20260424T234942
CREATED:20220819T155715Z
LAST-MODIFIED:20220819T155715Z
UID:10004471-1661731200-1661817599@scarfg.org
SUMMARY:LE 3 Rented-Biddeford PD
DESCRIPTION:
URL:https://scarfg.org/event/le-3-rented-biddeford-pd-7/
LOCATION:LE 3\, 21 Fish and Game Ln\, Scarborough\, ME\, 04072\, United States
CATEGORIES:LE Rental Ranges
ORGANIZER;CN="Anthony Ciampi":MAILTO:Anthony.Ciampi@Biddefordmaine.org
END:VEVENT
BEGIN:VEVENT
DTSTART;TZID=America/New_York:20220721T080000
DTEND;TZID=America/New_York:20220721T090000
DTSTAMP:20260424T234942
CREATED:20220719T152259Z
LAST-MODIFIED:20220719T152259Z
UID:10004820-1658390400-1658394000@scarfg.org
SUMMARY:LE 50 in use-Bidd.PD
DESCRIPTION:
URL:https://scarfg.org/event/le-50-in-use-bidd-pd/
CATEGORIES:LE Rental Ranges
ORGANIZER;CN="Anthony Ciampi":MAILTO:Anthony.Ciampi@Biddefordmaine.org
END:VEVENT
END:VCALENDAR