BEGIN:VCALENDAR
VERSION:2.0
PRODID:-//Scarborough Fish &amp; Game Association - ECPv6.15.20//NONSGML v1.0//EN
CALSCALE:GREGORIAN
METHOD:PUBLISH
X-ORIGINAL-URL:https://scarfg.org
X-WR-CALDESC:Events for Scarborough Fish &amp; Game Association
REFRESH-INTERVAL;VALUE=DURATION:PT1H
X-Robots-Tag:noindex
X-PUBLISHED-TTL:PT1H
BEGIN:VTIMEZONE
TZID:America/New_York
BEGIN:DAYLIGHT
TZOFFSETFROM:-0500
TZOFFSETTO:-0400
TZNAME:EDT
DTSTART:20210314T070000
END:DAYLIGHT
BEGIN:STANDARD
TZOFFSETFROM:-0400
TZOFFSETTO:-0500
TZNAME:EST
DTSTART:20211107T060000
END:STANDARD
BEGIN:DAYLIGHT
TZOFFSETFROM:-0500
TZOFFSETTO:-0400
TZNAME:EDT
DTSTART:20220313T070000
END:DAYLIGHT
BEGIN:STANDARD
TZOFFSETFROM:-0400
TZOFFSETTO:-0500
TZNAME:EST
DTSTART:20221106T060000
END:STANDARD
BEGIN:DAYLIGHT
TZOFFSETFROM:-0500
TZOFFSETTO:-0400
TZNAME:EDT
DTSTART:20230312T070000
END:DAYLIGHT
BEGIN:STANDARD
TZOFFSETFROM:-0400
TZOFFSETTO:-0500
TZNAME:EST
DTSTART:20231105T060000
END:STANDARD
BEGIN:DAYLIGHT
TZOFFSETFROM:-0500
TZOFFSETTO:-0400
TZNAME:EDT
DTSTART:20240310T070000
END:DAYLIGHT
BEGIN:STANDARD
TZOFFSETFROM:-0400
TZOFFSETTO:-0500
TZNAME:EST
DTSTART:20241103T060000
END:STANDARD
BEGIN:DAYLIGHT
TZOFFSETFROM:-0500
TZOFFSETTO:-0400
TZNAME:EDT
DTSTART:20250309T070000
END:DAYLIGHT
BEGIN:STANDARD
TZOFFSETFROM:-0400
TZOFFSETTO:-0500
TZNAME:EST
DTSTART:20251102T060000
END:STANDARD
BEGIN:DAYLIGHT
TZOFFSETFROM:-0500
TZOFFSETTO:-0400
TZNAME:EDT
DTSTART:20260308T070000
END:DAYLIGHT
BEGIN:STANDARD
TZOFFSETFROM:-0400
TZOFFSETTO:-0500
TZNAME:EST
DTSTART:20261101T060000
END:STANDARD
END:VTIMEZONE
BEGIN:VEVENT
DTSTART;VALUE=DATE:20251107
DTEND;VALUE=DATE:20251108
DTSTAMP:20260421T174415
CREATED:20240904T191515Z
LAST-MODIFIED:20240904T191515Z
UID:10007275-1762502400-1762534800@scarfg.org
SUMMARY:LE Rifle Rented-DEA
DESCRIPTION:
URL:https://scarfg.org/event/le-rifle-rented-dea-7/2025-11-07/
LOCATION:LE Rifle\, 21 Fish and Game Ln\, scarborough\, ME\, 07047\, United States
CATEGORIES:LE Rental Ranges
ORGANIZER;CN="Robert Prouty":MAILTO:Robert.P.Prouty@dea.gov
END:VEVENT
BEGIN:VEVENT
DTSTART;VALUE=DATE:20250627
DTEND;VALUE=DATE:20250628
DTSTAMP:20260421T174415
CREATED:20240904T191515Z
LAST-MODIFIED:20240904T191515Z
UID:10007274-1750982400-1751068799@scarfg.org
SUMMARY:LE Rifle Rented-DEA
DESCRIPTION:
URL:https://scarfg.org/event/le-rifle-rented-dea-7/2025-06-27/
LOCATION:LE Rifle\, 21 Fish and Game Ln\, scarborough\, ME\, 07047\, United States
CATEGORIES:LE Rental Ranges
ORGANIZER;CN="Robert Prouty":MAILTO:Robert.P.Prouty@dea.gov
END:VEVENT
BEGIN:VEVENT
DTSTART;VALUE=DATE:20250321
DTEND;VALUE=DATE:20250322
DTSTAMP:20260421T174415
CREATED:20240904T191207Z
LAST-MODIFIED:20240904T191207Z
UID:10007272-1742515200-1742601599@scarfg.org
SUMMARY:LE 50 Rented-DEA
DESCRIPTION:
URL:https://scarfg.org/event/le-50-rented-dea-5/
LOCATION:LE 50\, 21 Fish and Game Ln\, scarborough\, ME\, 04074\, United States
CATEGORIES:LE Rental Ranges
ORGANIZER;CN="Robert Prouty":MAILTO:Robert.P.Prouty@dea.gov
END:VEVENT
BEGIN:VEVENT
DTSTART;VALUE=DATE:20241104
DTEND;VALUE=DATE:20241105
DTSTAMP:20260421T174415
CREATED:20240502T164737Z
LAST-MODIFIED:20240502T164737Z
UID:10006096-1730678400-1730764799@scarfg.org
SUMMARY:LE Rifle Rented-DEA
DESCRIPTION:
URL:https://scarfg.org/event/le-rifle-rented-dea-9/
LOCATION:LE Rifle\, 21 Fish and Game Ln\, scarborough\, ME\, 07047\, United States
CATEGORIES:LE Rental Ranges
ORGANIZER;CN="Robert Prouty":MAILTO:Robert.P.Prouty@dea.gov
END:VEVENT
BEGIN:VEVENT
DTSTART;VALUE=DATE:20240906
DTEND;VALUE=DATE:20240907
DTSTAMP:20260421T174415
CREATED:20231202T141345Z
LAST-MODIFIED:20231202T141345Z
UID:10005459-1725580800-1725667199@scarfg.org
SUMMARY:LE Rifle Rented-DEA
DESCRIPTION:
URL:https://scarfg.org/event/le-rifle-rented-dea-8/
LOCATION:LE Rifle\, 21 Fish and Game Ln\, scarborough\, ME\, 07047\, United States
CATEGORIES:LE Rental Ranges
ORGANIZER;CN="Robert Prouty":MAILTO:Robert.P.Prouty@dea.gov
END:VEVENT
BEGIN:VEVENT
DTSTART;VALUE=DATE:20240308
DTEND;VALUE=DATE:20240309
DTSTAMP:20260421T174415
CREATED:20231202T141018Z
LAST-MODIFIED:20240202T154351Z
UID:10005457-1709856000-1709942399@scarfg.org
SUMMARY:LE 50 Rented - DEA
DESCRIPTION:
URL:https://scarfg.org/event/le-50-rented-dea-4/
LOCATION:LE 50\, 21 Fish and Game Ln\, scarborough\, ME\, 04074\, United States
CATEGORIES:LE Rental Ranges
ORGANIZER;CN="Robert Prouty":MAILTO:Robert.P.Prouty@dea.gov
END:VEVENT
BEGIN:VEVENT
DTSTART;VALUE=DATE:20231106
DTEND;VALUE=DATE:20231107
DTSTAMP:20260421T174415
CREATED:20221013T144031Z
LAST-MODIFIED:20221013T144031Z
UID:10004886-1699228800-1699315199@scarfg.org
SUMMARY:LE Rifle Rented-DEA-Lowlight
DESCRIPTION:
URL:https://scarfg.org/event/le-rifle-rented-dea-lowlight/
LOCATION:LE Rifle\, 21 Fish and Game Ln\, scarborough\, ME\, 07047\, United States
CATEGORIES:LE Rental Ranges
ORGANIZER;CN="Robert Prouty":MAILTO:Robert.P.Prouty@dea.gov
END:VEVENT
BEGIN:VEVENT
DTSTART;VALUE=DATE:20230920
DTEND;VALUE=DATE:20230921
DTSTAMP:20260421T174415
CREATED:20230727T131735Z
LAST-MODIFIED:20230727T131735Z
UID:10004826-1695168000-1695254399@scarfg.org
SUMMARY:LE Rifle Rented-DEA
DESCRIPTION:
URL:https://scarfg.org/event/le-rifle-rented-dea/
LOCATION:LE Rifle\, 21 Fish and Game Ln\, scarborough\, ME\, 07047\, United States
CATEGORIES:LE Rental Ranges
ORGANIZER;CN="Robert Prouty":MAILTO:Robert.P.Prouty@dea.gov
END:VEVENT
BEGIN:VEVENT
DTSTART;VALUE=DATE:20230915
DTEND;VALUE=DATE:20230916
DTSTAMP:20260421T174415
CREATED:20221013T143910Z
LAST-MODIFIED:20221013T143910Z
UID:10004884-1694736000-1694822399@scarfg.org
SUMMARY:LE Rifle Rented-DEA
DESCRIPTION:
URL:https://scarfg.org/event/le-rifle-rented-dea-5/2023-09-15/
LOCATION:LE Rifle\, 21 Fish and Game Ln\, scarborough\, ME\, 07047\, United States
CATEGORIES:LE Rental Ranges
ORGANIZER;CN="Robert Prouty":MAILTO:Robert.P.Prouty@dea.gov
END:VEVENT
BEGIN:VEVENT
DTSTART;VALUE=DATE:20230602
DTEND;VALUE=DATE:20230603
DTSTAMP:20260421T174415
CREATED:20221013T143910Z
LAST-MODIFIED:20221013T143910Z
UID:10004883-1685664000-1685750399@scarfg.org
SUMMARY:LE Rifle Rented-DEA
DESCRIPTION:
URL:https://scarfg.org/event/le-rifle-rented-dea-5/2023-06-02/
LOCATION:LE Rifle\, 21 Fish and Game Ln\, scarborough\, ME\, 07047\, United States
CATEGORIES:LE Rental Ranges
ORGANIZER;CN="Robert Prouty":MAILTO:Robert.P.Prouty@dea.gov
END:VEVENT
BEGIN:VEVENT
DTSTART;VALUE=DATE:20230421
DTEND;VALUE=DATE:20230422
DTSTAMP:20260421T174415
CREATED:20221013T143210Z
LAST-MODIFIED:20230406T141643Z
UID:10004882-1682035200-1682121599@scarfg.org
SUMMARY:LE 50 Rented-DEA
DESCRIPTION:
URL:https://scarfg.org/event/le-50-rented-dea-3-2023-04-07/
LOCATION:LE 50\, 21 Fish and Game Ln\, scarborough\, ME\, 04074\, United States
CATEGORIES:LE Rental Ranges
ORGANIZER;CN="Robert Prouty":MAILTO:Robert.P.Prouty@dea.gov
END:VEVENT
BEGIN:VEVENT
DTSTART;VALUE=DATE:20230317
DTEND;VALUE=DATE:20230318
DTSTAMP:20260421T174415
CREATED:20221013T143210Z
LAST-MODIFIED:20221013T143554Z
UID:10004881-1679011200-1679097599@scarfg.org
SUMMARY:LE 50 Rented-DEA
DESCRIPTION:
URL:https://scarfg.org/event/le-50-rented-dea-3/2023-03-17/
LOCATION:LE 50\, 21 Fish and Game Ln\, scarborough\, ME\, 04074\, United States
CATEGORIES:LE Rental Ranges
ORGANIZER;CN="Robert Prouty":MAILTO:Robert.P.Prouty@dea.gov
END:VEVENT
BEGIN:VEVENT
DTSTART;VALUE=DATE:20220819
DTEND;VALUE=DATE:20220820
DTSTAMP:20260421T174415
CREATED:20220609T012532Z
LAST-MODIFIED:20220720T200905Z
UID:10004778-1660867200-1660953599@scarfg.org
SUMMARY:LE Rifle Rented-DEA
DESCRIPTION:
URL:https://scarfg.org/event/le-rifle-rented-dea-6/
LOCATION:LE Rifle\, 21 Fish and Game Ln\, scarborough\, ME\, 07047\, United States
CATEGORIES:LE Rental Ranges
ORGANIZER;CN="Robert Prouty":MAILTO:Robert.P.Prouty@dea.gov
END:VEVENT
END:VCALENDAR