BEGIN:VCALENDAR
VERSION:2.0
PRODID:-//Scarborough Fish &amp; Game Association - ECPv6.15.20//NONSGML v1.0//EN
CALSCALE:GREGORIAN
METHOD:PUBLISH
X-WR-CALNAME:Scarborough Fish &amp; Game Association
X-ORIGINAL-URL:https://scarfg.org
X-WR-CALDESC:Events for Scarborough Fish &amp; Game Association
REFRESH-INTERVAL;VALUE=DURATION:PT1H
X-Robots-Tag:noindex
X-PUBLISHED-TTL:PT1H
BEGIN:VTIMEZONE
TZID:America/New_York
BEGIN:DAYLIGHT
TZOFFSETFROM:-0500
TZOFFSETTO:-0400
TZNAME:EDT
DTSTART:20220313T070000
END:DAYLIGHT
BEGIN:STANDARD
TZOFFSETFROM:-0400
TZOFFSETTO:-0500
TZNAME:EST
DTSTART:20221106T060000
END:STANDARD
BEGIN:DAYLIGHT
TZOFFSETFROM:-0500
TZOFFSETTO:-0400
TZNAME:EDT
DTSTART:20230312T070000
END:DAYLIGHT
BEGIN:STANDARD
TZOFFSETFROM:-0400
TZOFFSETTO:-0500
TZNAME:EST
DTSTART:20231105T060000
END:STANDARD
BEGIN:DAYLIGHT
TZOFFSETFROM:-0500
TZOFFSETTO:-0400
TZNAME:EDT
DTSTART:20240310T070000
END:DAYLIGHT
BEGIN:STANDARD
TZOFFSETFROM:-0400
TZOFFSETTO:-0500
TZNAME:EST
DTSTART:20241103T060000
END:STANDARD
END:VTIMEZONE
BEGIN:VEVENT
DTSTART;VALUE=DATE:20230814
DTEND;VALUE=DATE:20230815
DTSTAMP:20260425T072234
CREATED:20221219T201452Z
LAST-MODIFIED:20230312T223356Z
UID:10004601-1691971200-1692057599@scarfg.org
SUMMARY:LE 50-Rented-USCG
DESCRIPTION:
URL:https://scarfg.org/event/le-50rented-uscg/2023-08-14/
LOCATION:LE 50\, 21 Fish and Game Ln\, scarborough\, ME\, 04074\, United States
CATEGORIES:LE Rental Ranges
ORGANIZER;CN="PO1 Donovan Warner":MAILTO:Donovan.M.Warner@uscg.mil
END:VEVENT
BEGIN:VEVENT
DTSTART;VALUE=DATE:20230807
DTEND;VALUE=DATE:20230808
DTSTAMP:20260425T072234
CREATED:20221219T201452Z
LAST-MODIFIED:20230312T223356Z
UID:10004600-1691366400-1691452799@scarfg.org
SUMMARY:LE 50-Rented-USCG
DESCRIPTION:
URL:https://scarfg.org/event/le-50rented-uscg/2023-08-07/
LOCATION:LE 50\, 21 Fish and Game Ln\, scarborough\, ME\, 04074\, United States
CATEGORIES:LE Rental Ranges
ORGANIZER;CN="PO1 Donovan Warner":MAILTO:Donovan.M.Warner@uscg.mil
END:VEVENT
BEGIN:VEVENT
DTSTART;VALUE=DATE:20230731
DTEND;VALUE=DATE:20230801
DTSTAMP:20260425T072234
CREATED:20221219T201452Z
LAST-MODIFIED:20230312T223356Z
UID:10004599-1690761600-1690847999@scarfg.org
SUMMARY:LE 50-Rented-USCG
DESCRIPTION:
URL:https://scarfg.org/event/le-50rented-uscg/2023-07-31/
LOCATION:LE 50\, 21 Fish and Game Ln\, scarborough\, ME\, 04074\, United States
CATEGORIES:LE Rental Ranges
ORGANIZER;CN="PO1 Donovan Warner":MAILTO:Donovan.M.Warner@uscg.mil
END:VEVENT
BEGIN:VEVENT
DTSTART;VALUE=DATE:20230724
DTEND;VALUE=DATE:20230725
DTSTAMP:20260425T072234
CREATED:20221219T201452Z
LAST-MODIFIED:20230312T223356Z
UID:10004598-1690156800-1690243199@scarfg.org
SUMMARY:LE 50-Rented-USCG
DESCRIPTION:
URL:https://scarfg.org/event/le-50rented-uscg/2023-07-24/
LOCATION:LE 50\, 21 Fish and Game Ln\, scarborough\, ME\, 04074\, United States
CATEGORIES:LE Rental Ranges
ORGANIZER;CN="PO1 Donovan Warner":MAILTO:Donovan.M.Warner@uscg.mil
END:VEVENT
BEGIN:VEVENT
DTSTART;VALUE=DATE:20230717
DTEND;VALUE=DATE:20230718
DTSTAMP:20260425T072234
CREATED:20221219T201452Z
LAST-MODIFIED:20230312T223356Z
UID:10004597-1689552000-1689638399@scarfg.org
SUMMARY:LE 50-Rented-USCG
DESCRIPTION:
URL:https://scarfg.org/event/le-50rented-uscg/2023-07-17/
LOCATION:LE 50\, 21 Fish and Game Ln\, scarborough\, ME\, 04074\, United States
CATEGORIES:LE Rental Ranges
ORGANIZER;CN="PO1 Donovan Warner":MAILTO:Donovan.M.Warner@uscg.mil
END:VEVENT
BEGIN:VEVENT
DTSTART;VALUE=DATE:20230710
DTEND;VALUE=DATE:20230711
DTSTAMP:20260425T072234
CREATED:20221219T201452Z
LAST-MODIFIED:20230312T223356Z
UID:10004596-1688947200-1689033599@scarfg.org
SUMMARY:LE 50-Rented-USCG
DESCRIPTION:
URL:https://scarfg.org/event/le-50rented-uscg/2023-07-10/
LOCATION:LE 50\, 21 Fish and Game Ln\, scarborough\, ME\, 04074\, United States
CATEGORIES:LE Rental Ranges
ORGANIZER;CN="PO1 Donovan Warner":MAILTO:Donovan.M.Warner@uscg.mil
END:VEVENT
BEGIN:VEVENT
DTSTART;VALUE=DATE:20230708
DTEND;VALUE=DATE:20230709
DTSTAMP:20260425T072234
CREATED:20230615T004141Z
LAST-MODIFIED:20230615T004141Z
UID:10004810-1688774400-1688860799@scarfg.org
SUMMARY:LE 50 Rented-USCG
DESCRIPTION:
URL:https://scarfg.org/event/le-50-rented-uscg-10/2023-07-08/
LOCATION:LE 50\, 21 Fish and Game Ln\, scarborough\, ME\, 04074\, United States
CATEGORIES:LE Rental Ranges
ORGANIZER;CN="PO1 Donovan Warner":MAILTO:Donovan.M.Warner@uscg.mil
END:VEVENT
BEGIN:VEVENT
DTSTART;VALUE=DATE:20230703
DTEND;VALUE=DATE:20230704
DTSTAMP:20260425T072234
CREATED:20221219T201452Z
LAST-MODIFIED:20230312T223356Z
UID:10004595-1688342400-1688428799@scarfg.org
SUMMARY:LE 50-Rented-USCG
DESCRIPTION:
URL:https://scarfg.org/event/le-50rented-uscg/2023-07-03/
LOCATION:LE 50\, 21 Fish and Game Ln\, scarborough\, ME\, 04074\, United States
CATEGORIES:LE Rental Ranges
ORGANIZER;CN="PO1 Donovan Warner":MAILTO:Donovan.M.Warner@uscg.mil
END:VEVENT
BEGIN:VEVENT
DTSTART;VALUE=DATE:20230628
DTEND;VALUE=DATE:20230629
DTSTAMP:20260425T072234
CREATED:20230615T004141Z
LAST-MODIFIED:20230615T004141Z
UID:10004809-1687910400-1687996799@scarfg.org
SUMMARY:LE 50 Rented-USCG
DESCRIPTION:
URL:https://scarfg.org/event/le-50-rented-uscg-10/2023-06-28/
LOCATION:LE 50\, 21 Fish and Game Ln\, scarborough\, ME\, 04074\, United States
CATEGORIES:LE Rental Ranges
ORGANIZER;CN="PO1 Donovan Warner":MAILTO:Donovan.M.Warner@uscg.mil
END:VEVENT
BEGIN:VEVENT
DTSTART;VALUE=DATE:20230626
DTEND;VALUE=DATE:20230627
DTSTAMP:20260425T072234
CREATED:20221219T201452Z
LAST-MODIFIED:20230312T223356Z
UID:10004594-1687737600-1687823999@scarfg.org
SUMMARY:LE 50-Rented-USCG
DESCRIPTION:
URL:https://scarfg.org/event/le-50rented-uscg/2023-06-26/
LOCATION:LE 50\, 21 Fish and Game Ln\, scarborough\, ME\, 04074\, United States
CATEGORIES:LE Rental Ranges
ORGANIZER;CN="PO1 Donovan Warner":MAILTO:Donovan.M.Warner@uscg.mil
END:VEVENT
BEGIN:VEVENT
DTSTART;VALUE=DATE:20230619
DTEND;VALUE=DATE:20230620
DTSTAMP:20260425T072234
CREATED:20221219T201452Z
LAST-MODIFIED:20230312T223356Z
UID:10004593-1687132800-1687219199@scarfg.org
SUMMARY:LE 50-Rented-USCG
DESCRIPTION:
URL:https://scarfg.org/event/le-50rented-uscg/2023-06-19/
LOCATION:LE 50\, 21 Fish and Game Ln\, scarborough\, ME\, 04074\, United States
CATEGORIES:LE Rental Ranges
ORGANIZER;CN="PO1 Donovan Warner":MAILTO:Donovan.M.Warner@uscg.mil
END:VEVENT
BEGIN:VEVENT
DTSTART;VALUE=DATE:20230612
DTEND;VALUE=DATE:20230613
DTSTAMP:20260425T072234
CREATED:20221219T201452Z
LAST-MODIFIED:20230312T223356Z
UID:10004592-1686528000-1686614399@scarfg.org
SUMMARY:LE 50-Rented-USCG
DESCRIPTION:
URL:https://scarfg.org/event/le-50rented-uscg/2023-06-12/
LOCATION:LE 50\, 21 Fish and Game Ln\, scarborough\, ME\, 04074\, United States
CATEGORIES:LE Rental Ranges
ORGANIZER;CN="PO1 Donovan Warner":MAILTO:Donovan.M.Warner@uscg.mil
END:VEVENT
BEGIN:VEVENT
DTSTART;VALUE=DATE:20230605
DTEND;VALUE=DATE:20230606
DTSTAMP:20260425T072234
CREATED:20221219T201452Z
LAST-MODIFIED:20230312T223356Z
UID:10004591-1685923200-1686009599@scarfg.org
SUMMARY:LE 50-Rented-USCG
DESCRIPTION:
URL:https://scarfg.org/event/le-50rented-uscg/2023-06-05/
LOCATION:LE 50\, 21 Fish and Game Ln\, scarborough\, ME\, 04074\, United States
CATEGORIES:LE Rental Ranges
ORGANIZER;CN="PO1 Donovan Warner":MAILTO:Donovan.M.Warner@uscg.mil
END:VEVENT
BEGIN:VEVENT
DTSTART;VALUE=DATE:20230529
DTEND;VALUE=DATE:20230530
DTSTAMP:20260425T072234
CREATED:20221219T201452Z
LAST-MODIFIED:20230312T223356Z
UID:10004590-1685318400-1685404799@scarfg.org
SUMMARY:LE 50-Rented-USCG
DESCRIPTION:
URL:https://scarfg.org/event/le-50rented-uscg/2023-05-29/
LOCATION:LE 50\, 21 Fish and Game Ln\, scarborough\, ME\, 04074\, United States
CATEGORIES:LE Rental Ranges
ORGANIZER;CN="PO1 Donovan Warner":MAILTO:Donovan.M.Warner@uscg.mil
END:VEVENT
BEGIN:VEVENT
DTSTART;VALUE=DATE:20230522
DTEND;VALUE=DATE:20230523
DTSTAMP:20260425T072234
CREATED:20221219T201452Z
LAST-MODIFIED:20230312T223356Z
UID:10004589-1684713600-1684799999@scarfg.org
SUMMARY:LE 50-Rented-USCG
DESCRIPTION:
URL:https://scarfg.org/event/le-50rented-uscg/2023-05-22/
LOCATION:LE 50\, 21 Fish and Game Ln\, scarborough\, ME\, 04074\, United States
CATEGORIES:LE Rental Ranges
ORGANIZER;CN="PO1 Donovan Warner":MAILTO:Donovan.M.Warner@uscg.mil
END:VEVENT
BEGIN:VEVENT
DTSTART;VALUE=DATE:20230519
DTEND;VALUE=DATE:20230520
DTSTAMP:20260425T072234
CREATED:20230127T154715Z
LAST-MODIFIED:20230127T154715Z
UID:10005129-1684454400-1684540799@scarfg.org
SUMMARY:LE Rifle Rented-USCG
DESCRIPTION:
URL:https://scarfg.org/event/le-rifle-rented-uscg-6/
LOCATION:LE Rifle\, 21 Fish and Game Ln\, scarborough\, ME\, 07047\, United States
CATEGORIES:LE Rental Ranges
ORGANIZER;CN="PO1 Donovan Warner":MAILTO:Donovan.M.Warner@uscg.mil
END:VEVENT
BEGIN:VEVENT
DTSTART;VALUE=DATE:20230515
DTEND;VALUE=DATE:20230516
DTSTAMP:20260425T072234
CREATED:20221219T201452Z
LAST-MODIFIED:20230312T223356Z
UID:10004588-1684108800-1684195199@scarfg.org
SUMMARY:LE 50-Rented-USCG
DESCRIPTION:
URL:https://scarfg.org/event/le-50rented-uscg/2023-05-15/
LOCATION:LE 50\, 21 Fish and Game Ln\, scarborough\, ME\, 04074\, United States
CATEGORIES:LE Rental Ranges
ORGANIZER;CN="PO1 Donovan Warner":MAILTO:Donovan.M.Warner@uscg.mil
END:VEVENT
BEGIN:VEVENT
DTSTART;VALUE=DATE:20230511
DTEND;VALUE=DATE:20230512
DTSTAMP:20260425T072234
CREATED:20230412T165927Z
LAST-MODIFIED:20230509T194103Z
UID:10005283-1683763200-1683849599@scarfg.org
SUMMARY:LE 50 Rented-USCG
DESCRIPTION:
URL:https://scarfg.org/event/le-3-rented-uscg-4/
LOCATION:LE 50\, 21 Fish and Game Ln\, scarborough\, ME\, 04074\, United States
CATEGORIES:LE Rental Ranges
ORGANIZER;CN="PO1 Donovan Warner":MAILTO:Donovan.M.Warner@uscg.mil
END:VEVENT
BEGIN:VEVENT
DTSTART;VALUE=DATE:20230508
DTEND;VALUE=DATE:20230509
DTSTAMP:20260425T072234
CREATED:20221219T201452Z
LAST-MODIFIED:20230312T223356Z
UID:10004587-1683504000-1683590399@scarfg.org
SUMMARY:LE 50-Rented-USCG
DESCRIPTION:
URL:https://scarfg.org/event/le-50rented-uscg/2023-05-08/
LOCATION:LE 50\, 21 Fish and Game Ln\, scarborough\, ME\, 04074\, United States
CATEGORIES:LE Rental Ranges
ORGANIZER;CN="PO1 Donovan Warner":MAILTO:Donovan.M.Warner@uscg.mil
END:VEVENT
BEGIN:VEVENT
DTSTART;VALUE=DATE:20230501
DTEND;VALUE=DATE:20230502
DTSTAMP:20260425T072234
CREATED:20230423T192032Z
LAST-MODIFIED:20230423T192032Z
UID:10004771-1682899200-1682985599@scarfg.org
SUMMARY:LE 3 Rented-USCG
DESCRIPTION:
URL:https://scarfg.org/event/le-3-rented-uscg-5/
LOCATION:LE 3\, 21 Fish and Game Ln\, Scarborough\, ME\, 04072\, United States
CATEGORIES:LE Rental Ranges
ORGANIZER;CN="PO1 Donovan Warner":MAILTO:Donovan.M.Warner@uscg.mil
END:VEVENT
BEGIN:VEVENT
DTSTART;VALUE=DATE:20230501
DTEND;VALUE=DATE:20230502
DTSTAMP:20260425T072234
CREATED:20221219T201452Z
LAST-MODIFIED:20230312T223356Z
UID:10004586-1682899200-1682985599@scarfg.org
SUMMARY:LE 50-Rented-USCG
DESCRIPTION:
URL:https://scarfg.org/event/le-50rented-uscg/2023-05-01/
LOCATION:LE 50\, 21 Fish and Game Ln\, scarborough\, ME\, 04074\, United States
CATEGORIES:LE Rental Ranges
ORGANIZER;CN="PO1 Donovan Warner":MAILTO:Donovan.M.Warner@uscg.mil
END:VEVENT
BEGIN:VEVENT
DTSTART;VALUE=DATE:20230427
DTEND;VALUE=DATE:20230428
DTSTAMP:20260425T072234
CREATED:20230227T165923Z
LAST-MODIFIED:20230227T165923Z
UID:10005239-1682553600-1682639999@scarfg.org
SUMMARY:LE 50 Rented-USCG
DESCRIPTION:
URL:https://scarfg.org/event/le-50-rented-uscg-2/
LOCATION:LE 50\, 21 Fish and Game Ln\, scarborough\, ME\, 04074\, United States
CATEGORIES:LE Rental Ranges
ORGANIZER;CN="PO1 Donovan Warner":MAILTO:Donovan.M.Warner@uscg.mil
END:VEVENT
BEGIN:VEVENT
DTSTART;VALUE=DATE:20230424
DTEND;VALUE=DATE:20230425
DTSTAMP:20260425T072234
CREATED:20221219T201452Z
LAST-MODIFIED:20230312T223356Z
UID:10004585-1682294400-1682380799@scarfg.org
SUMMARY:LE 50-Rented-USCG
DESCRIPTION:
URL:https://scarfg.org/event/le-50rented-uscg/2023-04-24/
LOCATION:LE 50\, 21 Fish and Game Ln\, scarborough\, ME\, 04074\, United States
CATEGORIES:LE Rental Ranges
ORGANIZER;CN="PO1 Donovan Warner":MAILTO:Donovan.M.Warner@uscg.mil
END:VEVENT
BEGIN:VEVENT
DTSTART;VALUE=DATE:20230417
DTEND;VALUE=DATE:20230418
DTSTAMP:20260425T072234
CREATED:20221219T201452Z
LAST-MODIFIED:20230312T223356Z
UID:10004584-1681689600-1681775999@scarfg.org
SUMMARY:LE 50-Rented-USCG
DESCRIPTION:
URL:https://scarfg.org/event/le-50rented-uscg/2023-04-17/
LOCATION:LE 50\, 21 Fish and Game Ln\, scarborough\, ME\, 04074\, United States
CATEGORIES:LE Rental Ranges
ORGANIZER;CN="PO1 Donovan Warner":MAILTO:Donovan.M.Warner@uscg.mil
END:VEVENT
BEGIN:VEVENT
DTSTART;VALUE=DATE:20230413
DTEND;VALUE=DATE:20230415
DTSTAMP:20260425T072234
CREATED:20221219T202113Z
LAST-MODIFIED:20230324T160530Z
UID:10004647-1681344000-1681516799@scarfg.org
SUMMARY:LE 3 Rented-USCG
DESCRIPTION:
URL:https://scarfg.org/event/le-50-rented-uscg-25/
LOCATION:LE 3\, 21 Fish and Game Ln\, Scarborough\, ME\, 04072\, United States
CATEGORIES:LE Rental Ranges
ORGANIZER;CN="PO1 Donovan Warner":MAILTO:Donovan.M.Warner@uscg.mil
END:VEVENT
BEGIN:VEVENT
DTSTART;VALUE=DATE:20230411
DTEND;VALUE=DATE:20230412
DTSTAMP:20260425T072234
CREATED:20230324T160319Z
LAST-MODIFIED:20230324T160319Z
UID:10005269-1681171200-1681257599@scarfg.org
SUMMARY:LE 3 Rented-USCG
DESCRIPTION:
URL:https://scarfg.org/event/le-3-rented-uscg-3/
LOCATION:LE 3\, 21 Fish and Game Ln\, Scarborough\, ME\, 04072\, United States
CATEGORIES:LE Rental Ranges
ORGANIZER;CN="PO1 Donovan Warner":MAILTO:Donovan.M.Warner@uscg.mil
END:VEVENT
BEGIN:VEVENT
DTSTART;VALUE=DATE:20230410
DTEND;VALUE=DATE:20230411
DTSTAMP:20260425T072234
CREATED:20221219T201452Z
LAST-MODIFIED:20230312T223356Z
UID:10004583-1681084800-1681171199@scarfg.org
SUMMARY:LE 50-Rented-USCG
DESCRIPTION:
URL:https://scarfg.org/event/le-50rented-uscg/2023-04-10/
LOCATION:LE 50\, 21 Fish and Game Ln\, scarborough\, ME\, 04074\, United States
CATEGORIES:LE Rental Ranges
ORGANIZER;CN="PO1 Donovan Warner":MAILTO:Donovan.M.Warner@uscg.mil
END:VEVENT
BEGIN:VEVENT
DTSTART;VALUE=DATE:20230403
DTEND;VALUE=DATE:20230406
DTSTAMP:20260425T072234
CREATED:20221219T201929Z
LAST-MODIFIED:20221219T201929Z
UID:10004645-1680480000-1680739199@scarfg.org
SUMMARY:LE 50 Rented-USCG
DESCRIPTION:
URL:https://scarfg.org/event/le-50-rented-uscg-24/
LOCATION:LE 50\, 21 Fish and Game Ln\, scarborough\, ME\, 04074\, United States
CATEGORIES:LE Rental Ranges
ORGANIZER;CN="PO1 Donovan Warner":MAILTO:Donovan.M.Warner@uscg.mil
END:VEVENT
BEGIN:VEVENT
DTSTART;VALUE=DATE:20230403
DTEND;VALUE=DATE:20230404
DTSTAMP:20260425T072234
CREATED:20221219T201452Z
LAST-MODIFIED:20230312T223356Z
UID:10004582-1680480000-1680566399@scarfg.org
SUMMARY:LE 50-Rented-USCG
DESCRIPTION:
URL:https://scarfg.org/event/le-50rented-uscg/2023-04-03/
LOCATION:LE 50\, 21 Fish and Game Ln\, scarborough\, ME\, 04074\, United States
CATEGORIES:LE Rental Ranges
ORGANIZER;CN="PO1 Donovan Warner":MAILTO:Donovan.M.Warner@uscg.mil
END:VEVENT
BEGIN:VEVENT
DTSTART;VALUE=DATE:20230329
DTEND;VALUE=DATE:20230330
DTSTAMP:20260425T072234
CREATED:20221219T201452Z
LAST-MODIFIED:20230314T162608Z
UID:10004639-1680048000-1680134399@scarfg.org
SUMMARY:LE 50-Rented-USCG
DESCRIPTION:
URL:https://scarfg.org/event/le-50rented-uscg-2023-03-15/
LOCATION:LE 50\, 21 Fish and Game Ln\, scarborough\, ME\, 04074\, United States
CATEGORIES:LE Rental Ranges
ORGANIZER;CN="PO1 Donovan Warner":MAILTO:Donovan.M.Warner@uscg.mil
END:VEVENT
END:VCALENDAR