BEGIN:VCALENDAR
VERSION:2.0
PRODID:-//Scarborough Fish &amp; Game Association - ECPv6.15.20//NONSGML v1.0//EN
CALSCALE:GREGORIAN
METHOD:PUBLISH
X-ORIGINAL-URL:https://scarfg.org
X-WR-CALDESC:Events for Scarborough Fish &amp; Game Association
REFRESH-INTERVAL;VALUE=DURATION:PT1H
X-Robots-Tag:noindex
X-PUBLISHED-TTL:PT1H
BEGIN:VTIMEZONE
TZID:America/New_York
BEGIN:DAYLIGHT
TZOFFSETFROM:-0500
TZOFFSETTO:-0400
TZNAME:EDT
DTSTART:20250309T070000
END:DAYLIGHT
BEGIN:STANDARD
TZOFFSETFROM:-0400
TZOFFSETTO:-0500
TZNAME:EST
DTSTART:20251102T060000
END:STANDARD
BEGIN:DAYLIGHT
TZOFFSETFROM:-0500
TZOFFSETTO:-0400
TZNAME:EDT
DTSTART:20260308T070000
END:DAYLIGHT
BEGIN:STANDARD
TZOFFSETFROM:-0400
TZOFFSETTO:-0500
TZNAME:EST
DTSTART:20261101T060000
END:STANDARD
BEGIN:DAYLIGHT
TZOFFSETFROM:-0500
TZOFFSETTO:-0400
TZNAME:EDT
DTSTART:20270314T070000
END:DAYLIGHT
BEGIN:STANDARD
TZOFFSETFROM:-0400
TZOFFSETTO:-0500
TZNAME:EST
DTSTART:20271107T060000
END:STANDARD
END:VTIMEZONE
BEGIN:VEVENT
DTSTART;TZID=America/New_York:20260518T080000
DTEND;TZID=America/New_York:20260518T170000
DTSTAMP:20260423T191604
CREATED:20260423T175433Z
LAST-MODIFIED:20260423T175433Z
UID:10013653-1779091200-1779123600@scarfg.org
SUMMARY:600 yard range closed for LE event
DESCRIPTION:
URL:https://scarfg.org/event/600-yard-range-closed-for-le-event/
LOCATION:High Power Rifle Range\, 21 Fish and Game Ln\, Scarborough\, ME\, 04072\, United States
ORGANIZER;CN="Jeff Philibert":MAILTO:petoncovet@gmail.com
END:VEVENT
BEGIN:VEVENT
DTSTART;TZID=America/New_York:20260518T080000
DTEND;TZID=America/New_York:20260518T170000
DTSTAMP:20260423T191604
CREATED:20260423T181144Z
LAST-MODIFIED:20260423T181144Z
UID:10013655-1779091200-1779123600@scarfg.org
SUMMARY:600 yard range closed for LE event
DESCRIPTION:
URL:https://scarfg.org/event/600-yard-range-closed-for-le-event-3/
LOCATION:High Power Rifle Range\, 21 Fish and Game Ln\, Scarborough\, ME\, 04072\, United States
CATEGORIES:Rifle
ORGANIZER;CN="Jeff Philibert":MAILTO:petoncovet@gmail.com
END:VEVENT
BEGIN:VEVENT
DTSTART;TZID=America/New_York:20260817T080000
DTEND;TZID=America/New_York:20260817T170000
DTSTAMP:20260423T191604
CREATED:20260423T175535Z
LAST-MODIFIED:20260423T175535Z
UID:10013654-1786953600-1786986000@scarfg.org
SUMMARY:600 yard range closed for LE event
DESCRIPTION:
URL:https://scarfg.org/event/600-yard-range-closed-for-le-event-2/
LOCATION:High Power Rifle Range\, 21 Fish and Game Ln\, Scarborough\, ME\, 04072\, United States
ORGANIZER;CN="Jeff Philibert":MAILTO:petoncovet@gmail.com
END:VEVENT
END:VCALENDAR