BEGIN:VCALENDAR
VERSION:2.0
PRODID:-//Scarborough Fish &amp; Game Association - ECPv6.15.20//NONSGML v1.0//EN
CALSCALE:GREGORIAN
METHOD:PUBLISH
X-ORIGINAL-URL:https://scarfg.org
X-WR-CALDESC:Events for Scarborough Fish &amp; Game Association
REFRESH-INTERVAL;VALUE=DURATION:PT1H
X-Robots-Tag:noindex
X-PUBLISHED-TTL:PT1H
BEGIN:VTIMEZONE
TZID:America/New_York
BEGIN:DAYLIGHT
TZOFFSETFROM:-0500
TZOFFSETTO:-0400
TZNAME:EDT
DTSTART:20250309T070000
END:DAYLIGHT
BEGIN:STANDARD
TZOFFSETFROM:-0400
TZOFFSETTO:-0500
TZNAME:EST
DTSTART:20251102T060000
END:STANDARD
BEGIN:DAYLIGHT
TZOFFSETFROM:-0500
TZOFFSETTO:-0400
TZNAME:EDT
DTSTART:20260308T070000
END:DAYLIGHT
BEGIN:STANDARD
TZOFFSETFROM:-0400
TZOFFSETTO:-0500
TZNAME:EST
DTSTART:20261101T060000
END:STANDARD
BEGIN:DAYLIGHT
TZOFFSETFROM:-0500
TZOFFSETTO:-0400
TZNAME:EDT
DTSTART:20270314T070000
END:DAYLIGHT
BEGIN:STANDARD
TZOFFSETFROM:-0400
TZOFFSETTO:-0500
TZNAME:EST
DTSTART:20271107T060000
END:STANDARD
END:VTIMEZONE
BEGIN:VEVENT
DTSTART;TZID=America/New_York:20260101T110000
DTEND;TZID=America/New_York:20260101T140000
DTSTAMP:20260423T203513
CREATED:20251222T185237Z
LAST-MODIFIED:20251222T204915Z
UID:10013185-1767265200-1767276000@scarfg.org
SUMMARY:New Years Day - Ring in 2026 Steel Shoot
DESCRIPTION:Come ring in the New Year with some fun at 500 Yards on steel!   \nAll are welcome\, if you are not vetted on the Long Range\, this will be an opportunity to do so as there will be a few Shotmarker E-targets up to get you zeroed in. \nCouple of reminders – for new shooters have your 100 yard zero and know you dope (we likely know it so no big worry there)\,  all rifles coming to the line in bags need an ECI inserted (empty chamber indicator)\, we are single load at 500 and 600 yard i.e. no magazine loads.   \nCome blow off some steam from being stuck with your family for a week and start 2026 off with a bang!   \nCost: $20.00 \nOrganizer: Jeff Philibert \nContact info for any questions: petoncovet@gmail.com 978-3899-9033
URL:https://scarfg.org/event/new-years-day-ring-in-2026-steel-shoot/
LOCATION:High Power Rifle Range\, 21 Fish and Game Ln\, Scarborough\, ME\, 04072\, United States
CATEGORIES:Rifle
ORGANIZER;CN="Jeff Philibert":MAILTO:petoncovet@gmail.com
END:VEVENT
END:VCALENDAR