BEGIN:VCALENDAR
VERSION:2.0
PRODID:-//Scarborough Fish &amp; Game Association - ECPv6.15.20//NONSGML v1.0//EN
CALSCALE:GREGORIAN
METHOD:PUBLISH
X-WR-CALNAME:Scarborough Fish &amp; Game Association
X-ORIGINAL-URL:https://scarfg.org
X-WR-CALDESC:Events for Scarborough Fish &amp; Game Association
REFRESH-INTERVAL;VALUE=DURATION:PT1H
X-Robots-Tag:noindex
X-PUBLISHED-TTL:PT1H
BEGIN:VTIMEZONE
TZID:America/New_York
BEGIN:DAYLIGHT
TZOFFSETFROM:-0500
TZOFFSETTO:-0400
TZNAME:EDT
DTSTART:20250309T070000
END:DAYLIGHT
BEGIN:STANDARD
TZOFFSETFROM:-0400
TZOFFSETTO:-0500
TZNAME:EST
DTSTART:20251102T060000
END:STANDARD
BEGIN:DAYLIGHT
TZOFFSETFROM:-0500
TZOFFSETTO:-0400
TZNAME:EDT
DTSTART:20260308T070000
END:DAYLIGHT
BEGIN:STANDARD
TZOFFSETFROM:-0400
TZOFFSETTO:-0500
TZNAME:EST
DTSTART:20261101T060000
END:STANDARD
BEGIN:DAYLIGHT
TZOFFSETFROM:-0500
TZOFFSETTO:-0400
TZNAME:EDT
DTSTART:20270314T070000
END:DAYLIGHT
BEGIN:STANDARD
TZOFFSETFROM:-0400
TZOFFSETTO:-0500
TZNAME:EST
DTSTART:20271107T060000
END:STANDARD
END:VTIMEZONE
BEGIN:VEVENT
DTSTART;VALUE=DATE:20260426
DTEND;VALUE=DATE:20260427
DTSTAMP:20260420T030429
CREATED:20260402T164248Z
LAST-MODIFIED:20260402T164248Z
UID:10013605-1777161600-1777247999@scarfg.org
SUMMARY:TRAP-ATA/MTA REGISTERED SHOOT
DESCRIPTION:
URL:https://scarfg.org/event/trap-ata-mta-registered-shoot/2026-04-26/
LOCATION:Trap Range\, 21 Fish and Game Ln\, Scarborough\, ME\, 04072\, United States
CATEGORIES:Trap
ORGANIZER;CN="Darrin Kirkpatrick":MAILTO:ddk0580@gmail.com
END:VEVENT
BEGIN:VEVENT
DTSTART;VALUE=DATE:20260509
DTEND;VALUE=DATE:20260510
DTSTAMP:20260420T030429
CREATED:20260402T164420Z
LAST-MODIFIED:20260402T164420Z
UID:10013610-1778284800-1778371199@scarfg.org
SUMMARY:TRAP-ATA/MTA REGISTERED SHOOT
DESCRIPTION:
URL:https://scarfg.org/event/trap-ata-mta-registered-shoot-2/2026-05-09/
LOCATION:Trap Range\, 21 Fish and Game Ln\, Scarborough\, ME\, 04072\, United States
CATEGORIES:Trap
ORGANIZER;CN="Darrin Kirkpatrick":MAILTO:ddk0580@gmail.com
END:VEVENT
END:VCALENDAR