BEGIN:VCALENDAR
VERSION:2.0
PRODID:-//Scarborough Fish &amp; Game Association - ECPv6.15.20//NONSGML v1.0//EN
CALSCALE:GREGORIAN
METHOD:PUBLISH
X-ORIGINAL-URL:https://scarfg.org
X-WR-CALDESC:Events for Scarborough Fish &amp; Game Association
REFRESH-INTERVAL;VALUE=DURATION:PT1H
X-Robots-Tag:noindex
X-PUBLISHED-TTL:PT1H
BEGIN:VTIMEZONE
TZID:America/New_York
BEGIN:DAYLIGHT
TZOFFSETFROM:-0500
TZOFFSETTO:-0400
TZNAME:EDT
DTSTART:20220313T070000
END:DAYLIGHT
BEGIN:STANDARD
TZOFFSETFROM:-0400
TZOFFSETTO:-0500
TZNAME:EST
DTSTART:20221106T060000
END:STANDARD
BEGIN:DAYLIGHT
TZOFFSETFROM:-0500
TZOFFSETTO:-0400
TZNAME:EDT
DTSTART:20230312T070000
END:DAYLIGHT
BEGIN:STANDARD
TZOFFSETFROM:-0400
TZOFFSETTO:-0500
TZNAME:EST
DTSTART:20231105T060000
END:STANDARD
BEGIN:DAYLIGHT
TZOFFSETFROM:-0500
TZOFFSETTO:-0400
TZNAME:EDT
DTSTART:20240310T070000
END:DAYLIGHT
BEGIN:STANDARD
TZOFFSETFROM:-0400
TZOFFSETTO:-0500
TZNAME:EST
DTSTART:20241103T060000
END:STANDARD
BEGIN:DAYLIGHT
TZOFFSETFROM:-0500
TZOFFSETTO:-0400
TZNAME:EDT
DTSTART:20250309T070000
END:DAYLIGHT
BEGIN:STANDARD
TZOFFSETFROM:-0400
TZOFFSETTO:-0500
TZNAME:EST
DTSTART:20251102T060000
END:STANDARD
BEGIN:DAYLIGHT
TZOFFSETFROM:-0500
TZOFFSETTO:-0400
TZNAME:EDT
DTSTART:20260308T070000
END:DAYLIGHT
BEGIN:STANDARD
TZOFFSETFROM:-0400
TZOFFSETTO:-0500
TZNAME:EST
DTSTART:20261101T060000
END:STANDARD
BEGIN:DAYLIGHT
TZOFFSETFROM:-0500
TZOFFSETTO:-0400
TZNAME:EDT
DTSTART:20270314T070000
END:DAYLIGHT
BEGIN:STANDARD
TZOFFSETFROM:-0400
TZOFFSETTO:-0500
TZNAME:EST
DTSTART:20271107T060000
END:STANDARD
BEGIN:DAYLIGHT
TZOFFSETFROM:-0500
TZOFFSETTO:-0400
TZNAME:EDT
DTSTART:20280312T070000
END:DAYLIGHT
BEGIN:STANDARD
TZOFFSETFROM:-0400
TZOFFSETTO:-0500
TZNAME:EST
DTSTART:20281105T060000
END:STANDARD
BEGIN:DAYLIGHT
TZOFFSETFROM:-0500
TZOFFSETTO:-0400
TZNAME:EDT
DTSTART:20290311T070000
END:DAYLIGHT
BEGIN:STANDARD
TZOFFSETFROM:-0400
TZOFFSETTO:-0500
TZNAME:EST
DTSTART:20291104T060000
END:STANDARD
BEGIN:DAYLIGHT
TZOFFSETFROM:-0500
TZOFFSETTO:-0400
TZNAME:EDT
DTSTART:20300310T070000
END:DAYLIGHT
BEGIN:STANDARD
TZOFFSETFROM:-0400
TZOFFSETTO:-0500
TZNAME:EST
DTSTART:20301103T060000
END:STANDARD
BEGIN:DAYLIGHT
TZOFFSETFROM:-0500
TZOFFSETTO:-0400
TZNAME:EDT
DTSTART:20310309T070000
END:DAYLIGHT
BEGIN:STANDARD
TZOFFSETFROM:-0400
TZOFFSETTO:-0500
TZNAME:EST
DTSTART:20311102T060000
END:STANDARD
BEGIN:DAYLIGHT
TZOFFSETFROM:-0500
TZOFFSETTO:-0400
TZNAME:EDT
DTSTART:20320314T070000
END:DAYLIGHT
BEGIN:STANDARD
TZOFFSETFROM:-0400
TZOFFSETTO:-0500
TZNAME:EST
DTSTART:20321107T060000
END:STANDARD
END:VTIMEZONE
BEGIN:VEVENT
DTSTART;TZID=America/New_York:20230928T160000
DTEND;TZID=America/New_York:20310925T200000
DTSTAMP:20260425T185725
CREATED:20241227T180605Z
LAST-MODIFIED:20241227T184707Z
UID:10004183-1695916800-1948132800@scarfg.org
SUMMARY:Open Trap
DESCRIPTION:Public Shooting.  Beginners welcome!\nFor Fees\, please see the Trap Webpage here. \nhttps://scarfg.org/disciplines/trap/\n 
URL:https://scarfg.org/event/open-trap-50-2/2023-09-28/
LOCATION:Trap Range\, 21 Fish and Game Ln\, Scarborough\, ME\, 04072\, United States
CATEGORIES:Trap
END:VEVENT
BEGIN:VEVENT
DTSTART;TZID=America/New_York:20231005T160000
DTEND;TZID=America/New_York:20311002T200000
DTSTAMP:20260425T185725
CREATED:20241227T180605Z
LAST-MODIFIED:20241227T184707Z
UID:10004184-1696521600-1948737600@scarfg.org
SUMMARY:Open Trap
DESCRIPTION:Public Shooting.  Beginners welcome!\nFor Fees\, please see the Trap Webpage here. \nhttps://scarfg.org/disciplines/trap/\n 
URL:https://scarfg.org/event/open-trap-50-2/2023-10-05/
LOCATION:Trap Range\, 21 Fish and Game Ln\, Scarborough\, ME\, 04072\, United States
CATEGORIES:Trap
END:VEVENT
BEGIN:VEVENT
DTSTART;TZID=America/New_York:20231010T190000
DTEND;TZID=America/New_York:20240929T210000
DTSTAMP:20260425T185725
CREATED:20221222T153530Z
LAST-MODIFIED:20240108T160819Z
UID:10005049-1696964400-1727643600@scarfg.org
SUMMARY:General Meeting
DESCRIPTION:
URL:https://scarfg.org/event/general-meeting-14/2023-10-10/
LOCATION:Clubhouse\, 21 Fish and Game Ln\, Scarborough\, ME\, 04072\, United States
CATEGORIES:Club Events
END:VEVENT
BEGIN:VEVENT
DTSTART;TZID=America/New_York:20231012T160000
DTEND;TZID=America/New_York:20311009T200000
DTSTAMP:20260425T185725
CREATED:20241227T180605Z
LAST-MODIFIED:20241227T184707Z
UID:10004185-1697126400-1949342400@scarfg.org
SUMMARY:Open Trap
DESCRIPTION:Public Shooting.  Beginners welcome!\nFor Fees\, please see the Trap Webpage here. \nhttps://scarfg.org/disciplines/trap/\n 
URL:https://scarfg.org/event/open-trap-50-2/2023-10-12/
LOCATION:Trap Range\, 21 Fish and Game Ln\, Scarborough\, ME\, 04072\, United States
CATEGORIES:Trap
END:VEVENT
BEGIN:VEVENT
DTSTART;TZID=America/New_York:20231019T160000
DTEND;TZID=America/New_York:20311016T200000
DTSTAMP:20260425T185725
CREATED:20241227T180605Z
LAST-MODIFIED:20241227T184707Z
UID:10004186-1697731200-1949947200@scarfg.org
SUMMARY:Open Trap
DESCRIPTION:Public Shooting.  Beginners welcome!\nFor Fees\, please see the Trap Webpage here. \nhttps://scarfg.org/disciplines/trap/\n 
URL:https://scarfg.org/event/open-trap-50-2/2023-10-19/
LOCATION:Trap Range\, 21 Fish and Game Ln\, Scarborough\, ME\, 04072\, United States
CATEGORIES:Trap
END:VEVENT
BEGIN:VEVENT
DTSTART;TZID=America/New_York:20231026T160000
DTEND;TZID=America/New_York:20311023T200000
DTSTAMP:20260425T185725
CREATED:20241227T180605Z
LAST-MODIFIED:20241227T184707Z
UID:10004187-1698336000-1950552000@scarfg.org
SUMMARY:Open Trap
DESCRIPTION:Public Shooting.  Beginners welcome!\nFor Fees\, please see the Trap Webpage here. \nhttps://scarfg.org/disciplines/trap/\n 
URL:https://scarfg.org/event/open-trap-50-2/2023-10-26/
LOCATION:Trap Range\, 21 Fish and Game Ln\, Scarborough\, ME\, 04072\, United States
CATEGORIES:Trap
END:VEVENT
BEGIN:VEVENT
DTSTART;TZID=America/New_York:20231102T160000
DTEND;TZID=America/New_York:20311030T200000
DTSTAMP:20260425T185725
CREATED:20241227T180605Z
LAST-MODIFIED:20241227T184707Z
UID:10004188-1698940800-1951156800@scarfg.org
SUMMARY:Open Trap
DESCRIPTION:Public Shooting.  Beginners welcome!\nFor Fees\, please see the Trap Webpage here. \nhttps://scarfg.org/disciplines/trap/\n 
URL:https://scarfg.org/event/open-trap-50-2/2023-11-02/
LOCATION:Trap Range\, 21 Fish and Game Ln\, Scarborough\, ME\, 04072\, United States
CATEGORIES:Trap
END:VEVENT
BEGIN:VEVENT
DTSTART;TZID=America/New_York:20231109T160000
DTEND;TZID=America/New_York:20311106T200000
DTSTAMP:20260425T185725
CREATED:20241227T180605Z
LAST-MODIFIED:20241227T184707Z
UID:10004189-1699545600-1951761600@scarfg.org
SUMMARY:Open Trap
DESCRIPTION:Public Shooting.  Beginners welcome!\nFor Fees\, please see the Trap Webpage here. \nhttps://scarfg.org/disciplines/trap/\n 
URL:https://scarfg.org/event/open-trap-50-2/2023-11-09/
LOCATION:Trap Range\, 21 Fish and Game Ln\, Scarborough\, ME\, 04072\, United States
CATEGORIES:Trap
END:VEVENT
BEGIN:VEVENT
DTSTART;TZID=America/New_York:20231114T190000
DTEND;TZID=America/New_York:20241103T210000
DTSTAMP:20260425T185725
CREATED:20221222T153530Z
LAST-MODIFIED:20240108T160819Z
UID:10005050-1699988400-1730667600@scarfg.org
SUMMARY:General Meeting
DESCRIPTION:
URL:https://scarfg.org/event/general-meeting-14/2023-11-14/
LOCATION:Clubhouse\, 21 Fish and Game Ln\, Scarborough\, ME\, 04072\, United States
CATEGORIES:Club Events
END:VEVENT
BEGIN:VEVENT
DTSTART;TZID=America/New_York:20231116T160000
DTEND;TZID=America/New_York:20311113T200000
DTSTAMP:20260425T185725
CREATED:20241227T180605Z
LAST-MODIFIED:20241227T184707Z
UID:10004190-1700150400-1952366400@scarfg.org
SUMMARY:Open Trap
DESCRIPTION:Public Shooting.  Beginners welcome!\nFor Fees\, please see the Trap Webpage here. \nhttps://scarfg.org/disciplines/trap/\n 
URL:https://scarfg.org/event/open-trap-50-2/2023-11-16/
LOCATION:Trap Range\, 21 Fish and Game Ln\, Scarborough\, ME\, 04072\, United States
CATEGORIES:Trap
END:VEVENT
BEGIN:VEVENT
DTSTART;VALUE=DATE:20231121
DTEND;VALUE=DATE:20231122
DTSTAMP:20260425T185725
CREATED:20231019T163829Z
LAST-MODIFIED:20231103T141937Z
UID:10004899-1700524800-1700611199@scarfg.org
SUMMARY:LE Rifle in Use-Scarboro PD
DESCRIPTION:
URL:https://scarfg.org/event/le-rifle-in-use-h-e-unless-rented/
LOCATION:LE Rifle\, 21 Fish and Game Ln\, scarborough\, ME\, 07047\, United States
CATEGORIES:LE Rental Ranges
ORGANIZER;CN="Craig Hebert":MAILTO:chebert@scarboroughmaine.org
END:VEVENT
BEGIN:VEVENT
DTSTART;VALUE=DATE:20231121
DTEND;VALUE=DATE:20231122
DTSTAMP:20260425T185725
CREATED:20231106T195859Z
LAST-MODIFIED:20231106T195859Z
UID:10005452-1700524800-1700611199@scarfg.org
SUMMARY:LE 3 Rented-CCSO
DESCRIPTION:
URL:https://scarfg.org/event/le-3-rented-ccso/
LOCATION:LE 3\, 21 Fish and Game Ln\, Scarborough\, ME\, 04072\, United States
CATEGORIES:LE Rental Ranges
ORGANIZER;CN="Ashley Hall":MAILTO:ahall@cumberlandcounty.org
END:VEVENT
BEGIN:VEVENT
DTSTART;VALUE=DATE:20231121
DTEND;VALUE=DATE:20231122
DTSTAMP:20260425T185725
CREATED:20231113T172614Z
LAST-MODIFIED:20231113T172614Z
UID:10005454-1700524800-1700611199@scarfg.org
SUMMARY:LE 50 Rented-Yarmouth PD-Lowlight
DESCRIPTION:
URL:https://scarfg.org/event/le-50-rented-yarmouth-pd-lowlight-3/
LOCATION:LE 50\, 21 Fish and Game Ln\, scarborough\, ME\, 04074\, United States
CATEGORIES:LE Rental Ranges
ORGANIZER;CN="Joshua Robinson":MAILTO:Jrobinson@Yarmouth.me.us
END:VEVENT
BEGIN:VEVENT
DTSTART;TZID=America/New_York:20231122T100000
DTEND;TZID=America/New_York:20231122T150000
DTSTAMP:20260425T185725
CREATED:20221130T123446Z
LAST-MODIFIED:20231122T122024Z
UID:10004957-1700647200-1700665200@scarfg.org
SUMMARY:Sporting Clays - CLOSED
DESCRIPTION:
URL:https://scarfg.org/event/sporting-clays-85-2023-11-22/
LOCATION:Check Range Availability before selecting below
CATEGORIES:Sporting Clays
END:VEVENT
BEGIN:VEVENT
DTSTART;TZID=America/New_York:20231122T110000
DTEND;TZID=America/New_York:20231122T130000
DTSTAMP:20260425T185725
CREATED:20231103T161631Z
LAST-MODIFIED:20231103T161631Z
UID:10005448-1700650800-1700658000@scarfg.org
SUMMARY:LE Rifle in Use-H.E.- if not Rented
DESCRIPTION:
URL:https://scarfg.org/event/le-rifle-in-use-h-e-if-not-rented/
LOCATION:LE Rifle\, 21 Fish and Game Ln\, scarborough\, ME\, 07047\, United States
CATEGORIES:LE Rental Ranges
END:VEVENT
BEGIN:VEVENT
DTSTART;VALUE=DATE:20231123
DTEND;VALUE=DATE:20231124
DTSTAMP:20260425T185725
CREATED:20221118T223717Z
LAST-MODIFIED:20221118T223717Z
UID:10004936-1700697600-1700783999@scarfg.org
SUMMARY:Thanksgiving Day
DESCRIPTION:Thanksgiving Day
URL:https://scarfg.org/event/thanksgiving-day-3/
LOCATION:Check Range Availability before selecting below
CATEGORIES:Club Events
END:VEVENT
BEGIN:VEVENT
DTSTART;TZID=America/New_York:20231123T160000
DTEND;TZID=America/New_York:20231123T200000
DTSTAMP:20260425T185725
CREATED:20220128T205432Z
LAST-MODIFIED:20241227T191023Z
UID:10010745-1700755200-1700769600@scarfg.org
SUMMARY:Open Trap
DESCRIPTION:Public Shooting.  Beginners welcome!\nFor Fees\, please see the Trap Webpage here. \nhttps://scarfg.org/disciplines/trap/\n 
URL:https://scarfg.org/event/open-trap-50/2023-11-23/
LOCATION:Trap Range\, 21 Fish and Game Ln\, Scarborough\, ME\, 04072\, United States
CATEGORIES:Trap
END:VEVENT
BEGIN:VEVENT
DTSTART;TZID=America/New_York:20231126T090000
DTEND;TZID=America/New_York:20231126T140000
DTSTAMP:20260425T185725
CREATED:20221205T184134Z
LAST-MODIFIED:20221205T184134Z
UID:10004992-1700989200-1701007200@scarfg.org
SUMMARY:Open Trap
DESCRIPTION:Public Shooting.  Beginners welcome!\nFor Fees\, please see the Trap Webpage here. \nhttps://scarfg.org/disciplines/trap/
URL:https://scarfg.org/event/open-trap-91/
LOCATION:Trap Range\, 21 Fish and Game Ln\, Scarborough\, ME\, 04072\, United States
CATEGORIES:Trap
END:VEVENT
BEGIN:VEVENT
DTSTART;TZID=America/New_York:20231126T090000
DTEND;TZID=America/New_York:20231126T140000
DTSTAMP:20260425T185725
CREATED:20230925T145519Z
LAST-MODIFIED:20230925T145519Z
UID:10005383-1700989200-1701007200@scarfg.org
SUMMARY:Indoor Range Open
DESCRIPTION:
URL:https://scarfg.org/event/indoor-range-open-2/2023-11-26/
LOCATION:Indoor Range\, 21 Fish and Game Ln\, Scarborough\, ME\, 04072\, United States
CATEGORIES:Indoor Range
ORGANIZER;CN="Phil Hamilton":MAILTO:screwdriver@myfairpoint.net
END:VEVENT
BEGIN:VEVENT
DTSTART;TZID=America/New_York:20231126T100000
DTEND;TZID=America/New_York:20231126T140000
DTSTAMP:20260425T185725
CREATED:20221130T123931Z
LAST-MODIFIED:20221130T125501Z
UID:10004960-1700992800-1701007200@scarfg.org
SUMMARY:Sporting Clays
DESCRIPTION:
URL:https://scarfg.org/event/sporting-clays-86/2023-11-26/
LOCATION:Check Range Availability before selecting below
CATEGORIES:Sporting Clays
END:VEVENT
BEGIN:VEVENT
DTSTART;VALUE=DATE:20231127
DTEND;VALUE=DATE:20231128
DTSTAMP:20260425T185725
CREATED:20221219T201452Z
LAST-MODIFIED:20230312T223356Z
UID:10004616-1701043200-1701129599@scarfg.org
SUMMARY:LE 50-Rented-USCG
DESCRIPTION:
URL:https://scarfg.org/event/le-50rented-uscg/2023-11-27/
LOCATION:LE 50\, 21 Fish and Game Ln\, scarborough\, ME\, 04074\, United States
CATEGORIES:LE Rental Ranges
ORGANIZER;CN="PO1 Donovan Warner":MAILTO:Donovan.M.Warner@uscg.mil
END:VEVENT
BEGIN:VEVENT
DTSTART;VALUE=DATE:20231127
DTEND;VALUE=DATE:20231129
DTSTAMP:20260425T185725
CREATED:20231016T155708Z
LAST-MODIFIED:20231016T155708Z
UID:10004893-1701043200-1701215999@scarfg.org
SUMMARY:LE Rifle Rented-DHS/ERO
DESCRIPTION:
URL:https://scarfg.org/event/le-rifle-rented-dhs-ero-9/
LOCATION:LE Rifle\, 21 Fish and Game Ln\, scarborough\, ME\, 07047\, United States
CATEGORIES:LE Rental Ranges
ORGANIZER;CN="Chris Semler":MAILTO:CHRISTOPHER.SEMLER@ice.dhs.gov
END:VEVENT
BEGIN:VEVENT
DTSTART;TZID=America/New_York:20231130T160000
DTEND;TZID=America/New_York:20231130T200000
DTSTAMP:20260425T185725
CREATED:20220128T205432Z
LAST-MODIFIED:20241227T191023Z
UID:10010746-1701360000-1701374400@scarfg.org
SUMMARY:Open Trap
DESCRIPTION:Public Shooting.  Beginners welcome!\nFor Fees\, please see the Trap Webpage here. \nhttps://scarfg.org/disciplines/trap/\n 
URL:https://scarfg.org/event/open-trap-50/2023-11-30/
LOCATION:Trap Range\, 21 Fish and Game Ln\, Scarborough\, ME\, 04072\, United States
CATEGORIES:Trap
END:VEVENT
BEGIN:VEVENT
DTSTART;TZID=America/New_York:20231130T160000
DTEND;TZID=America/New_York:20311127T200000
DTSTAMP:20260425T185725
CREATED:20241227T180605Z
LAST-MODIFIED:20241227T184707Z
UID:10004191-1701360000-1953576000@scarfg.org
SUMMARY:Open Trap
DESCRIPTION:Public Shooting.  Beginners welcome!\nFor Fees\, please see the Trap Webpage here. \nhttps://scarfg.org/disciplines/trap/\n 
URL:https://scarfg.org/event/open-trap-50-2/2023-11-30/
LOCATION:Trap Range\, 21 Fish and Game Ln\, Scarborough\, ME\, 04072\, United States
CATEGORIES:Trap
END:VEVENT
BEGIN:VEVENT
DTSTART;VALUE=DATE:20231201
DTEND;VALUE=DATE:20231202
DTSTAMP:20260425T185725
CREATED:20231130T034102Z
LAST-MODIFIED:20231130T034102Z
UID:10004931-1701388800-1701475199@scarfg.org
SUMMARY:LE Rifle Rented - Portland PD
DESCRIPTION:
URL:https://scarfg.org/event/le-rifle-rented-portland-pd-7/
LOCATION:LE Rifle\, 21 Fish and Game Ln\, scarborough\, ME\, 07047\, United States
CATEGORIES:LE Rental Ranges
ORGANIZER;CN="Jeff Druan":MAILTO:jeffreyd@portlandmaine.gov
END:VEVENT
BEGIN:VEVENT
DTSTART;VALUE=DATE:20231202
DTEND;VALUE=DATE:20231203
DTSTAMP:20260425T185725
CREATED:20220910T013803Z
LAST-MODIFIED:20220910T013803Z
UID:10004845-1701475200-1701561599@scarfg.org
SUMMARY:LE Rifle Rented - SRT
DESCRIPTION:
URL:https://scarfg.org/event/le-rifle-rented-srt-25/2023-12-02/
LOCATION:LE Rifle\, 21 Fish and Game Ln\, scarborough\, ME\, 07047\, United States
CATEGORIES:LE Rental Ranges
ORGANIZER;CN="Peter Joyce":MAILTO:peter@srtconceptsllc.com
END:VEVENT
BEGIN:VEVENT
DTSTART;VALUE=DATE:20231202
DTEND;VALUE=DATE:20231203
DTSTAMP:20260425T185725
CREATED:20231117T173112Z
LAST-MODIFIED:20231117T173239Z
UID:10004913-1701475200-1701561599@scarfg.org
SUMMARY:LE 50 in Use-SFGA Training
DESCRIPTION:
URL:https://scarfg.org/event/le-5o-in-use-sfga-training/
LOCATION:LE 50\, 21 Fish and Game Ln\, scarborough\, ME\, 04074\, United States
CATEGORIES:LE Rental Ranges
END:VEVENT
BEGIN:VEVENT
DTSTART;VALUE=DATE:20231202
DTEND;VALUE=DATE:20231204
DTSTAMP:20260425T185725
CREATED:20221129T175800Z
LAST-MODIFIED:20231205T175752Z
UID:10004537-1701475200-1701647999@scarfg.org
SUMMARY:Sporting Clays NSCA Frozen 5 #2
DESCRIPTION:Final Scores are on ScoreChaser.com\nThis shoot will feature the following NSCA registered event(s): \n•  FROZEN FIVE 2 (MAIN EVENT): 100 Registered Targets\n•  FROZEN FIVE 2.5 (SECOND MAIN EVENT): 100 Registered Targets \nEuropean Start 8am – 3pm (squad yourself) – no pre-squadding. \nThe full event info can be found here: 23/24 Frozen Five #2 + 2.5 Event Info\nThe Frozen Five Series prizes can be found here:  23/24 Frozen Five Series Prizes\n \nView scores on ScoreChaser.com\nQuestions\, contact us at: sfgasportingclays@icloud.com
URL:https://scarfg.org/event/sporting-clays-nsca-frozen-5-2-3/
LOCATION:ME
CATEGORIES:Sporting Clays
END:VEVENT
BEGIN:VEVENT
DTSTART;TZID=America/New_York:20231202T080000
DTEND;TZID=America/New_York:20231202T170000
DTSTAMP:20260425T185725
CREATED:20231117T155646Z
LAST-MODIFIED:20231117T155646Z
UID:10004911-1701504000-1701536400@scarfg.org
SUMMARY:NRA Basic Pistol class
DESCRIPTION:
URL:https://scarfg.org/event/nra-basic-pistol-class/
LOCATION:Clubhouse\, 21 Fish and Game Ln\, Scarborough\, ME\, 04072\, United States
CATEGORIES:Education & Training
END:VEVENT
BEGIN:VEVENT
DTSTART;TZID=America/New_York:20231203T090000
DTEND;TZID=America/New_York:20231203T140000
DTSTAMP:20260425T185725
CREATED:20230925T145519Z
LAST-MODIFIED:20230925T145519Z
UID:10005384-1701594000-1701612000@scarfg.org
SUMMARY:Indoor Range Open
DESCRIPTION:
URL:https://scarfg.org/event/indoor-range-open-2/2023-12-03/
LOCATION:Indoor Range\, 21 Fish and Game Ln\, Scarborough\, ME\, 04072\, United States
CATEGORIES:Indoor Range
ORGANIZER;CN="Phil Hamilton":MAILTO:screwdriver@myfairpoint.net
END:VEVENT
END:VCALENDAR