BEGIN:VCALENDAR
VERSION:2.0
PRODID:-//Scarborough Fish &amp; Game Association - ECPv6.15.20//NONSGML v1.0//EN
CALSCALE:GREGORIAN
METHOD:PUBLISH
X-WR-CALNAME:Scarborough Fish &amp; Game Association
X-ORIGINAL-URL:https://scarfg.org
X-WR-CALDESC:Events for Scarborough Fish &amp; Game Association
REFRESH-INTERVAL;VALUE=DURATION:PT1H
X-Robots-Tag:noindex
X-PUBLISHED-TTL:PT1H
BEGIN:VTIMEZONE
TZID:America/New_York
BEGIN:DAYLIGHT
TZOFFSETFROM:-0500
TZOFFSETTO:-0400
TZNAME:EDT
DTSTART:20410310T070000
END:DAYLIGHT
BEGIN:STANDARD
TZOFFSETFROM:-0400
TZOFFSETTO:-0500
TZNAME:EST
DTSTART:20411103T060000
END:STANDARD
BEGIN:DAYLIGHT
TZOFFSETFROM:-0500
TZOFFSETTO:-0400
TZNAME:EDT
DTSTART:20420309T070000
END:DAYLIGHT
BEGIN:STANDARD
TZOFFSETFROM:-0400
TZOFFSETTO:-0500
TZNAME:EST
DTSTART:20421102T060000
END:STANDARD
BEGIN:DAYLIGHT
TZOFFSETFROM:-0500
TZOFFSETTO:-0400
TZNAME:EDT
DTSTART:20430308T070000
END:DAYLIGHT
BEGIN:STANDARD
TZOFFSETFROM:-0400
TZOFFSETTO:-0500
TZNAME:EST
DTSTART:20431101T060000
END:STANDARD
BEGIN:DAYLIGHT
TZOFFSETFROM:-0500
TZOFFSETTO:-0400
TZNAME:EDT
DTSTART:20440313T070000
END:DAYLIGHT
BEGIN:STANDARD
TZOFFSETFROM:-0400
TZOFFSETTO:-0500
TZNAME:EST
DTSTART:20441106T060000
END:STANDARD
BEGIN:DAYLIGHT
TZOFFSETFROM:-0500
TZOFFSETTO:-0400
TZNAME:EDT
DTSTART:20450312T070000
END:DAYLIGHT
BEGIN:STANDARD
TZOFFSETFROM:-0400
TZOFFSETTO:-0500
TZNAME:EST
DTSTART:20451105T060000
END:STANDARD
BEGIN:DAYLIGHT
TZOFFSETFROM:-0500
TZOFFSETTO:-0400
TZNAME:EDT
DTSTART:20460311T070000
END:DAYLIGHT
BEGIN:STANDARD
TZOFFSETFROM:-0400
TZOFFSETTO:-0500
TZNAME:EST
DTSTART:20461104T060000
END:STANDARD
BEGIN:DAYLIGHT
TZOFFSETFROM:-0500
TZOFFSETTO:-0400
TZNAME:EDT
DTSTART:20470310T070000
END:DAYLIGHT
BEGIN:STANDARD
TZOFFSETFROM:-0400
TZOFFSETTO:-0500
TZNAME:EST
DTSTART:20471103T060000
END:STANDARD
BEGIN:DAYLIGHT
TZOFFSETFROM:-0500
TZOFFSETTO:-0400
TZNAME:EDT
DTSTART:20480308T070000
END:DAYLIGHT
BEGIN:STANDARD
TZOFFSETFROM:-0400
TZOFFSETTO:-0500
TZNAME:EST
DTSTART:20481101T060000
END:STANDARD
BEGIN:DAYLIGHT
TZOFFSETFROM:-0500
TZOFFSETTO:-0400
TZNAME:EDT
DTSTART:20490314T070000
END:DAYLIGHT
BEGIN:STANDARD
TZOFFSETFROM:-0400
TZOFFSETTO:-0500
TZNAME:EST
DTSTART:20491107T060000
END:STANDARD
BEGIN:DAYLIGHT
TZOFFSETFROM:-0500
TZOFFSETTO:-0400
TZNAME:EDT
DTSTART:20500313T070000
END:DAYLIGHT
BEGIN:STANDARD
TZOFFSETFROM:-0400
TZOFFSETTO:-0500
TZNAME:EST
DTSTART:20501106T060000
END:STANDARD
BEGIN:DAYLIGHT
TZOFFSETFROM:-0500
TZOFFSETTO:-0400
TZNAME:EDT
DTSTART:20510312T070000
END:DAYLIGHT
BEGIN:STANDARD
TZOFFSETFROM:-0400
TZOFFSETTO:-0500
TZNAME:EST
DTSTART:20511105T060000
END:STANDARD
BEGIN:DAYLIGHT
TZOFFSETFROM:-0500
TZOFFSETTO:-0400
TZNAME:EDT
DTSTART:20520310T070000
END:DAYLIGHT
BEGIN:STANDARD
TZOFFSETFROM:-0400
TZOFFSETTO:-0500
TZNAME:EST
DTSTART:20521103T060000
END:STANDARD
BEGIN:DAYLIGHT
TZOFFSETFROM:-0500
TZOFFSETTO:-0400
TZNAME:EDT
DTSTART:20530309T070000
END:DAYLIGHT
BEGIN:STANDARD
TZOFFSETFROM:-0400
TZOFFSETTO:-0500
TZNAME:EST
DTSTART:20531102T060000
END:STANDARD
BEGIN:DAYLIGHT
TZOFFSETFROM:-0500
TZOFFSETTO:-0400
TZNAME:EDT
DTSTART:20540308T070000
END:DAYLIGHT
BEGIN:STANDARD
TZOFFSETFROM:-0400
TZOFFSETTO:-0500
TZNAME:EST
DTSTART:20541101T060000
END:STANDARD
BEGIN:DAYLIGHT
TZOFFSETFROM:-0500
TZOFFSETTO:-0400
TZNAME:EDT
DTSTART:20550314T070000
END:DAYLIGHT
BEGIN:STANDARD
TZOFFSETFROM:-0400
TZOFFSETTO:-0500
TZNAME:EST
DTSTART:20551107T060000
END:STANDARD
BEGIN:DAYLIGHT
TZOFFSETFROM:-0500
TZOFFSETTO:-0400
TZNAME:EDT
DTSTART:20560312T070000
END:DAYLIGHT
BEGIN:STANDARD
TZOFFSETFROM:-0400
TZOFFSETTO:-0500
TZNAME:EST
DTSTART:20561105T060000
END:STANDARD
BEGIN:DAYLIGHT
TZOFFSETFROM:-0500
TZOFFSETTO:-0400
TZNAME:EDT
DTSTART:20570311T070000
END:DAYLIGHT
BEGIN:STANDARD
TZOFFSETFROM:-0400
TZOFFSETTO:-0500
TZNAME:EST
DTSTART:20571104T060000
END:STANDARD
BEGIN:DAYLIGHT
TZOFFSETFROM:-0500
TZOFFSETTO:-0400
TZNAME:EDT
DTSTART:20580310T070000
END:DAYLIGHT
BEGIN:STANDARD
TZOFFSETFROM:-0400
TZOFFSETTO:-0500
TZNAME:EST
DTSTART:20581103T060000
END:STANDARD
BEGIN:DAYLIGHT
TZOFFSETFROM:-0500
TZOFFSETTO:-0400
TZNAME:EDT
DTSTART:20590309T070000
END:DAYLIGHT
BEGIN:STANDARD
TZOFFSETFROM:-0400
TZOFFSETTO:-0500
TZNAME:EST
DTSTART:20591102T060000
END:STANDARD
BEGIN:DAYLIGHT
TZOFFSETFROM:-0500
TZOFFSETTO:-0400
TZNAME:EDT
DTSTART:20600314T070000
END:DAYLIGHT
BEGIN:STANDARD
TZOFFSETFROM:-0400
TZOFFSETTO:-0500
TZNAME:EST
DTSTART:20601107T060000
END:STANDARD
END:VTIMEZONE
BEGIN:VEVENT
DTSTART;TZID=America/New_York:20420724T000000
DTEND;TZID=America/New_York:20580717T230000
DTSTAMP:20260421T172556
CREATED:20241227T175702Z
LAST-MODIFIED:20241227T175702Z
UID:10009946-2289772800-2794172400@scarfg.org
SUMMARY:Open Trap
DESCRIPTION:Public Shooting.  Beginners welcome!\nFor Fees\, please see the Trap Webpage here. \nhttps://scarfg.org/disciplines/trap/\n 
URL:https://scarfg.org/event/open-trap-15/2042-07-24/
LOCATION:Trap Range\, 21 Fish and Game Ln\, Scarborough\, ME\, 04072\, United States
CATEGORIES:Trap
END:VEVENT
BEGIN:VEVENT
DTSTART;TZID=America/New_York:20420731T000000
DTEND;TZID=America/New_York:20580724T230000
DTSTAMP:20260421T172556
CREATED:20241227T175702Z
LAST-MODIFIED:20241227T175702Z
UID:10009947-2290377600-2794777200@scarfg.org
SUMMARY:Open Trap
DESCRIPTION:Public Shooting.  Beginners welcome!\nFor Fees\, please see the Trap Webpage here. \nhttps://scarfg.org/disciplines/trap/\n 
URL:https://scarfg.org/event/open-trap-15/2042-07-31/
LOCATION:Trap Range\, 21 Fish and Game Ln\, Scarborough\, ME\, 04072\, United States
CATEGORIES:Trap
END:VEVENT
BEGIN:VEVENT
DTSTART;TZID=America/New_York:20420807T000000
DTEND;TZID=America/New_York:20580731T230000
DTSTAMP:20260421T172556
CREATED:20241227T175702Z
LAST-MODIFIED:20241227T175702Z
UID:10009948-2290982400-2795382000@scarfg.org
SUMMARY:Open Trap
DESCRIPTION:Public Shooting.  Beginners welcome!\nFor Fees\, please see the Trap Webpage here. \nhttps://scarfg.org/disciplines/trap/\n 
URL:https://scarfg.org/event/open-trap-15/2042-08-07/
LOCATION:Trap Range\, 21 Fish and Game Ln\, Scarborough\, ME\, 04072\, United States
CATEGORIES:Trap
END:VEVENT
BEGIN:VEVENT
DTSTART;TZID=America/New_York:20420814T000000
DTEND;TZID=America/New_York:20580807T230000
DTSTAMP:20260421T172556
CREATED:20241227T175702Z
LAST-MODIFIED:20241227T175702Z
UID:10009949-2291587200-2795986800@scarfg.org
SUMMARY:Open Trap
DESCRIPTION:Public Shooting.  Beginners welcome!\nFor Fees\, please see the Trap Webpage here. \nhttps://scarfg.org/disciplines/trap/\n 
URL:https://scarfg.org/event/open-trap-15/2042-08-14/
LOCATION:Trap Range\, 21 Fish and Game Ln\, Scarborough\, ME\, 04072\, United States
CATEGORIES:Trap
END:VEVENT
BEGIN:VEVENT
DTSTART;TZID=America/New_York:20420821T000000
DTEND;TZID=America/New_York:20580814T230000
DTSTAMP:20260421T172556
CREATED:20241227T175702Z
LAST-MODIFIED:20241227T175702Z
UID:10009950-2292192000-2796591600@scarfg.org
SUMMARY:Open Trap
DESCRIPTION:Public Shooting.  Beginners welcome!\nFor Fees\, please see the Trap Webpage here. \nhttps://scarfg.org/disciplines/trap/\n 
URL:https://scarfg.org/event/open-trap-15/2042-08-21/
LOCATION:Trap Range\, 21 Fish and Game Ln\, Scarborough\, ME\, 04072\, United States
CATEGORIES:Trap
END:VEVENT
BEGIN:VEVENT
DTSTART;TZID=America/New_York:20420828T000000
DTEND;TZID=America/New_York:20580821T230000
DTSTAMP:20260421T172556
CREATED:20241227T175702Z
LAST-MODIFIED:20241227T175702Z
UID:10009951-2292796800-2797196400@scarfg.org
SUMMARY:Open Trap
DESCRIPTION:Public Shooting.  Beginners welcome!\nFor Fees\, please see the Trap Webpage here. \nhttps://scarfg.org/disciplines/trap/\n 
URL:https://scarfg.org/event/open-trap-15/2042-08-28/
LOCATION:Trap Range\, 21 Fish and Game Ln\, Scarborough\, ME\, 04072\, United States
CATEGORIES:Trap
END:VEVENT
BEGIN:VEVENT
DTSTART;TZID=America/New_York:20420904T000000
DTEND;TZID=America/New_York:20580828T230000
DTSTAMP:20260421T172556
CREATED:20241227T175702Z
LAST-MODIFIED:20241227T175702Z
UID:10009952-2293401600-2797801200@scarfg.org
SUMMARY:Open Trap
DESCRIPTION:Public Shooting.  Beginners welcome!\nFor Fees\, please see the Trap Webpage here. \nhttps://scarfg.org/disciplines/trap/\n 
URL:https://scarfg.org/event/open-trap-15/2042-09-04/
LOCATION:Trap Range\, 21 Fish and Game Ln\, Scarborough\, ME\, 04072\, United States
CATEGORIES:Trap
END:VEVENT
BEGIN:VEVENT
DTSTART;TZID=America/New_York:20420911T000000
DTEND;TZID=America/New_York:20580904T230000
DTSTAMP:20260421T172556
CREATED:20241227T175702Z
LAST-MODIFIED:20241227T175702Z
UID:10009953-2294006400-2798406000@scarfg.org
SUMMARY:Open Trap
DESCRIPTION:Public Shooting.  Beginners welcome!\nFor Fees\, please see the Trap Webpage here. \nhttps://scarfg.org/disciplines/trap/\n 
URL:https://scarfg.org/event/open-trap-15/2042-09-11/
LOCATION:Trap Range\, 21 Fish and Game Ln\, Scarborough\, ME\, 04072\, United States
CATEGORIES:Trap
END:VEVENT
BEGIN:VEVENT
DTSTART;TZID=America/New_York:20420918T000000
DTEND;TZID=America/New_York:20580911T230000
DTSTAMP:20260421T172556
CREATED:20241227T175702Z
LAST-MODIFIED:20241227T175702Z
UID:10009954-2294611200-2799010800@scarfg.org
SUMMARY:Open Trap
DESCRIPTION:Public Shooting.  Beginners welcome!\nFor Fees\, please see the Trap Webpage here. \nhttps://scarfg.org/disciplines/trap/\n 
URL:https://scarfg.org/event/open-trap-15/2042-09-18/
LOCATION:Trap Range\, 21 Fish and Game Ln\, Scarborough\, ME\, 04072\, United States
CATEGORIES:Trap
END:VEVENT
BEGIN:VEVENT
DTSTART;TZID=America/New_York:20420925T000000
DTEND;TZID=America/New_York:20580918T230000
DTSTAMP:20260421T172556
CREATED:20241227T175702Z
LAST-MODIFIED:20241227T175702Z
UID:10009955-2295216000-2799615600@scarfg.org
SUMMARY:Open Trap
DESCRIPTION:Public Shooting.  Beginners welcome!\nFor Fees\, please see the Trap Webpage here. \nhttps://scarfg.org/disciplines/trap/\n 
URL:https://scarfg.org/event/open-trap-15/2042-09-25/
LOCATION:Trap Range\, 21 Fish and Game Ln\, Scarborough\, ME\, 04072\, United States
CATEGORIES:Trap
END:VEVENT
BEGIN:VEVENT
DTSTART;TZID=America/New_York:20421002T000000
DTEND;TZID=America/New_York:20580925T230000
DTSTAMP:20260421T172556
CREATED:20241227T175702Z
LAST-MODIFIED:20241227T175702Z
UID:10009956-2295820800-2800220400@scarfg.org
SUMMARY:Open Trap
DESCRIPTION:Public Shooting.  Beginners welcome!\nFor Fees\, please see the Trap Webpage here. \nhttps://scarfg.org/disciplines/trap/\n 
URL:https://scarfg.org/event/open-trap-15/2042-10-02/
LOCATION:Trap Range\, 21 Fish and Game Ln\, Scarborough\, ME\, 04072\, United States
CATEGORIES:Trap
END:VEVENT
BEGIN:VEVENT
DTSTART;TZID=America/New_York:20421009T000000
DTEND;TZID=America/New_York:20581002T230000
DTSTAMP:20260421T172556
CREATED:20241227T175702Z
LAST-MODIFIED:20241227T175702Z
UID:10009957-2296425600-2800825200@scarfg.org
SUMMARY:Open Trap
DESCRIPTION:Public Shooting.  Beginners welcome!\nFor Fees\, please see the Trap Webpage here. \nhttps://scarfg.org/disciplines/trap/\n 
URL:https://scarfg.org/event/open-trap-15/2042-10-09/
LOCATION:Trap Range\, 21 Fish and Game Ln\, Scarborough\, ME\, 04072\, United States
CATEGORIES:Trap
END:VEVENT
BEGIN:VEVENT
DTSTART;TZID=America/New_York:20421016T000000
DTEND;TZID=America/New_York:20581009T230000
DTSTAMP:20260421T172556
CREATED:20241227T175702Z
LAST-MODIFIED:20241227T175702Z
UID:10009958-2297030400-2801430000@scarfg.org
SUMMARY:Open Trap
DESCRIPTION:Public Shooting.  Beginners welcome!\nFor Fees\, please see the Trap Webpage here. \nhttps://scarfg.org/disciplines/trap/\n 
URL:https://scarfg.org/event/open-trap-15/2042-10-16/
LOCATION:Trap Range\, 21 Fish and Game Ln\, Scarborough\, ME\, 04072\, United States
CATEGORIES:Trap
END:VEVENT
BEGIN:VEVENT
DTSTART;TZID=America/New_York:20421023T000000
DTEND;TZID=America/New_York:20581016T230000
DTSTAMP:20260421T172556
CREATED:20241227T175702Z
LAST-MODIFIED:20241227T175702Z
UID:10009959-2297635200-2802034800@scarfg.org
SUMMARY:Open Trap
DESCRIPTION:Public Shooting.  Beginners welcome!\nFor Fees\, please see the Trap Webpage here. \nhttps://scarfg.org/disciplines/trap/\n 
URL:https://scarfg.org/event/open-trap-15/2042-10-23/
LOCATION:Trap Range\, 21 Fish and Game Ln\, Scarborough\, ME\, 04072\, United States
CATEGORIES:Trap
END:VEVENT
BEGIN:VEVENT
DTSTART;TZID=America/New_York:20421030T000000
DTEND;TZID=America/New_York:20581023T230000
DTSTAMP:20260421T172556
CREATED:20241227T175702Z
LAST-MODIFIED:20241227T175702Z
UID:10009960-2298240000-2802639600@scarfg.org
SUMMARY:Open Trap
DESCRIPTION:Public Shooting.  Beginners welcome!\nFor Fees\, please see the Trap Webpage here. \nhttps://scarfg.org/disciplines/trap/\n 
URL:https://scarfg.org/event/open-trap-15/2042-10-30/
LOCATION:Trap Range\, 21 Fish and Game Ln\, Scarborough\, ME\, 04072\, United States
CATEGORIES:Trap
END:VEVENT
BEGIN:VEVENT
DTSTART;TZID=America/New_York:20421106T000000
DTEND;TZID=America/New_York:20581030T230000
DTSTAMP:20260421T172556
CREATED:20241227T175702Z
LAST-MODIFIED:20241227T175702Z
UID:10009961-2298844800-2803244400@scarfg.org
SUMMARY:Open Trap
DESCRIPTION:Public Shooting.  Beginners welcome!\nFor Fees\, please see the Trap Webpage here. \nhttps://scarfg.org/disciplines/trap/\n 
URL:https://scarfg.org/event/open-trap-15/2042-11-06/
LOCATION:Trap Range\, 21 Fish and Game Ln\, Scarborough\, ME\, 04072\, United States
CATEGORIES:Trap
END:VEVENT
BEGIN:VEVENT
DTSTART;TZID=America/New_York:20421113T000000
DTEND;TZID=America/New_York:20581106T230000
DTSTAMP:20260421T172556
CREATED:20241227T175702Z
LAST-MODIFIED:20241227T175702Z
UID:10009962-2299449600-2803849200@scarfg.org
SUMMARY:Open Trap
DESCRIPTION:Public Shooting.  Beginners welcome!\nFor Fees\, please see the Trap Webpage here. \nhttps://scarfg.org/disciplines/trap/\n 
URL:https://scarfg.org/event/open-trap-15/2042-11-13/
LOCATION:Trap Range\, 21 Fish and Game Ln\, Scarborough\, ME\, 04072\, United States
CATEGORIES:Trap
END:VEVENT
BEGIN:VEVENT
DTSTART;TZID=America/New_York:20421120T000000
DTEND;TZID=America/New_York:20581113T230000
DTSTAMP:20260421T172556
CREATED:20241227T175702Z
LAST-MODIFIED:20241227T175702Z
UID:10009963-2300054400-2804454000@scarfg.org
SUMMARY:Open Trap
DESCRIPTION:Public Shooting.  Beginners welcome!\nFor Fees\, please see the Trap Webpage here. \nhttps://scarfg.org/disciplines/trap/\n 
URL:https://scarfg.org/event/open-trap-15/2042-11-20/
LOCATION:Trap Range\, 21 Fish and Game Ln\, Scarborough\, ME\, 04072\, United States
CATEGORIES:Trap
END:VEVENT
BEGIN:VEVENT
DTSTART;TZID=America/New_York:20421127T000000
DTEND;TZID=America/New_York:20581120T230000
DTSTAMP:20260421T172556
CREATED:20241227T175702Z
LAST-MODIFIED:20241227T175702Z
UID:10009964-2300659200-2805058800@scarfg.org
SUMMARY:Open Trap
DESCRIPTION:Public Shooting.  Beginners welcome!\nFor Fees\, please see the Trap Webpage here. \nhttps://scarfg.org/disciplines/trap/\n 
URL:https://scarfg.org/event/open-trap-15/2042-11-27/
LOCATION:Trap Range\, 21 Fish and Game Ln\, Scarborough\, ME\, 04072\, United States
CATEGORIES:Trap
END:VEVENT
BEGIN:VEVENT
DTSTART;TZID=America/New_York:20421204T000000
DTEND;TZID=America/New_York:20581127T230000
DTSTAMP:20260421T172556
CREATED:20241227T175702Z
LAST-MODIFIED:20241227T175702Z
UID:10009965-2301264000-2805663600@scarfg.org
SUMMARY:Open Trap
DESCRIPTION:Public Shooting.  Beginners welcome!\nFor Fees\, please see the Trap Webpage here. \nhttps://scarfg.org/disciplines/trap/\n 
URL:https://scarfg.org/event/open-trap-15/2042-12-04/
LOCATION:Trap Range\, 21 Fish and Game Ln\, Scarborough\, ME\, 04072\, United States
CATEGORIES:Trap
END:VEVENT
BEGIN:VEVENT
DTSTART;TZID=America/New_York:20421211T000000
DTEND;TZID=America/New_York:20581204T230000
DTSTAMP:20260421T172556
CREATED:20241227T175702Z
LAST-MODIFIED:20241227T175702Z
UID:10009966-2301868800-2806268400@scarfg.org
SUMMARY:Open Trap
DESCRIPTION:Public Shooting.  Beginners welcome!\nFor Fees\, please see the Trap Webpage here. \nhttps://scarfg.org/disciplines/trap/\n 
URL:https://scarfg.org/event/open-trap-15/2042-12-11/
LOCATION:Trap Range\, 21 Fish and Game Ln\, Scarborough\, ME\, 04072\, United States
CATEGORIES:Trap
END:VEVENT
BEGIN:VEVENT
DTSTART;TZID=America/New_York:20421218T000000
DTEND;TZID=America/New_York:20581211T230000
DTSTAMP:20260421T172556
CREATED:20241227T175702Z
LAST-MODIFIED:20241227T175702Z
UID:10009967-2302473600-2806873200@scarfg.org
SUMMARY:Open Trap
DESCRIPTION:Public Shooting.  Beginners welcome!\nFor Fees\, please see the Trap Webpage here. \nhttps://scarfg.org/disciplines/trap/\n 
URL:https://scarfg.org/event/open-trap-15/2042-12-18/
LOCATION:Trap Range\, 21 Fish and Game Ln\, Scarborough\, ME\, 04072\, United States
CATEGORIES:Trap
END:VEVENT
BEGIN:VEVENT
DTSTART;TZID=America/New_York:20421225T000000
DTEND;TZID=America/New_York:20581218T230000
DTSTAMP:20260421T172556
CREATED:20241227T175702Z
LAST-MODIFIED:20241227T175702Z
UID:10009968-2303078400-2807478000@scarfg.org
SUMMARY:Open Trap
DESCRIPTION:Public Shooting.  Beginners welcome!\nFor Fees\, please see the Trap Webpage here. \nhttps://scarfg.org/disciplines/trap/\n 
URL:https://scarfg.org/event/open-trap-15/2042-12-25/
LOCATION:Trap Range\, 21 Fish and Game Ln\, Scarborough\, ME\, 04072\, United States
CATEGORIES:Trap
END:VEVENT
BEGIN:VEVENT
DTSTART;TZID=America/New_York:20430101T000000
DTEND;TZID=America/New_York:20581225T230000
DTSTAMP:20260421T172556
CREATED:20241227T175702Z
LAST-MODIFIED:20241227T175702Z
UID:10009969-2303683200-2808082800@scarfg.org
SUMMARY:Open Trap
DESCRIPTION:Public Shooting.  Beginners welcome!\nFor Fees\, please see the Trap Webpage here. \nhttps://scarfg.org/disciplines/trap/\n 
URL:https://scarfg.org/event/open-trap-15/2043-01-01/
LOCATION:Trap Range\, 21 Fish and Game Ln\, Scarborough\, ME\, 04072\, United States
CATEGORIES:Trap
END:VEVENT
BEGIN:VEVENT
DTSTART;TZID=America/New_York:20430108T000000
DTEND;TZID=America/New_York:20590101T230000
DTSTAMP:20260421T172556
CREATED:20241227T175702Z
LAST-MODIFIED:20241227T175702Z
UID:10009970-2304288000-2808687600@scarfg.org
SUMMARY:Open Trap
DESCRIPTION:Public Shooting.  Beginners welcome!\nFor Fees\, please see the Trap Webpage here. \nhttps://scarfg.org/disciplines/trap/\n 
URL:https://scarfg.org/event/open-trap-15/2043-01-08/
LOCATION:Trap Range\, 21 Fish and Game Ln\, Scarborough\, ME\, 04072\, United States
CATEGORIES:Trap
END:VEVENT
BEGIN:VEVENT
DTSTART;TZID=America/New_York:20430115T000000
DTEND;TZID=America/New_York:20590108T230000
DTSTAMP:20260421T172556
CREATED:20241227T175702Z
LAST-MODIFIED:20241227T175702Z
UID:10009971-2304892800-2809292400@scarfg.org
SUMMARY:Open Trap
DESCRIPTION:Public Shooting.  Beginners welcome!\nFor Fees\, please see the Trap Webpage here. \nhttps://scarfg.org/disciplines/trap/\n 
URL:https://scarfg.org/event/open-trap-15/2043-01-15/
LOCATION:Trap Range\, 21 Fish and Game Ln\, Scarborough\, ME\, 04072\, United States
CATEGORIES:Trap
END:VEVENT
BEGIN:VEVENT
DTSTART;TZID=America/New_York:20430122T000000
DTEND;TZID=America/New_York:20590115T230000
DTSTAMP:20260421T172556
CREATED:20241227T175702Z
LAST-MODIFIED:20241227T175702Z
UID:10009972-2305497600-2809897200@scarfg.org
SUMMARY:Open Trap
DESCRIPTION:Public Shooting.  Beginners welcome!\nFor Fees\, please see the Trap Webpage here. \nhttps://scarfg.org/disciplines/trap/\n 
URL:https://scarfg.org/event/open-trap-15/2043-01-22/
LOCATION:Trap Range\, 21 Fish and Game Ln\, Scarborough\, ME\, 04072\, United States
CATEGORIES:Trap
END:VEVENT
BEGIN:VEVENT
DTSTART;TZID=America/New_York:20430129T000000
DTEND;TZID=America/New_York:20590122T230000
DTSTAMP:20260421T172556
CREATED:20241227T175702Z
LAST-MODIFIED:20241227T175702Z
UID:10009973-2306102400-2810502000@scarfg.org
SUMMARY:Open Trap
DESCRIPTION:Public Shooting.  Beginners welcome!\nFor Fees\, please see the Trap Webpage here. \nhttps://scarfg.org/disciplines/trap/\n 
URL:https://scarfg.org/event/open-trap-15/2043-01-29/
LOCATION:Trap Range\, 21 Fish and Game Ln\, Scarborough\, ME\, 04072\, United States
CATEGORIES:Trap
END:VEVENT
BEGIN:VEVENT
DTSTART;TZID=America/New_York:20430205T000000
DTEND;TZID=America/New_York:20590129T230000
DTSTAMP:20260421T172556
CREATED:20241227T175702Z
LAST-MODIFIED:20241227T175702Z
UID:10009974-2306707200-2811106800@scarfg.org
SUMMARY:Open Trap
DESCRIPTION:Public Shooting.  Beginners welcome!\nFor Fees\, please see the Trap Webpage here. \nhttps://scarfg.org/disciplines/trap/\n 
URL:https://scarfg.org/event/open-trap-15/2043-02-05/
LOCATION:Trap Range\, 21 Fish and Game Ln\, Scarborough\, ME\, 04072\, United States
CATEGORIES:Trap
END:VEVENT
BEGIN:VEVENT
DTSTART;TZID=America/New_York:20430212T000000
DTEND;TZID=America/New_York:20590205T230000
DTSTAMP:20260421T172556
CREATED:20241227T175702Z
LAST-MODIFIED:20241227T175702Z
UID:10009975-2307312000-2811711600@scarfg.org
SUMMARY:Open Trap
DESCRIPTION:Public Shooting.  Beginners welcome!\nFor Fees\, please see the Trap Webpage here. \nhttps://scarfg.org/disciplines/trap/\n 
URL:https://scarfg.org/event/open-trap-15/2043-02-12/
LOCATION:Trap Range\, 21 Fish and Game Ln\, Scarborough\, ME\, 04072\, United States
CATEGORIES:Trap
END:VEVENT
END:VCALENDAR