BEGIN:VCALENDAR
VERSION:2.0
PRODID:-//Scarborough Fish &amp; Game Association - ECPv6.15.20//NONSGML v1.0//EN
CALSCALE:GREGORIAN
METHOD:PUBLISH
X-WR-CALNAME:Scarborough Fish &amp; Game Association
X-ORIGINAL-URL:https://scarfg.org
X-WR-CALDESC:Events for Scarborough Fish &amp; Game Association
REFRESH-INTERVAL;VALUE=DURATION:PT1H
X-Robots-Tag:noindex
X-PUBLISHED-TTL:PT1H
BEGIN:VTIMEZONE
TZID:America/New_York
BEGIN:DAYLIGHT
TZOFFSETFROM:-0500
TZOFFSETTO:-0400
TZNAME:EDT
DTSTART:20400311T070000
END:DAYLIGHT
BEGIN:STANDARD
TZOFFSETFROM:-0400
TZOFFSETTO:-0500
TZNAME:EST
DTSTART:20401104T060000
END:STANDARD
BEGIN:DAYLIGHT
TZOFFSETFROM:-0500
TZOFFSETTO:-0400
TZNAME:EDT
DTSTART:20410310T070000
END:DAYLIGHT
BEGIN:STANDARD
TZOFFSETFROM:-0400
TZOFFSETTO:-0500
TZNAME:EST
DTSTART:20411103T060000
END:STANDARD
BEGIN:DAYLIGHT
TZOFFSETFROM:-0500
TZOFFSETTO:-0400
TZNAME:EDT
DTSTART:20420309T070000
END:DAYLIGHT
BEGIN:STANDARD
TZOFFSETFROM:-0400
TZOFFSETTO:-0500
TZNAME:EST
DTSTART:20421102T060000
END:STANDARD
BEGIN:DAYLIGHT
TZOFFSETFROM:-0500
TZOFFSETTO:-0400
TZNAME:EDT
DTSTART:20430308T070000
END:DAYLIGHT
BEGIN:STANDARD
TZOFFSETFROM:-0400
TZOFFSETTO:-0500
TZNAME:EST
DTSTART:20431101T060000
END:STANDARD
BEGIN:DAYLIGHT
TZOFFSETFROM:-0500
TZOFFSETTO:-0400
TZNAME:EDT
DTSTART:20440313T070000
END:DAYLIGHT
BEGIN:STANDARD
TZOFFSETFROM:-0400
TZOFFSETTO:-0500
TZNAME:EST
DTSTART:20441106T060000
END:STANDARD
BEGIN:DAYLIGHT
TZOFFSETFROM:-0500
TZOFFSETTO:-0400
TZNAME:EDT
DTSTART:20450312T070000
END:DAYLIGHT
BEGIN:STANDARD
TZOFFSETFROM:-0400
TZOFFSETTO:-0500
TZNAME:EST
DTSTART:20451105T060000
END:STANDARD
BEGIN:DAYLIGHT
TZOFFSETFROM:-0500
TZOFFSETTO:-0400
TZNAME:EDT
DTSTART:20460311T070000
END:DAYLIGHT
BEGIN:STANDARD
TZOFFSETFROM:-0400
TZOFFSETTO:-0500
TZNAME:EST
DTSTART:20461104T060000
END:STANDARD
BEGIN:DAYLIGHT
TZOFFSETFROM:-0500
TZOFFSETTO:-0400
TZNAME:EDT
DTSTART:20470310T070000
END:DAYLIGHT
BEGIN:STANDARD
TZOFFSETFROM:-0400
TZOFFSETTO:-0500
TZNAME:EST
DTSTART:20471103T060000
END:STANDARD
BEGIN:DAYLIGHT
TZOFFSETFROM:-0500
TZOFFSETTO:-0400
TZNAME:EDT
DTSTART:20480308T070000
END:DAYLIGHT
BEGIN:STANDARD
TZOFFSETFROM:-0400
TZOFFSETTO:-0500
TZNAME:EST
DTSTART:20481101T060000
END:STANDARD
BEGIN:DAYLIGHT
TZOFFSETFROM:-0500
TZOFFSETTO:-0400
TZNAME:EDT
DTSTART:20490314T070000
END:DAYLIGHT
BEGIN:STANDARD
TZOFFSETFROM:-0400
TZOFFSETTO:-0500
TZNAME:EST
DTSTART:20491107T060000
END:STANDARD
BEGIN:DAYLIGHT
TZOFFSETFROM:-0500
TZOFFSETTO:-0400
TZNAME:EDT
DTSTART:20500313T070000
END:DAYLIGHT
BEGIN:STANDARD
TZOFFSETFROM:-0400
TZOFFSETTO:-0500
TZNAME:EST
DTSTART:20501106T060000
END:STANDARD
BEGIN:DAYLIGHT
TZOFFSETFROM:-0500
TZOFFSETTO:-0400
TZNAME:EDT
DTSTART:20510312T070000
END:DAYLIGHT
BEGIN:STANDARD
TZOFFSETFROM:-0400
TZOFFSETTO:-0500
TZNAME:EST
DTSTART:20511105T060000
END:STANDARD
BEGIN:DAYLIGHT
TZOFFSETFROM:-0500
TZOFFSETTO:-0400
TZNAME:EDT
DTSTART:20520310T070000
END:DAYLIGHT
BEGIN:STANDARD
TZOFFSETFROM:-0400
TZOFFSETTO:-0500
TZNAME:EST
DTSTART:20521103T060000
END:STANDARD
BEGIN:DAYLIGHT
TZOFFSETFROM:-0500
TZOFFSETTO:-0400
TZNAME:EDT
DTSTART:20530309T070000
END:DAYLIGHT
BEGIN:STANDARD
TZOFFSETFROM:-0400
TZOFFSETTO:-0500
TZNAME:EST
DTSTART:20531102T060000
END:STANDARD
BEGIN:DAYLIGHT
TZOFFSETFROM:-0500
TZOFFSETTO:-0400
TZNAME:EDT
DTSTART:20540308T070000
END:DAYLIGHT
BEGIN:STANDARD
TZOFFSETFROM:-0400
TZOFFSETTO:-0500
TZNAME:EST
DTSTART:20541101T060000
END:STANDARD
BEGIN:DAYLIGHT
TZOFFSETFROM:-0500
TZOFFSETTO:-0400
TZNAME:EDT
DTSTART:20550314T070000
END:DAYLIGHT
BEGIN:STANDARD
TZOFFSETFROM:-0400
TZOFFSETTO:-0500
TZNAME:EST
DTSTART:20551107T060000
END:STANDARD
BEGIN:DAYLIGHT
TZOFFSETFROM:-0500
TZOFFSETTO:-0400
TZNAME:EDT
DTSTART:20560312T070000
END:DAYLIGHT
BEGIN:STANDARD
TZOFFSETFROM:-0400
TZOFFSETTO:-0500
TZNAME:EST
DTSTART:20561105T060000
END:STANDARD
BEGIN:DAYLIGHT
TZOFFSETFROM:-0500
TZOFFSETTO:-0400
TZNAME:EDT
DTSTART:20570311T070000
END:DAYLIGHT
BEGIN:STANDARD
TZOFFSETFROM:-0400
TZOFFSETTO:-0500
TZNAME:EST
DTSTART:20571104T060000
END:STANDARD
BEGIN:DAYLIGHT
TZOFFSETFROM:-0500
TZOFFSETTO:-0400
TZNAME:EDT
DTSTART:20580310T070000
END:DAYLIGHT
BEGIN:STANDARD
TZOFFSETFROM:-0400
TZOFFSETTO:-0500
TZNAME:EST
DTSTART:20581103T060000
END:STANDARD
BEGIN:DAYLIGHT
TZOFFSETFROM:-0500
TZOFFSETTO:-0400
TZNAME:EDT
DTSTART:20590309T070000
END:DAYLIGHT
BEGIN:STANDARD
TZOFFSETFROM:-0400
TZOFFSETTO:-0500
TZNAME:EST
DTSTART:20591102T060000
END:STANDARD
END:VTIMEZONE
BEGIN:VEVENT
DTSTART;TZID=America/New_York:20410711T000000
DTEND;TZID=America/New_York:20570704T230000
DTSTAMP:20260422T175437
CREATED:20241227T175702Z
LAST-MODIFIED:20241227T175702Z
UID:10009892-2257113600-2761513200@scarfg.org
SUMMARY:Open Trap
DESCRIPTION:Public Shooting.  Beginners welcome!\nFor Fees\, please see the Trap Webpage here. \nhttps://scarfg.org/disciplines/trap/\n 
URL:https://scarfg.org/event/open-trap-15/2041-07-11/
LOCATION:Trap Range\, 21 Fish and Game Ln\, Scarborough\, ME\, 04072\, United States
CATEGORIES:Trap
END:VEVENT
BEGIN:VEVENT
DTSTART;TZID=America/New_York:20410718T000000
DTEND;TZID=America/New_York:20570711T230000
DTSTAMP:20260422T175437
CREATED:20241227T175702Z
LAST-MODIFIED:20241227T175702Z
UID:10009893-2257718400-2762118000@scarfg.org
SUMMARY:Open Trap
DESCRIPTION:Public Shooting.  Beginners welcome!\nFor Fees\, please see the Trap Webpage here. \nhttps://scarfg.org/disciplines/trap/\n 
URL:https://scarfg.org/event/open-trap-15/2041-07-18/
LOCATION:Trap Range\, 21 Fish and Game Ln\, Scarborough\, ME\, 04072\, United States
CATEGORIES:Trap
END:VEVENT
BEGIN:VEVENT
DTSTART;TZID=America/New_York:20410725T000000
DTEND;TZID=America/New_York:20570718T230000
DTSTAMP:20260422T175437
CREATED:20241227T175702Z
LAST-MODIFIED:20241227T175702Z
UID:10009894-2258323200-2762722800@scarfg.org
SUMMARY:Open Trap
DESCRIPTION:Public Shooting.  Beginners welcome!\nFor Fees\, please see the Trap Webpage here. \nhttps://scarfg.org/disciplines/trap/\n 
URL:https://scarfg.org/event/open-trap-15/2041-07-25/
LOCATION:Trap Range\, 21 Fish and Game Ln\, Scarborough\, ME\, 04072\, United States
CATEGORIES:Trap
END:VEVENT
BEGIN:VEVENT
DTSTART;TZID=America/New_York:20410801T000000
DTEND;TZID=America/New_York:20570725T230000
DTSTAMP:20260422T175437
CREATED:20241227T175702Z
LAST-MODIFIED:20241227T175702Z
UID:10009895-2258928000-2763327600@scarfg.org
SUMMARY:Open Trap
DESCRIPTION:Public Shooting.  Beginners welcome!\nFor Fees\, please see the Trap Webpage here. \nhttps://scarfg.org/disciplines/trap/\n 
URL:https://scarfg.org/event/open-trap-15/2041-08-01/
LOCATION:Trap Range\, 21 Fish and Game Ln\, Scarborough\, ME\, 04072\, United States
CATEGORIES:Trap
END:VEVENT
BEGIN:VEVENT
DTSTART;TZID=America/New_York:20410808T000000
DTEND;TZID=America/New_York:20570801T230000
DTSTAMP:20260422T175437
CREATED:20241227T175702Z
LAST-MODIFIED:20241227T175702Z
UID:10009896-2259532800-2763932400@scarfg.org
SUMMARY:Open Trap
DESCRIPTION:Public Shooting.  Beginners welcome!\nFor Fees\, please see the Trap Webpage here. \nhttps://scarfg.org/disciplines/trap/\n 
URL:https://scarfg.org/event/open-trap-15/2041-08-08/
LOCATION:Trap Range\, 21 Fish and Game Ln\, Scarborough\, ME\, 04072\, United States
CATEGORIES:Trap
END:VEVENT
BEGIN:VEVENT
DTSTART;TZID=America/New_York:20410815T000000
DTEND;TZID=America/New_York:20570808T230000
DTSTAMP:20260422T175437
CREATED:20241227T175702Z
LAST-MODIFIED:20241227T175702Z
UID:10009897-2260137600-2764537200@scarfg.org
SUMMARY:Open Trap
DESCRIPTION:Public Shooting.  Beginners welcome!\nFor Fees\, please see the Trap Webpage here. \nhttps://scarfg.org/disciplines/trap/\n 
URL:https://scarfg.org/event/open-trap-15/2041-08-15/
LOCATION:Trap Range\, 21 Fish and Game Ln\, Scarborough\, ME\, 04072\, United States
CATEGORIES:Trap
END:VEVENT
BEGIN:VEVENT
DTSTART;TZID=America/New_York:20410822T000000
DTEND;TZID=America/New_York:20570815T230000
DTSTAMP:20260422T175437
CREATED:20241227T175702Z
LAST-MODIFIED:20241227T175702Z
UID:10009898-2260742400-2765142000@scarfg.org
SUMMARY:Open Trap
DESCRIPTION:Public Shooting.  Beginners welcome!\nFor Fees\, please see the Trap Webpage here. \nhttps://scarfg.org/disciplines/trap/\n 
URL:https://scarfg.org/event/open-trap-15/2041-08-22/
LOCATION:Trap Range\, 21 Fish and Game Ln\, Scarborough\, ME\, 04072\, United States
CATEGORIES:Trap
END:VEVENT
BEGIN:VEVENT
DTSTART;TZID=America/New_York:20410829T000000
DTEND;TZID=America/New_York:20570822T230000
DTSTAMP:20260422T175437
CREATED:20241227T175702Z
LAST-MODIFIED:20241227T175702Z
UID:10009899-2261347200-2765746800@scarfg.org
SUMMARY:Open Trap
DESCRIPTION:Public Shooting.  Beginners welcome!\nFor Fees\, please see the Trap Webpage here. \nhttps://scarfg.org/disciplines/trap/\n 
URL:https://scarfg.org/event/open-trap-15/2041-08-29/
LOCATION:Trap Range\, 21 Fish and Game Ln\, Scarborough\, ME\, 04072\, United States
CATEGORIES:Trap
END:VEVENT
BEGIN:VEVENT
DTSTART;TZID=America/New_York:20410905T000000
DTEND;TZID=America/New_York:20570829T230000
DTSTAMP:20260422T175437
CREATED:20241227T175702Z
LAST-MODIFIED:20241227T175702Z
UID:10009900-2261952000-2766351600@scarfg.org
SUMMARY:Open Trap
DESCRIPTION:Public Shooting.  Beginners welcome!\nFor Fees\, please see the Trap Webpage here. \nhttps://scarfg.org/disciplines/trap/\n 
URL:https://scarfg.org/event/open-trap-15/2041-09-05/
LOCATION:Trap Range\, 21 Fish and Game Ln\, Scarborough\, ME\, 04072\, United States
CATEGORIES:Trap
END:VEVENT
BEGIN:VEVENT
DTSTART;TZID=America/New_York:20410912T000000
DTEND;TZID=America/New_York:20570905T230000
DTSTAMP:20260422T175437
CREATED:20241227T175702Z
LAST-MODIFIED:20241227T175702Z
UID:10009901-2262556800-2766956400@scarfg.org
SUMMARY:Open Trap
DESCRIPTION:Public Shooting.  Beginners welcome!\nFor Fees\, please see the Trap Webpage here. \nhttps://scarfg.org/disciplines/trap/\n 
URL:https://scarfg.org/event/open-trap-15/2041-09-12/
LOCATION:Trap Range\, 21 Fish and Game Ln\, Scarborough\, ME\, 04072\, United States
CATEGORIES:Trap
END:VEVENT
BEGIN:VEVENT
DTSTART;TZID=America/New_York:20410919T000000
DTEND;TZID=America/New_York:20570912T230000
DTSTAMP:20260422T175437
CREATED:20241227T175702Z
LAST-MODIFIED:20241227T175702Z
UID:10009902-2263161600-2767561200@scarfg.org
SUMMARY:Open Trap
DESCRIPTION:Public Shooting.  Beginners welcome!\nFor Fees\, please see the Trap Webpage here. \nhttps://scarfg.org/disciplines/trap/\n 
URL:https://scarfg.org/event/open-trap-15/2041-09-19/
LOCATION:Trap Range\, 21 Fish and Game Ln\, Scarborough\, ME\, 04072\, United States
CATEGORIES:Trap
END:VEVENT
BEGIN:VEVENT
DTSTART;TZID=America/New_York:20410926T000000
DTEND;TZID=America/New_York:20570919T230000
DTSTAMP:20260422T175437
CREATED:20241227T175702Z
LAST-MODIFIED:20241227T175702Z
UID:10009903-2263766400-2768166000@scarfg.org
SUMMARY:Open Trap
DESCRIPTION:Public Shooting.  Beginners welcome!\nFor Fees\, please see the Trap Webpage here. \nhttps://scarfg.org/disciplines/trap/\n 
URL:https://scarfg.org/event/open-trap-15/2041-09-26/
LOCATION:Trap Range\, 21 Fish and Game Ln\, Scarborough\, ME\, 04072\, United States
CATEGORIES:Trap
END:VEVENT
BEGIN:VEVENT
DTSTART;TZID=America/New_York:20411003T000000
DTEND;TZID=America/New_York:20570926T230000
DTSTAMP:20260422T175437
CREATED:20241227T175702Z
LAST-MODIFIED:20241227T175702Z
UID:10009904-2264371200-2768770800@scarfg.org
SUMMARY:Open Trap
DESCRIPTION:Public Shooting.  Beginners welcome!\nFor Fees\, please see the Trap Webpage here. \nhttps://scarfg.org/disciplines/trap/\n 
URL:https://scarfg.org/event/open-trap-15/2041-10-03/
LOCATION:Trap Range\, 21 Fish and Game Ln\, Scarborough\, ME\, 04072\, United States
CATEGORIES:Trap
END:VEVENT
BEGIN:VEVENT
DTSTART;TZID=America/New_York:20411010T000000
DTEND;TZID=America/New_York:20571003T230000
DTSTAMP:20260422T175437
CREATED:20241227T175702Z
LAST-MODIFIED:20241227T175702Z
UID:10009905-2264976000-2769375600@scarfg.org
SUMMARY:Open Trap
DESCRIPTION:Public Shooting.  Beginners welcome!\nFor Fees\, please see the Trap Webpage here. \nhttps://scarfg.org/disciplines/trap/\n 
URL:https://scarfg.org/event/open-trap-15/2041-10-10/
LOCATION:Trap Range\, 21 Fish and Game Ln\, Scarborough\, ME\, 04072\, United States
CATEGORIES:Trap
END:VEVENT
BEGIN:VEVENT
DTSTART;TZID=America/New_York:20411017T000000
DTEND;TZID=America/New_York:20571010T230000
DTSTAMP:20260422T175437
CREATED:20241227T175702Z
LAST-MODIFIED:20241227T175702Z
UID:10009906-2265580800-2769980400@scarfg.org
SUMMARY:Open Trap
DESCRIPTION:Public Shooting.  Beginners welcome!\nFor Fees\, please see the Trap Webpage here. \nhttps://scarfg.org/disciplines/trap/\n 
URL:https://scarfg.org/event/open-trap-15/2041-10-17/
LOCATION:Trap Range\, 21 Fish and Game Ln\, Scarborough\, ME\, 04072\, United States
CATEGORIES:Trap
END:VEVENT
BEGIN:VEVENT
DTSTART;TZID=America/New_York:20411024T000000
DTEND;TZID=America/New_York:20571017T230000
DTSTAMP:20260422T175437
CREATED:20241227T175702Z
LAST-MODIFIED:20241227T175702Z
UID:10009907-2266185600-2770585200@scarfg.org
SUMMARY:Open Trap
DESCRIPTION:Public Shooting.  Beginners welcome!\nFor Fees\, please see the Trap Webpage here. \nhttps://scarfg.org/disciplines/trap/\n 
URL:https://scarfg.org/event/open-trap-15/2041-10-24/
LOCATION:Trap Range\, 21 Fish and Game Ln\, Scarborough\, ME\, 04072\, United States
CATEGORIES:Trap
END:VEVENT
BEGIN:VEVENT
DTSTART;TZID=America/New_York:20411031T000000
DTEND;TZID=America/New_York:20571024T230000
DTSTAMP:20260422T175437
CREATED:20241227T175702Z
LAST-MODIFIED:20241227T175702Z
UID:10009908-2266790400-2771190000@scarfg.org
SUMMARY:Open Trap
DESCRIPTION:Public Shooting.  Beginners welcome!\nFor Fees\, please see the Trap Webpage here. \nhttps://scarfg.org/disciplines/trap/\n 
URL:https://scarfg.org/event/open-trap-15/2041-10-31/
LOCATION:Trap Range\, 21 Fish and Game Ln\, Scarborough\, ME\, 04072\, United States
CATEGORIES:Trap
END:VEVENT
BEGIN:VEVENT
DTSTART;TZID=America/New_York:20411107T000000
DTEND;TZID=America/New_York:20571031T230000
DTSTAMP:20260422T175437
CREATED:20241227T175702Z
LAST-MODIFIED:20241227T175702Z
UID:10009909-2267395200-2771794800@scarfg.org
SUMMARY:Open Trap
DESCRIPTION:Public Shooting.  Beginners welcome!\nFor Fees\, please see the Trap Webpage here. \nhttps://scarfg.org/disciplines/trap/\n 
URL:https://scarfg.org/event/open-trap-15/2041-11-07/
LOCATION:Trap Range\, 21 Fish and Game Ln\, Scarborough\, ME\, 04072\, United States
CATEGORIES:Trap
END:VEVENT
BEGIN:VEVENT
DTSTART;TZID=America/New_York:20411114T000000
DTEND;TZID=America/New_York:20571107T230000
DTSTAMP:20260422T175437
CREATED:20241227T175702Z
LAST-MODIFIED:20241227T175702Z
UID:10009910-2268000000-2772399600@scarfg.org
SUMMARY:Open Trap
DESCRIPTION:Public Shooting.  Beginners welcome!\nFor Fees\, please see the Trap Webpage here. \nhttps://scarfg.org/disciplines/trap/\n 
URL:https://scarfg.org/event/open-trap-15/2041-11-14/
LOCATION:Trap Range\, 21 Fish and Game Ln\, Scarborough\, ME\, 04072\, United States
CATEGORIES:Trap
END:VEVENT
BEGIN:VEVENT
DTSTART;TZID=America/New_York:20411121T000000
DTEND;TZID=America/New_York:20571114T230000
DTSTAMP:20260422T175437
CREATED:20241227T175702Z
LAST-MODIFIED:20241227T175702Z
UID:10009911-2268604800-2773004400@scarfg.org
SUMMARY:Open Trap
DESCRIPTION:Public Shooting.  Beginners welcome!\nFor Fees\, please see the Trap Webpage here. \nhttps://scarfg.org/disciplines/trap/\n 
URL:https://scarfg.org/event/open-trap-15/2041-11-21/
LOCATION:Trap Range\, 21 Fish and Game Ln\, Scarborough\, ME\, 04072\, United States
CATEGORIES:Trap
END:VEVENT
BEGIN:VEVENT
DTSTART;TZID=America/New_York:20411128T000000
DTEND;TZID=America/New_York:20571121T230000
DTSTAMP:20260422T175437
CREATED:20241227T175702Z
LAST-MODIFIED:20241227T175702Z
UID:10009912-2269209600-2773609200@scarfg.org
SUMMARY:Open Trap
DESCRIPTION:Public Shooting.  Beginners welcome!\nFor Fees\, please see the Trap Webpage here. \nhttps://scarfg.org/disciplines/trap/\n 
URL:https://scarfg.org/event/open-trap-15/2041-11-28/
LOCATION:Trap Range\, 21 Fish and Game Ln\, Scarborough\, ME\, 04072\, United States
CATEGORIES:Trap
END:VEVENT
BEGIN:VEVENT
DTSTART;TZID=America/New_York:20411205T000000
DTEND;TZID=America/New_York:20571128T230000
DTSTAMP:20260422T175437
CREATED:20241227T175702Z
LAST-MODIFIED:20241227T175702Z
UID:10009913-2269814400-2774214000@scarfg.org
SUMMARY:Open Trap
DESCRIPTION:Public Shooting.  Beginners welcome!\nFor Fees\, please see the Trap Webpage here. \nhttps://scarfg.org/disciplines/trap/\n 
URL:https://scarfg.org/event/open-trap-15/2041-12-05/
LOCATION:Trap Range\, 21 Fish and Game Ln\, Scarborough\, ME\, 04072\, United States
CATEGORIES:Trap
END:VEVENT
BEGIN:VEVENT
DTSTART;TZID=America/New_York:20411212T000000
DTEND;TZID=America/New_York:20571205T230000
DTSTAMP:20260422T175437
CREATED:20241227T175702Z
LAST-MODIFIED:20241227T175702Z
UID:10009914-2270419200-2774818800@scarfg.org
SUMMARY:Open Trap
DESCRIPTION:Public Shooting.  Beginners welcome!\nFor Fees\, please see the Trap Webpage here. \nhttps://scarfg.org/disciplines/trap/\n 
URL:https://scarfg.org/event/open-trap-15/2041-12-12/
LOCATION:Trap Range\, 21 Fish and Game Ln\, Scarborough\, ME\, 04072\, United States
CATEGORIES:Trap
END:VEVENT
BEGIN:VEVENT
DTSTART;TZID=America/New_York:20411219T000000
DTEND;TZID=America/New_York:20571212T230000
DTSTAMP:20260422T175437
CREATED:20241227T175702Z
LAST-MODIFIED:20241227T175702Z
UID:10009915-2271024000-2775423600@scarfg.org
SUMMARY:Open Trap
DESCRIPTION:Public Shooting.  Beginners welcome!\nFor Fees\, please see the Trap Webpage here. \nhttps://scarfg.org/disciplines/trap/\n 
URL:https://scarfg.org/event/open-trap-15/2041-12-19/
LOCATION:Trap Range\, 21 Fish and Game Ln\, Scarborough\, ME\, 04072\, United States
CATEGORIES:Trap
END:VEVENT
BEGIN:VEVENT
DTSTART;TZID=America/New_York:20411226T000000
DTEND;TZID=America/New_York:20571219T230000
DTSTAMP:20260422T175437
CREATED:20241227T175702Z
LAST-MODIFIED:20241227T175702Z
UID:10009916-2271628800-2776028400@scarfg.org
SUMMARY:Open Trap
DESCRIPTION:Public Shooting.  Beginners welcome!\nFor Fees\, please see the Trap Webpage here. \nhttps://scarfg.org/disciplines/trap/\n 
URL:https://scarfg.org/event/open-trap-15/2041-12-26/
LOCATION:Trap Range\, 21 Fish and Game Ln\, Scarborough\, ME\, 04072\, United States
CATEGORIES:Trap
END:VEVENT
BEGIN:VEVENT
DTSTART;TZID=America/New_York:20420102T000000
DTEND;TZID=America/New_York:20571226T230000
DTSTAMP:20260422T175437
CREATED:20241227T175702Z
LAST-MODIFIED:20241227T175702Z
UID:10009917-2272233600-2776633200@scarfg.org
SUMMARY:Open Trap
DESCRIPTION:Public Shooting.  Beginners welcome!\nFor Fees\, please see the Trap Webpage here. \nhttps://scarfg.org/disciplines/trap/\n 
URL:https://scarfg.org/event/open-trap-15/2042-01-02/
LOCATION:Trap Range\, 21 Fish and Game Ln\, Scarborough\, ME\, 04072\, United States
CATEGORIES:Trap
END:VEVENT
BEGIN:VEVENT
DTSTART;TZID=America/New_York:20420109T000000
DTEND;TZID=America/New_York:20580102T230000
DTSTAMP:20260422T175437
CREATED:20241227T175702Z
LAST-MODIFIED:20241227T175702Z
UID:10009918-2272838400-2777238000@scarfg.org
SUMMARY:Open Trap
DESCRIPTION:Public Shooting.  Beginners welcome!\nFor Fees\, please see the Trap Webpage here. \nhttps://scarfg.org/disciplines/trap/\n 
URL:https://scarfg.org/event/open-trap-15/2042-01-09/
LOCATION:Trap Range\, 21 Fish and Game Ln\, Scarborough\, ME\, 04072\, United States
CATEGORIES:Trap
END:VEVENT
BEGIN:VEVENT
DTSTART;TZID=America/New_York:20420116T000000
DTEND;TZID=America/New_York:20580109T230000
DTSTAMP:20260422T175437
CREATED:20241227T175702Z
LAST-MODIFIED:20241227T175702Z
UID:10009919-2273443200-2777842800@scarfg.org
SUMMARY:Open Trap
DESCRIPTION:Public Shooting.  Beginners welcome!\nFor Fees\, please see the Trap Webpage here. \nhttps://scarfg.org/disciplines/trap/\n 
URL:https://scarfg.org/event/open-trap-15/2042-01-16/
LOCATION:Trap Range\, 21 Fish and Game Ln\, Scarborough\, ME\, 04072\, United States
CATEGORIES:Trap
END:VEVENT
BEGIN:VEVENT
DTSTART;TZID=America/New_York:20420123T000000
DTEND;TZID=America/New_York:20580116T230000
DTSTAMP:20260422T175437
CREATED:20241227T175702Z
LAST-MODIFIED:20241227T175702Z
UID:10009920-2274048000-2778447600@scarfg.org
SUMMARY:Open Trap
DESCRIPTION:Public Shooting.  Beginners welcome!\nFor Fees\, please see the Trap Webpage here. \nhttps://scarfg.org/disciplines/trap/\n 
URL:https://scarfg.org/event/open-trap-15/2042-01-23/
LOCATION:Trap Range\, 21 Fish and Game Ln\, Scarborough\, ME\, 04072\, United States
CATEGORIES:Trap
END:VEVENT
BEGIN:VEVENT
DTSTART;TZID=America/New_York:20420130T000000
DTEND;TZID=America/New_York:20580123T230000
DTSTAMP:20260422T175437
CREATED:20241227T175702Z
LAST-MODIFIED:20241227T175702Z
UID:10009921-2274652800-2779052400@scarfg.org
SUMMARY:Open Trap
DESCRIPTION:Public Shooting.  Beginners welcome!\nFor Fees\, please see the Trap Webpage here. \nhttps://scarfg.org/disciplines/trap/\n 
URL:https://scarfg.org/event/open-trap-15/2042-01-30/
LOCATION:Trap Range\, 21 Fish and Game Ln\, Scarborough\, ME\, 04072\, United States
CATEGORIES:Trap
END:VEVENT
END:VCALENDAR