BEGIN:VCALENDAR
VERSION:2.0
PRODID:-//Scarborough Fish &amp; Game Association - ECPv6.15.20//NONSGML v1.0//EN
CALSCALE:GREGORIAN
METHOD:PUBLISH
X-WR-CALNAME:Scarborough Fish &amp; Game Association
X-ORIGINAL-URL:https://scarfg.org
X-WR-CALDESC:Events for Scarborough Fish &amp; Game Association
REFRESH-INTERVAL;VALUE=DURATION:PT1H
X-Robots-Tag:noindex
X-PUBLISHED-TTL:PT1H
BEGIN:VTIMEZONE
TZID:America/New_York
BEGIN:DAYLIGHT
TZOFFSETFROM:-0500
TZOFFSETTO:-0400
TZNAME:EDT
DTSTART:20380314T070000
END:DAYLIGHT
BEGIN:STANDARD
TZOFFSETFROM:-0400
TZOFFSETTO:-0500
TZNAME:EST
DTSTART:20381107T060000
END:STANDARD
BEGIN:DAYLIGHT
TZOFFSETFROM:-0500
TZOFFSETTO:-0400
TZNAME:EDT
DTSTART:20390313T070000
END:DAYLIGHT
BEGIN:STANDARD
TZOFFSETFROM:-0400
TZOFFSETTO:-0500
TZNAME:EST
DTSTART:20391106T060000
END:STANDARD
BEGIN:DAYLIGHT
TZOFFSETFROM:-0500
TZOFFSETTO:-0400
TZNAME:EDT
DTSTART:20400311T070000
END:DAYLIGHT
BEGIN:STANDARD
TZOFFSETFROM:-0400
TZOFFSETTO:-0500
TZNAME:EST
DTSTART:20401104T060000
END:STANDARD
BEGIN:DAYLIGHT
TZOFFSETFROM:-0500
TZOFFSETTO:-0400
TZNAME:EDT
DTSTART:20410310T070000
END:DAYLIGHT
BEGIN:STANDARD
TZOFFSETFROM:-0400
TZOFFSETTO:-0500
TZNAME:EST
DTSTART:20411103T060000
END:STANDARD
BEGIN:DAYLIGHT
TZOFFSETFROM:-0500
TZOFFSETTO:-0400
TZNAME:EDT
DTSTART:20420309T070000
END:DAYLIGHT
BEGIN:STANDARD
TZOFFSETFROM:-0400
TZOFFSETTO:-0500
TZNAME:EST
DTSTART:20421102T060000
END:STANDARD
BEGIN:DAYLIGHT
TZOFFSETFROM:-0500
TZOFFSETTO:-0400
TZNAME:EDT
DTSTART:20430308T070000
END:DAYLIGHT
BEGIN:STANDARD
TZOFFSETFROM:-0400
TZOFFSETTO:-0500
TZNAME:EST
DTSTART:20431101T060000
END:STANDARD
BEGIN:DAYLIGHT
TZOFFSETFROM:-0500
TZOFFSETTO:-0400
TZNAME:EDT
DTSTART:20440313T070000
END:DAYLIGHT
BEGIN:STANDARD
TZOFFSETFROM:-0400
TZOFFSETTO:-0500
TZNAME:EST
DTSTART:20441106T060000
END:STANDARD
BEGIN:DAYLIGHT
TZOFFSETFROM:-0500
TZOFFSETTO:-0400
TZNAME:EDT
DTSTART:20450312T070000
END:DAYLIGHT
BEGIN:STANDARD
TZOFFSETFROM:-0400
TZOFFSETTO:-0500
TZNAME:EST
DTSTART:20451105T060000
END:STANDARD
BEGIN:DAYLIGHT
TZOFFSETFROM:-0500
TZOFFSETTO:-0400
TZNAME:EDT
DTSTART:20460311T070000
END:DAYLIGHT
BEGIN:STANDARD
TZOFFSETFROM:-0400
TZOFFSETTO:-0500
TZNAME:EST
DTSTART:20461104T060000
END:STANDARD
BEGIN:DAYLIGHT
TZOFFSETFROM:-0500
TZOFFSETTO:-0400
TZNAME:EDT
DTSTART:20470310T070000
END:DAYLIGHT
BEGIN:STANDARD
TZOFFSETFROM:-0400
TZOFFSETTO:-0500
TZNAME:EST
DTSTART:20471103T060000
END:STANDARD
BEGIN:DAYLIGHT
TZOFFSETFROM:-0500
TZOFFSETTO:-0400
TZNAME:EDT
DTSTART:20480308T070000
END:DAYLIGHT
BEGIN:STANDARD
TZOFFSETFROM:-0400
TZOFFSETTO:-0500
TZNAME:EST
DTSTART:20481101T060000
END:STANDARD
BEGIN:DAYLIGHT
TZOFFSETFROM:-0500
TZOFFSETTO:-0400
TZNAME:EDT
DTSTART:20490314T070000
END:DAYLIGHT
BEGIN:STANDARD
TZOFFSETFROM:-0400
TZOFFSETTO:-0500
TZNAME:EST
DTSTART:20491107T060000
END:STANDARD
BEGIN:DAYLIGHT
TZOFFSETFROM:-0500
TZOFFSETTO:-0400
TZNAME:EDT
DTSTART:20500313T070000
END:DAYLIGHT
BEGIN:STANDARD
TZOFFSETFROM:-0400
TZOFFSETTO:-0500
TZNAME:EST
DTSTART:20501106T060000
END:STANDARD
BEGIN:DAYLIGHT
TZOFFSETFROM:-0500
TZOFFSETTO:-0400
TZNAME:EDT
DTSTART:20510312T070000
END:DAYLIGHT
BEGIN:STANDARD
TZOFFSETFROM:-0400
TZOFFSETTO:-0500
TZNAME:EST
DTSTART:20511105T060000
END:STANDARD
BEGIN:DAYLIGHT
TZOFFSETFROM:-0500
TZOFFSETTO:-0400
TZNAME:EDT
DTSTART:20520310T070000
END:DAYLIGHT
BEGIN:STANDARD
TZOFFSETFROM:-0400
TZOFFSETTO:-0500
TZNAME:EST
DTSTART:20521103T060000
END:STANDARD
BEGIN:DAYLIGHT
TZOFFSETFROM:-0500
TZOFFSETTO:-0400
TZNAME:EDT
DTSTART:20530309T070000
END:DAYLIGHT
BEGIN:STANDARD
TZOFFSETFROM:-0400
TZOFFSETTO:-0500
TZNAME:EST
DTSTART:20531102T060000
END:STANDARD
BEGIN:DAYLIGHT
TZOFFSETFROM:-0500
TZOFFSETTO:-0400
TZNAME:EDT
DTSTART:20540308T070000
END:DAYLIGHT
BEGIN:STANDARD
TZOFFSETFROM:-0400
TZOFFSETTO:-0500
TZNAME:EST
DTSTART:20541101T060000
END:STANDARD
BEGIN:DAYLIGHT
TZOFFSETFROM:-0500
TZOFFSETTO:-0400
TZNAME:EDT
DTSTART:20550314T070000
END:DAYLIGHT
BEGIN:STANDARD
TZOFFSETFROM:-0400
TZOFFSETTO:-0500
TZNAME:EST
DTSTART:20551107T060000
END:STANDARD
BEGIN:DAYLIGHT
TZOFFSETFROM:-0500
TZOFFSETTO:-0400
TZNAME:EDT
DTSTART:20560312T070000
END:DAYLIGHT
BEGIN:STANDARD
TZOFFSETFROM:-0400
TZOFFSETTO:-0500
TZNAME:EST
DTSTART:20561105T060000
END:STANDARD
BEGIN:DAYLIGHT
TZOFFSETFROM:-0500
TZOFFSETTO:-0400
TZNAME:EDT
DTSTART:20570311T070000
END:DAYLIGHT
BEGIN:STANDARD
TZOFFSETFROM:-0400
TZOFFSETTO:-0500
TZNAME:EST
DTSTART:20571104T060000
END:STANDARD
END:VTIMEZONE
BEGIN:VEVENT
DTSTART;TZID=America/New_York:20390929T000000
DTEND;TZID=America/New_York:20550922T230000
DTSTAMP:20260421T185822
CREATED:20241227T175702Z
LAST-MODIFIED:20241227T175702Z
UID:10009799-2200867200-2705266800@scarfg.org
SUMMARY:Open Trap
DESCRIPTION:Public Shooting.  Beginners welcome!\nFor Fees\, please see the Trap Webpage here. \nhttps://scarfg.org/disciplines/trap/\n 
URL:https://scarfg.org/event/open-trap-15/2039-09-29/
LOCATION:Trap Range\, 21 Fish and Game Ln\, Scarborough\, ME\, 04072\, United States
CATEGORIES:Trap
END:VEVENT
BEGIN:VEVENT
DTSTART;TZID=America/New_York:20391006T000000
DTEND;TZID=America/New_York:20550929T230000
DTSTAMP:20260421T185822
CREATED:20241227T175702Z
LAST-MODIFIED:20241227T175702Z
UID:10009800-2201472000-2705871600@scarfg.org
SUMMARY:Open Trap
DESCRIPTION:Public Shooting.  Beginners welcome!\nFor Fees\, please see the Trap Webpage here. \nhttps://scarfg.org/disciplines/trap/\n 
URL:https://scarfg.org/event/open-trap-15/2039-10-06/
LOCATION:Trap Range\, 21 Fish and Game Ln\, Scarborough\, ME\, 04072\, United States
CATEGORIES:Trap
END:VEVENT
BEGIN:VEVENT
DTSTART;TZID=America/New_York:20391013T000000
DTEND;TZID=America/New_York:20551006T230000
DTSTAMP:20260421T185822
CREATED:20241227T175702Z
LAST-MODIFIED:20241227T175702Z
UID:10009801-2202076800-2706476400@scarfg.org
SUMMARY:Open Trap
DESCRIPTION:Public Shooting.  Beginners welcome!\nFor Fees\, please see the Trap Webpage here. \nhttps://scarfg.org/disciplines/trap/\n 
URL:https://scarfg.org/event/open-trap-15/2039-10-13/
LOCATION:Trap Range\, 21 Fish and Game Ln\, Scarborough\, ME\, 04072\, United States
CATEGORIES:Trap
END:VEVENT
BEGIN:VEVENT
DTSTART;TZID=America/New_York:20391020T000000
DTEND;TZID=America/New_York:20551013T230000
DTSTAMP:20260421T185822
CREATED:20241227T175702Z
LAST-MODIFIED:20241227T175702Z
UID:10009802-2202681600-2707081200@scarfg.org
SUMMARY:Open Trap
DESCRIPTION:Public Shooting.  Beginners welcome!\nFor Fees\, please see the Trap Webpage here. \nhttps://scarfg.org/disciplines/trap/\n 
URL:https://scarfg.org/event/open-trap-15/2039-10-20/
LOCATION:Trap Range\, 21 Fish and Game Ln\, Scarborough\, ME\, 04072\, United States
CATEGORIES:Trap
END:VEVENT
BEGIN:VEVENT
DTSTART;TZID=America/New_York:20391027T000000
DTEND;TZID=America/New_York:20551020T230000
DTSTAMP:20260421T185822
CREATED:20241227T175702Z
LAST-MODIFIED:20241227T175702Z
UID:10009803-2203286400-2707686000@scarfg.org
SUMMARY:Open Trap
DESCRIPTION:Public Shooting.  Beginners welcome!\nFor Fees\, please see the Trap Webpage here. \nhttps://scarfg.org/disciplines/trap/\n 
URL:https://scarfg.org/event/open-trap-15/2039-10-27/
LOCATION:Trap Range\, 21 Fish and Game Ln\, Scarborough\, ME\, 04072\, United States
CATEGORIES:Trap
END:VEVENT
BEGIN:VEVENT
DTSTART;TZID=America/New_York:20391103T000000
DTEND;TZID=America/New_York:20551027T230000
DTSTAMP:20260421T185822
CREATED:20241227T175702Z
LAST-MODIFIED:20241227T175702Z
UID:10009804-2203891200-2708290800@scarfg.org
SUMMARY:Open Trap
DESCRIPTION:Public Shooting.  Beginners welcome!\nFor Fees\, please see the Trap Webpage here. \nhttps://scarfg.org/disciplines/trap/\n 
URL:https://scarfg.org/event/open-trap-15/2039-11-03/
LOCATION:Trap Range\, 21 Fish and Game Ln\, Scarborough\, ME\, 04072\, United States
CATEGORIES:Trap
END:VEVENT
BEGIN:VEVENT
DTSTART;TZID=America/New_York:20391110T000000
DTEND;TZID=America/New_York:20551103T230000
DTSTAMP:20260421T185822
CREATED:20241227T175702Z
LAST-MODIFIED:20241227T175702Z
UID:10009805-2204496000-2708895600@scarfg.org
SUMMARY:Open Trap
DESCRIPTION:Public Shooting.  Beginners welcome!\nFor Fees\, please see the Trap Webpage here. \nhttps://scarfg.org/disciplines/trap/\n 
URL:https://scarfg.org/event/open-trap-15/2039-11-10/
LOCATION:Trap Range\, 21 Fish and Game Ln\, Scarborough\, ME\, 04072\, United States
CATEGORIES:Trap
END:VEVENT
BEGIN:VEVENT
DTSTART;TZID=America/New_York:20391117T000000
DTEND;TZID=America/New_York:20551110T230000
DTSTAMP:20260421T185822
CREATED:20241227T175702Z
LAST-MODIFIED:20241227T175702Z
UID:10009806-2205100800-2709500400@scarfg.org
SUMMARY:Open Trap
DESCRIPTION:Public Shooting.  Beginners welcome!\nFor Fees\, please see the Trap Webpage here. \nhttps://scarfg.org/disciplines/trap/\n 
URL:https://scarfg.org/event/open-trap-15/2039-11-17/
LOCATION:Trap Range\, 21 Fish and Game Ln\, Scarborough\, ME\, 04072\, United States
CATEGORIES:Trap
END:VEVENT
BEGIN:VEVENT
DTSTART;TZID=America/New_York:20391124T000000
DTEND;TZID=America/New_York:20551117T230000
DTSTAMP:20260421T185822
CREATED:20241227T175702Z
LAST-MODIFIED:20241227T175702Z
UID:10009807-2205705600-2710105200@scarfg.org
SUMMARY:Open Trap
DESCRIPTION:Public Shooting.  Beginners welcome!\nFor Fees\, please see the Trap Webpage here. \nhttps://scarfg.org/disciplines/trap/\n 
URL:https://scarfg.org/event/open-trap-15/2039-11-24/
LOCATION:Trap Range\, 21 Fish and Game Ln\, Scarborough\, ME\, 04072\, United States
CATEGORIES:Trap
END:VEVENT
BEGIN:VEVENT
DTSTART;TZID=America/New_York:20391201T000000
DTEND;TZID=America/New_York:20551124T230000
DTSTAMP:20260421T185822
CREATED:20241227T175702Z
LAST-MODIFIED:20241227T175702Z
UID:10009808-2206310400-2710710000@scarfg.org
SUMMARY:Open Trap
DESCRIPTION:Public Shooting.  Beginners welcome!\nFor Fees\, please see the Trap Webpage here. \nhttps://scarfg.org/disciplines/trap/\n 
URL:https://scarfg.org/event/open-trap-15/2039-12-01/
LOCATION:Trap Range\, 21 Fish and Game Ln\, Scarborough\, ME\, 04072\, United States
CATEGORIES:Trap
END:VEVENT
BEGIN:VEVENT
DTSTART;TZID=America/New_York:20391208T000000
DTEND;TZID=America/New_York:20551201T230000
DTSTAMP:20260421T185822
CREATED:20241227T175702Z
LAST-MODIFIED:20241227T175702Z
UID:10009809-2206915200-2711314800@scarfg.org
SUMMARY:Open Trap
DESCRIPTION:Public Shooting.  Beginners welcome!\nFor Fees\, please see the Trap Webpage here. \nhttps://scarfg.org/disciplines/trap/\n 
URL:https://scarfg.org/event/open-trap-15/2039-12-08/
LOCATION:Trap Range\, 21 Fish and Game Ln\, Scarborough\, ME\, 04072\, United States
CATEGORIES:Trap
END:VEVENT
BEGIN:VEVENT
DTSTART;TZID=America/New_York:20391215T000000
DTEND;TZID=America/New_York:20551208T230000
DTSTAMP:20260421T185822
CREATED:20241227T175702Z
LAST-MODIFIED:20241227T175702Z
UID:10009810-2207520000-2711919600@scarfg.org
SUMMARY:Open Trap
DESCRIPTION:Public Shooting.  Beginners welcome!\nFor Fees\, please see the Trap Webpage here. \nhttps://scarfg.org/disciplines/trap/\n 
URL:https://scarfg.org/event/open-trap-15/2039-12-15/
LOCATION:Trap Range\, 21 Fish and Game Ln\, Scarborough\, ME\, 04072\, United States
CATEGORIES:Trap
END:VEVENT
BEGIN:VEVENT
DTSTART;TZID=America/New_York:20391222T000000
DTEND;TZID=America/New_York:20551215T230000
DTSTAMP:20260421T185822
CREATED:20241227T175702Z
LAST-MODIFIED:20241227T175702Z
UID:10009811-2208124800-2712524400@scarfg.org
SUMMARY:Open Trap
DESCRIPTION:Public Shooting.  Beginners welcome!\nFor Fees\, please see the Trap Webpage here. \nhttps://scarfg.org/disciplines/trap/\n 
URL:https://scarfg.org/event/open-trap-15/2039-12-22/
LOCATION:Trap Range\, 21 Fish and Game Ln\, Scarborough\, ME\, 04072\, United States
CATEGORIES:Trap
END:VEVENT
BEGIN:VEVENT
DTSTART;TZID=America/New_York:20391229T000000
DTEND;TZID=America/New_York:20551222T230000
DTSTAMP:20260421T185822
CREATED:20241227T175702Z
LAST-MODIFIED:20241227T175702Z
UID:10009812-2208729600-2713129200@scarfg.org
SUMMARY:Open Trap
DESCRIPTION:Public Shooting.  Beginners welcome!\nFor Fees\, please see the Trap Webpage here. \nhttps://scarfg.org/disciplines/trap/\n 
URL:https://scarfg.org/event/open-trap-15/2039-12-29/
LOCATION:Trap Range\, 21 Fish and Game Ln\, Scarborough\, ME\, 04072\, United States
CATEGORIES:Trap
END:VEVENT
BEGIN:VEVENT
DTSTART;TZID=America/New_York:20400105T000000
DTEND;TZID=America/New_York:20551229T230000
DTSTAMP:20260421T185822
CREATED:20241227T175702Z
LAST-MODIFIED:20241227T175702Z
UID:10009813-2209334400-2713734000@scarfg.org
SUMMARY:Open Trap
DESCRIPTION:Public Shooting.  Beginners welcome!\nFor Fees\, please see the Trap Webpage here. \nhttps://scarfg.org/disciplines/trap/\n 
URL:https://scarfg.org/event/open-trap-15/2040-01-05/
LOCATION:Trap Range\, 21 Fish and Game Ln\, Scarborough\, ME\, 04072\, United States
CATEGORIES:Trap
END:VEVENT
BEGIN:VEVENT
DTSTART;TZID=America/New_York:20400112T000000
DTEND;TZID=America/New_York:20560105T230000
DTSTAMP:20260421T185822
CREATED:20241227T175702Z
LAST-MODIFIED:20241227T175702Z
UID:10009814-2209939200-2714338800@scarfg.org
SUMMARY:Open Trap
DESCRIPTION:Public Shooting.  Beginners welcome!\nFor Fees\, please see the Trap Webpage here. \nhttps://scarfg.org/disciplines/trap/\n 
URL:https://scarfg.org/event/open-trap-15/2040-01-12/
LOCATION:Trap Range\, 21 Fish and Game Ln\, Scarborough\, ME\, 04072\, United States
CATEGORIES:Trap
END:VEVENT
BEGIN:VEVENT
DTSTART;TZID=America/New_York:20400119T000000
DTEND;TZID=America/New_York:20560112T230000
DTSTAMP:20260421T185822
CREATED:20241227T175702Z
LAST-MODIFIED:20241227T175702Z
UID:10009815-2210544000-2714943600@scarfg.org
SUMMARY:Open Trap
DESCRIPTION:Public Shooting.  Beginners welcome!\nFor Fees\, please see the Trap Webpage here. \nhttps://scarfg.org/disciplines/trap/\n 
URL:https://scarfg.org/event/open-trap-15/2040-01-19/
LOCATION:Trap Range\, 21 Fish and Game Ln\, Scarborough\, ME\, 04072\, United States
CATEGORIES:Trap
END:VEVENT
BEGIN:VEVENT
DTSTART;TZID=America/New_York:20400126T000000
DTEND;TZID=America/New_York:20560119T230000
DTSTAMP:20260421T185822
CREATED:20241227T175702Z
LAST-MODIFIED:20241227T175702Z
UID:10009816-2211148800-2715548400@scarfg.org
SUMMARY:Open Trap
DESCRIPTION:Public Shooting.  Beginners welcome!\nFor Fees\, please see the Trap Webpage here. \nhttps://scarfg.org/disciplines/trap/\n 
URL:https://scarfg.org/event/open-trap-15/2040-01-26/
LOCATION:Trap Range\, 21 Fish and Game Ln\, Scarborough\, ME\, 04072\, United States
CATEGORIES:Trap
END:VEVENT
BEGIN:VEVENT
DTSTART;TZID=America/New_York:20400202T000000
DTEND;TZID=America/New_York:20560126T230000
DTSTAMP:20260421T185822
CREATED:20241227T175702Z
LAST-MODIFIED:20241227T175702Z
UID:10009817-2211753600-2716153200@scarfg.org
SUMMARY:Open Trap
DESCRIPTION:Public Shooting.  Beginners welcome!\nFor Fees\, please see the Trap Webpage here. \nhttps://scarfg.org/disciplines/trap/\n 
URL:https://scarfg.org/event/open-trap-15/2040-02-02/
LOCATION:Trap Range\, 21 Fish and Game Ln\, Scarborough\, ME\, 04072\, United States
CATEGORIES:Trap
END:VEVENT
BEGIN:VEVENT
DTSTART;TZID=America/New_York:20400209T000000
DTEND;TZID=America/New_York:20560202T230000
DTSTAMP:20260421T185822
CREATED:20241227T175702Z
LAST-MODIFIED:20241227T175702Z
UID:10009818-2212358400-2716758000@scarfg.org
SUMMARY:Open Trap
DESCRIPTION:Public Shooting.  Beginners welcome!\nFor Fees\, please see the Trap Webpage here. \nhttps://scarfg.org/disciplines/trap/\n 
URL:https://scarfg.org/event/open-trap-15/2040-02-09/
LOCATION:Trap Range\, 21 Fish and Game Ln\, Scarborough\, ME\, 04072\, United States
CATEGORIES:Trap
END:VEVENT
BEGIN:VEVENT
DTSTART;TZID=America/New_York:20400216T000000
DTEND;TZID=America/New_York:20560209T230000
DTSTAMP:20260421T185822
CREATED:20241227T175702Z
LAST-MODIFIED:20241227T175702Z
UID:10009819-2212963200-2717362800@scarfg.org
SUMMARY:Open Trap
DESCRIPTION:Public Shooting.  Beginners welcome!\nFor Fees\, please see the Trap Webpage here. \nhttps://scarfg.org/disciplines/trap/\n 
URL:https://scarfg.org/event/open-trap-15/2040-02-16/
LOCATION:Trap Range\, 21 Fish and Game Ln\, Scarborough\, ME\, 04072\, United States
CATEGORIES:Trap
END:VEVENT
BEGIN:VEVENT
DTSTART;TZID=America/New_York:20400223T000000
DTEND;TZID=America/New_York:20560216T230000
DTSTAMP:20260421T185822
CREATED:20241227T175702Z
LAST-MODIFIED:20241227T175702Z
UID:10009820-2213568000-2717967600@scarfg.org
SUMMARY:Open Trap
DESCRIPTION:Public Shooting.  Beginners welcome!\nFor Fees\, please see the Trap Webpage here. \nhttps://scarfg.org/disciplines/trap/\n 
URL:https://scarfg.org/event/open-trap-15/2040-02-23/
LOCATION:Trap Range\, 21 Fish and Game Ln\, Scarborough\, ME\, 04072\, United States
CATEGORIES:Trap
END:VEVENT
BEGIN:VEVENT
DTSTART;TZID=America/New_York:20400301T000000
DTEND;TZID=America/New_York:20560223T230000
DTSTAMP:20260421T185822
CREATED:20241227T175702Z
LAST-MODIFIED:20241227T175702Z
UID:10009821-2214172800-2718572400@scarfg.org
SUMMARY:Open Trap
DESCRIPTION:Public Shooting.  Beginners welcome!\nFor Fees\, please see the Trap Webpage here. \nhttps://scarfg.org/disciplines/trap/\n 
URL:https://scarfg.org/event/open-trap-15/2040-03-01/
LOCATION:Trap Range\, 21 Fish and Game Ln\, Scarborough\, ME\, 04072\, United States
CATEGORIES:Trap
END:VEVENT
BEGIN:VEVENT
DTSTART;TZID=America/New_York:20400308T000000
DTEND;TZID=America/New_York:20560301T230000
DTSTAMP:20260421T185822
CREATED:20241227T175702Z
LAST-MODIFIED:20241227T175702Z
UID:10009822-2214777600-2719177200@scarfg.org
SUMMARY:Open Trap
DESCRIPTION:Public Shooting.  Beginners welcome!\nFor Fees\, please see the Trap Webpage here. \nhttps://scarfg.org/disciplines/trap/\n 
URL:https://scarfg.org/event/open-trap-15/2040-03-08/
LOCATION:Trap Range\, 21 Fish and Game Ln\, Scarborough\, ME\, 04072\, United States
CATEGORIES:Trap
END:VEVENT
BEGIN:VEVENT
DTSTART;TZID=America/New_York:20400315T000000
DTEND;TZID=America/New_York:20560308T230000
DTSTAMP:20260421T185822
CREATED:20241227T175702Z
LAST-MODIFIED:20241227T175702Z
UID:10009823-2215382400-2719782000@scarfg.org
SUMMARY:Open Trap
DESCRIPTION:Public Shooting.  Beginners welcome!\nFor Fees\, please see the Trap Webpage here. \nhttps://scarfg.org/disciplines/trap/\n 
URL:https://scarfg.org/event/open-trap-15/2040-03-15/
LOCATION:Trap Range\, 21 Fish and Game Ln\, Scarborough\, ME\, 04072\, United States
CATEGORIES:Trap
END:VEVENT
BEGIN:VEVENT
DTSTART;TZID=America/New_York:20400322T000000
DTEND;TZID=America/New_York:20560315T230000
DTSTAMP:20260421T185822
CREATED:20241227T175702Z
LAST-MODIFIED:20241227T175702Z
UID:10009824-2215987200-2720386800@scarfg.org
SUMMARY:Open Trap
DESCRIPTION:Public Shooting.  Beginners welcome!\nFor Fees\, please see the Trap Webpage here. \nhttps://scarfg.org/disciplines/trap/\n 
URL:https://scarfg.org/event/open-trap-15/2040-03-22/
LOCATION:Trap Range\, 21 Fish and Game Ln\, Scarborough\, ME\, 04072\, United States
CATEGORIES:Trap
END:VEVENT
BEGIN:VEVENT
DTSTART;TZID=America/New_York:20400329T000000
DTEND;TZID=America/New_York:20560322T230000
DTSTAMP:20260421T185822
CREATED:20241227T175702Z
LAST-MODIFIED:20241227T175702Z
UID:10009825-2216592000-2720991600@scarfg.org
SUMMARY:Open Trap
DESCRIPTION:Public Shooting.  Beginners welcome!\nFor Fees\, please see the Trap Webpage here. \nhttps://scarfg.org/disciplines/trap/\n 
URL:https://scarfg.org/event/open-trap-15/2040-03-29/
LOCATION:Trap Range\, 21 Fish and Game Ln\, Scarborough\, ME\, 04072\, United States
CATEGORIES:Trap
END:VEVENT
BEGIN:VEVENT
DTSTART;TZID=America/New_York:20400405T000000
DTEND;TZID=America/New_York:20560329T230000
DTSTAMP:20260421T185822
CREATED:20241227T175702Z
LAST-MODIFIED:20241227T175702Z
UID:10009826-2217196800-2721596400@scarfg.org
SUMMARY:Open Trap
DESCRIPTION:Public Shooting.  Beginners welcome!\nFor Fees\, please see the Trap Webpage here. \nhttps://scarfg.org/disciplines/trap/\n 
URL:https://scarfg.org/event/open-trap-15/2040-04-05/
LOCATION:Trap Range\, 21 Fish and Game Ln\, Scarborough\, ME\, 04072\, United States
CATEGORIES:Trap
END:VEVENT
BEGIN:VEVENT
DTSTART;TZID=America/New_York:20400412T000000
DTEND;TZID=America/New_York:20560405T230000
DTSTAMP:20260421T185822
CREATED:20241227T175702Z
LAST-MODIFIED:20241227T175702Z
UID:10009827-2217801600-2722201200@scarfg.org
SUMMARY:Open Trap
DESCRIPTION:Public Shooting.  Beginners welcome!\nFor Fees\, please see the Trap Webpage here. \nhttps://scarfg.org/disciplines/trap/\n 
URL:https://scarfg.org/event/open-trap-15/2040-04-12/
LOCATION:Trap Range\, 21 Fish and Game Ln\, Scarborough\, ME\, 04072\, United States
CATEGORIES:Trap
END:VEVENT
BEGIN:VEVENT
DTSTART;TZID=America/New_York:20400419T000000
DTEND;TZID=America/New_York:20560412T230000
DTSTAMP:20260421T185822
CREATED:20241227T175702Z
LAST-MODIFIED:20241227T175702Z
UID:10009828-2218406400-2722806000@scarfg.org
SUMMARY:Open Trap
DESCRIPTION:Public Shooting.  Beginners welcome!\nFor Fees\, please see the Trap Webpage here. \nhttps://scarfg.org/disciplines/trap/\n 
URL:https://scarfg.org/event/open-trap-15/2040-04-19/
LOCATION:Trap Range\, 21 Fish and Game Ln\, Scarborough\, ME\, 04072\, United States
CATEGORIES:Trap
END:VEVENT
END:VCALENDAR