BEGIN:VCALENDAR
VERSION:2.0
PRODID:-//Scarborough Fish &amp; Game Association - ECPv6.15.20//NONSGML v1.0//EN
CALSCALE:GREGORIAN
METHOD:PUBLISH
X-WR-CALNAME:Scarborough Fish &amp; Game Association
X-ORIGINAL-URL:https://scarfg.org
X-WR-CALDESC:Events for Scarborough Fish &amp; Game Association
REFRESH-INTERVAL;VALUE=DURATION:PT1H
X-Robots-Tag:noindex
X-PUBLISHED-TTL:PT1H
BEGIN:VTIMEZONE
TZID:America/New_York
BEGIN:DAYLIGHT
TZOFFSETFROM:-0500
TZOFFSETTO:-0400
TZNAME:EDT
DTSTART:20390313T070000
END:DAYLIGHT
BEGIN:STANDARD
TZOFFSETFROM:-0400
TZOFFSETTO:-0500
TZNAME:EST
DTSTART:20391106T060000
END:STANDARD
BEGIN:DAYLIGHT
TZOFFSETFROM:-0500
TZOFFSETTO:-0400
TZNAME:EDT
DTSTART:20400311T070000
END:DAYLIGHT
BEGIN:STANDARD
TZOFFSETFROM:-0400
TZOFFSETTO:-0500
TZNAME:EST
DTSTART:20401104T060000
END:STANDARD
BEGIN:DAYLIGHT
TZOFFSETFROM:-0500
TZOFFSETTO:-0400
TZNAME:EDT
DTSTART:20410310T070000
END:DAYLIGHT
BEGIN:STANDARD
TZOFFSETFROM:-0400
TZOFFSETTO:-0500
TZNAME:EST
DTSTART:20411103T060000
END:STANDARD
BEGIN:DAYLIGHT
TZOFFSETFROM:-0500
TZOFFSETTO:-0400
TZNAME:EDT
DTSTART:20420309T070000
END:DAYLIGHT
BEGIN:STANDARD
TZOFFSETFROM:-0400
TZOFFSETTO:-0500
TZNAME:EST
DTSTART:20421102T060000
END:STANDARD
BEGIN:DAYLIGHT
TZOFFSETFROM:-0500
TZOFFSETTO:-0400
TZNAME:EDT
DTSTART:20430308T070000
END:DAYLIGHT
BEGIN:STANDARD
TZOFFSETFROM:-0400
TZOFFSETTO:-0500
TZNAME:EST
DTSTART:20431101T060000
END:STANDARD
BEGIN:DAYLIGHT
TZOFFSETFROM:-0500
TZOFFSETTO:-0400
TZNAME:EDT
DTSTART:20440313T070000
END:DAYLIGHT
BEGIN:STANDARD
TZOFFSETFROM:-0400
TZOFFSETTO:-0500
TZNAME:EST
DTSTART:20441106T060000
END:STANDARD
BEGIN:DAYLIGHT
TZOFFSETFROM:-0500
TZOFFSETTO:-0400
TZNAME:EDT
DTSTART:20450312T070000
END:DAYLIGHT
BEGIN:STANDARD
TZOFFSETFROM:-0400
TZOFFSETTO:-0500
TZNAME:EST
DTSTART:20451105T060000
END:STANDARD
BEGIN:DAYLIGHT
TZOFFSETFROM:-0500
TZOFFSETTO:-0400
TZNAME:EDT
DTSTART:20460311T070000
END:DAYLIGHT
BEGIN:STANDARD
TZOFFSETFROM:-0400
TZOFFSETTO:-0500
TZNAME:EST
DTSTART:20461104T060000
END:STANDARD
BEGIN:DAYLIGHT
TZOFFSETFROM:-0500
TZOFFSETTO:-0400
TZNAME:EDT
DTSTART:20470310T070000
END:DAYLIGHT
BEGIN:STANDARD
TZOFFSETFROM:-0400
TZOFFSETTO:-0500
TZNAME:EST
DTSTART:20471103T060000
END:STANDARD
BEGIN:DAYLIGHT
TZOFFSETFROM:-0500
TZOFFSETTO:-0400
TZNAME:EDT
DTSTART:20480308T070000
END:DAYLIGHT
BEGIN:STANDARD
TZOFFSETFROM:-0400
TZOFFSETTO:-0500
TZNAME:EST
DTSTART:20481101T060000
END:STANDARD
BEGIN:DAYLIGHT
TZOFFSETFROM:-0500
TZOFFSETTO:-0400
TZNAME:EDT
DTSTART:20490314T070000
END:DAYLIGHT
BEGIN:STANDARD
TZOFFSETFROM:-0400
TZOFFSETTO:-0500
TZNAME:EST
DTSTART:20491107T060000
END:STANDARD
BEGIN:DAYLIGHT
TZOFFSETFROM:-0500
TZOFFSETTO:-0400
TZNAME:EDT
DTSTART:20500313T070000
END:DAYLIGHT
BEGIN:STANDARD
TZOFFSETFROM:-0400
TZOFFSETTO:-0500
TZNAME:EST
DTSTART:20501106T060000
END:STANDARD
BEGIN:DAYLIGHT
TZOFFSETFROM:-0500
TZOFFSETTO:-0400
TZNAME:EDT
DTSTART:20510312T070000
END:DAYLIGHT
BEGIN:STANDARD
TZOFFSETFROM:-0400
TZOFFSETTO:-0500
TZNAME:EST
DTSTART:20511105T060000
END:STANDARD
BEGIN:DAYLIGHT
TZOFFSETFROM:-0500
TZOFFSETTO:-0400
TZNAME:EDT
DTSTART:20520310T070000
END:DAYLIGHT
BEGIN:STANDARD
TZOFFSETFROM:-0400
TZOFFSETTO:-0500
TZNAME:EST
DTSTART:20521103T060000
END:STANDARD
BEGIN:DAYLIGHT
TZOFFSETFROM:-0500
TZOFFSETTO:-0400
TZNAME:EDT
DTSTART:20530309T070000
END:DAYLIGHT
BEGIN:STANDARD
TZOFFSETFROM:-0400
TZOFFSETTO:-0500
TZNAME:EST
DTSTART:20531102T060000
END:STANDARD
BEGIN:DAYLIGHT
TZOFFSETFROM:-0500
TZOFFSETTO:-0400
TZNAME:EDT
DTSTART:20540308T070000
END:DAYLIGHT
BEGIN:STANDARD
TZOFFSETFROM:-0400
TZOFFSETTO:-0500
TZNAME:EST
DTSTART:20541101T060000
END:STANDARD
BEGIN:DAYLIGHT
TZOFFSETFROM:-0500
TZOFFSETTO:-0400
TZNAME:EDT
DTSTART:20550314T070000
END:DAYLIGHT
BEGIN:STANDARD
TZOFFSETFROM:-0400
TZOFFSETTO:-0500
TZNAME:EST
DTSTART:20551107T060000
END:STANDARD
BEGIN:DAYLIGHT
TZOFFSETFROM:-0500
TZOFFSETTO:-0400
TZNAME:EDT
DTSTART:20560312T070000
END:DAYLIGHT
BEGIN:STANDARD
TZOFFSETFROM:-0400
TZOFFSETTO:-0500
TZNAME:EST
DTSTART:20561105T060000
END:STANDARD
BEGIN:DAYLIGHT
TZOFFSETFROM:-0500
TZOFFSETTO:-0400
TZNAME:EDT
DTSTART:20570311T070000
END:DAYLIGHT
BEGIN:STANDARD
TZOFFSETFROM:-0400
TZOFFSETTO:-0500
TZNAME:EST
DTSTART:20571104T060000
END:STANDARD
END:VTIMEZONE
BEGIN:VEVENT
DTSTART;TZID=America/New_York:20400223T000000
DTEND;TZID=America/New_York:20560216T230000
DTSTAMP:20260421T214216
CREATED:20241227T175702Z
LAST-MODIFIED:20241227T175702Z
UID:10009820-2213568000-2717967600@scarfg.org
SUMMARY:Open Trap
DESCRIPTION:Public Shooting.  Beginners welcome!\nFor Fees\, please see the Trap Webpage here. \nhttps://scarfg.org/disciplines/trap/\n 
URL:https://scarfg.org/event/open-trap-15/2040-02-23/
LOCATION:Trap Range\, 21 Fish and Game Ln\, Scarborough\, ME\, 04072\, United States
CATEGORIES:Trap
END:VEVENT
BEGIN:VEVENT
DTSTART;TZID=America/New_York:20400301T000000
DTEND;TZID=America/New_York:20560223T230000
DTSTAMP:20260421T214216
CREATED:20241227T175702Z
LAST-MODIFIED:20241227T175702Z
UID:10009821-2214172800-2718572400@scarfg.org
SUMMARY:Open Trap
DESCRIPTION:Public Shooting.  Beginners welcome!\nFor Fees\, please see the Trap Webpage here. \nhttps://scarfg.org/disciplines/trap/\n 
URL:https://scarfg.org/event/open-trap-15/2040-03-01/
LOCATION:Trap Range\, 21 Fish and Game Ln\, Scarborough\, ME\, 04072\, United States
CATEGORIES:Trap
END:VEVENT
BEGIN:VEVENT
DTSTART;TZID=America/New_York:20400308T000000
DTEND;TZID=America/New_York:20560301T230000
DTSTAMP:20260421T214216
CREATED:20241227T175702Z
LAST-MODIFIED:20241227T175702Z
UID:10009822-2214777600-2719177200@scarfg.org
SUMMARY:Open Trap
DESCRIPTION:Public Shooting.  Beginners welcome!\nFor Fees\, please see the Trap Webpage here. \nhttps://scarfg.org/disciplines/trap/\n 
URL:https://scarfg.org/event/open-trap-15/2040-03-08/
LOCATION:Trap Range\, 21 Fish and Game Ln\, Scarborough\, ME\, 04072\, United States
CATEGORIES:Trap
END:VEVENT
BEGIN:VEVENT
DTSTART;TZID=America/New_York:20400315T000000
DTEND;TZID=America/New_York:20560308T230000
DTSTAMP:20260421T214216
CREATED:20241227T175702Z
LAST-MODIFIED:20241227T175702Z
UID:10009823-2215382400-2719782000@scarfg.org
SUMMARY:Open Trap
DESCRIPTION:Public Shooting.  Beginners welcome!\nFor Fees\, please see the Trap Webpage here. \nhttps://scarfg.org/disciplines/trap/\n 
URL:https://scarfg.org/event/open-trap-15/2040-03-15/
LOCATION:Trap Range\, 21 Fish and Game Ln\, Scarborough\, ME\, 04072\, United States
CATEGORIES:Trap
END:VEVENT
BEGIN:VEVENT
DTSTART;TZID=America/New_York:20400322T000000
DTEND;TZID=America/New_York:20560315T230000
DTSTAMP:20260421T214216
CREATED:20241227T175702Z
LAST-MODIFIED:20241227T175702Z
UID:10009824-2215987200-2720386800@scarfg.org
SUMMARY:Open Trap
DESCRIPTION:Public Shooting.  Beginners welcome!\nFor Fees\, please see the Trap Webpage here. \nhttps://scarfg.org/disciplines/trap/\n 
URL:https://scarfg.org/event/open-trap-15/2040-03-22/
LOCATION:Trap Range\, 21 Fish and Game Ln\, Scarborough\, ME\, 04072\, United States
CATEGORIES:Trap
END:VEVENT
BEGIN:VEVENT
DTSTART;TZID=America/New_York:20400329T000000
DTEND;TZID=America/New_York:20560322T230000
DTSTAMP:20260421T214216
CREATED:20241227T175702Z
LAST-MODIFIED:20241227T175702Z
UID:10009825-2216592000-2720991600@scarfg.org
SUMMARY:Open Trap
DESCRIPTION:Public Shooting.  Beginners welcome!\nFor Fees\, please see the Trap Webpage here. \nhttps://scarfg.org/disciplines/trap/\n 
URL:https://scarfg.org/event/open-trap-15/2040-03-29/
LOCATION:Trap Range\, 21 Fish and Game Ln\, Scarborough\, ME\, 04072\, United States
CATEGORIES:Trap
END:VEVENT
BEGIN:VEVENT
DTSTART;TZID=America/New_York:20400405T000000
DTEND;TZID=America/New_York:20560329T230000
DTSTAMP:20260421T214216
CREATED:20241227T175702Z
LAST-MODIFIED:20241227T175702Z
UID:10009826-2217196800-2721596400@scarfg.org
SUMMARY:Open Trap
DESCRIPTION:Public Shooting.  Beginners welcome!\nFor Fees\, please see the Trap Webpage here. \nhttps://scarfg.org/disciplines/trap/\n 
URL:https://scarfg.org/event/open-trap-15/2040-04-05/
LOCATION:Trap Range\, 21 Fish and Game Ln\, Scarborough\, ME\, 04072\, United States
CATEGORIES:Trap
END:VEVENT
BEGIN:VEVENT
DTSTART;TZID=America/New_York:20400412T000000
DTEND;TZID=America/New_York:20560405T230000
DTSTAMP:20260421T214216
CREATED:20241227T175702Z
LAST-MODIFIED:20241227T175702Z
UID:10009827-2217801600-2722201200@scarfg.org
SUMMARY:Open Trap
DESCRIPTION:Public Shooting.  Beginners welcome!\nFor Fees\, please see the Trap Webpage here. \nhttps://scarfg.org/disciplines/trap/\n 
URL:https://scarfg.org/event/open-trap-15/2040-04-12/
LOCATION:Trap Range\, 21 Fish and Game Ln\, Scarborough\, ME\, 04072\, United States
CATEGORIES:Trap
END:VEVENT
BEGIN:VEVENT
DTSTART;TZID=America/New_York:20400419T000000
DTEND;TZID=America/New_York:20560412T230000
DTSTAMP:20260421T214216
CREATED:20241227T175702Z
LAST-MODIFIED:20241227T175702Z
UID:10009828-2218406400-2722806000@scarfg.org
SUMMARY:Open Trap
DESCRIPTION:Public Shooting.  Beginners welcome!\nFor Fees\, please see the Trap Webpage here. \nhttps://scarfg.org/disciplines/trap/\n 
URL:https://scarfg.org/event/open-trap-15/2040-04-19/
LOCATION:Trap Range\, 21 Fish and Game Ln\, Scarborough\, ME\, 04072\, United States
CATEGORIES:Trap
END:VEVENT
BEGIN:VEVENT
DTSTART;TZID=America/New_York:20400426T000000
DTEND;TZID=America/New_York:20560419T230000
DTSTAMP:20260421T214216
CREATED:20241227T175702Z
LAST-MODIFIED:20241227T175702Z
UID:10009829-2219011200-2723410800@scarfg.org
SUMMARY:Open Trap
DESCRIPTION:Public Shooting.  Beginners welcome!\nFor Fees\, please see the Trap Webpage here. \nhttps://scarfg.org/disciplines/trap/\n 
URL:https://scarfg.org/event/open-trap-15/2040-04-26/
LOCATION:Trap Range\, 21 Fish and Game Ln\, Scarborough\, ME\, 04072\, United States
CATEGORIES:Trap
END:VEVENT
BEGIN:VEVENT
DTSTART;TZID=America/New_York:20400503T000000
DTEND;TZID=America/New_York:20560426T230000
DTSTAMP:20260421T214216
CREATED:20241227T175702Z
LAST-MODIFIED:20241227T175702Z
UID:10009830-2219616000-2724015600@scarfg.org
SUMMARY:Open Trap
DESCRIPTION:Public Shooting.  Beginners welcome!\nFor Fees\, please see the Trap Webpage here. \nhttps://scarfg.org/disciplines/trap/\n 
URL:https://scarfg.org/event/open-trap-15/2040-05-03/
LOCATION:Trap Range\, 21 Fish and Game Ln\, Scarborough\, ME\, 04072\, United States
CATEGORIES:Trap
END:VEVENT
BEGIN:VEVENT
DTSTART;TZID=America/New_York:20400510T000000
DTEND;TZID=America/New_York:20560503T230000
DTSTAMP:20260421T214216
CREATED:20241227T175702Z
LAST-MODIFIED:20241227T175702Z
UID:10009831-2220220800-2724620400@scarfg.org
SUMMARY:Open Trap
DESCRIPTION:Public Shooting.  Beginners welcome!\nFor Fees\, please see the Trap Webpage here. \nhttps://scarfg.org/disciplines/trap/\n 
URL:https://scarfg.org/event/open-trap-15/2040-05-10/
LOCATION:Trap Range\, 21 Fish and Game Ln\, Scarborough\, ME\, 04072\, United States
CATEGORIES:Trap
END:VEVENT
BEGIN:VEVENT
DTSTART;TZID=America/New_York:20400517T000000
DTEND;TZID=America/New_York:20560510T230000
DTSTAMP:20260421T214216
CREATED:20241227T175702Z
LAST-MODIFIED:20241227T175702Z
UID:10009832-2220825600-2725225200@scarfg.org
SUMMARY:Open Trap
DESCRIPTION:Public Shooting.  Beginners welcome!\nFor Fees\, please see the Trap Webpage here. \nhttps://scarfg.org/disciplines/trap/\n 
URL:https://scarfg.org/event/open-trap-15/2040-05-17/
LOCATION:Trap Range\, 21 Fish and Game Ln\, Scarborough\, ME\, 04072\, United States
CATEGORIES:Trap
END:VEVENT
BEGIN:VEVENT
DTSTART;TZID=America/New_York:20400524T000000
DTEND;TZID=America/New_York:20560517T230000
DTSTAMP:20260421T214216
CREATED:20241227T175702Z
LAST-MODIFIED:20241227T175702Z
UID:10009833-2221430400-2725830000@scarfg.org
SUMMARY:Open Trap
DESCRIPTION:Public Shooting.  Beginners welcome!\nFor Fees\, please see the Trap Webpage here. \nhttps://scarfg.org/disciplines/trap/\n 
URL:https://scarfg.org/event/open-trap-15/2040-05-24/
LOCATION:Trap Range\, 21 Fish and Game Ln\, Scarborough\, ME\, 04072\, United States
CATEGORIES:Trap
END:VEVENT
BEGIN:VEVENT
DTSTART;TZID=America/New_York:20400531T000000
DTEND;TZID=America/New_York:20560524T230000
DTSTAMP:20260421T214216
CREATED:20241227T175702Z
LAST-MODIFIED:20241227T175702Z
UID:10009834-2222035200-2726434800@scarfg.org
SUMMARY:Open Trap
DESCRIPTION:Public Shooting.  Beginners welcome!\nFor Fees\, please see the Trap Webpage here. \nhttps://scarfg.org/disciplines/trap/\n 
URL:https://scarfg.org/event/open-trap-15/2040-05-31/
LOCATION:Trap Range\, 21 Fish and Game Ln\, Scarborough\, ME\, 04072\, United States
CATEGORIES:Trap
END:VEVENT
BEGIN:VEVENT
DTSTART;TZID=America/New_York:20400607T000000
DTEND;TZID=America/New_York:20560531T230000
DTSTAMP:20260421T214216
CREATED:20241227T175702Z
LAST-MODIFIED:20241227T175702Z
UID:10009835-2222640000-2727039600@scarfg.org
SUMMARY:Open Trap
DESCRIPTION:Public Shooting.  Beginners welcome!\nFor Fees\, please see the Trap Webpage here. \nhttps://scarfg.org/disciplines/trap/\n 
URL:https://scarfg.org/event/open-trap-15/2040-06-07/
LOCATION:Trap Range\, 21 Fish and Game Ln\, Scarborough\, ME\, 04072\, United States
CATEGORIES:Trap
END:VEVENT
BEGIN:VEVENT
DTSTART;TZID=America/New_York:20400614T000000
DTEND;TZID=America/New_York:20560607T230000
DTSTAMP:20260421T214216
CREATED:20241227T175702Z
LAST-MODIFIED:20241227T175702Z
UID:10009836-2223244800-2727644400@scarfg.org
SUMMARY:Open Trap
DESCRIPTION:Public Shooting.  Beginners welcome!\nFor Fees\, please see the Trap Webpage here. \nhttps://scarfg.org/disciplines/trap/\n 
URL:https://scarfg.org/event/open-trap-15/2040-06-14/
LOCATION:Trap Range\, 21 Fish and Game Ln\, Scarborough\, ME\, 04072\, United States
CATEGORIES:Trap
END:VEVENT
BEGIN:VEVENT
DTSTART;TZID=America/New_York:20400621T000000
DTEND;TZID=America/New_York:20560614T230000
DTSTAMP:20260421T214216
CREATED:20241227T175702Z
LAST-MODIFIED:20241227T175702Z
UID:10009837-2223849600-2728249200@scarfg.org
SUMMARY:Open Trap
DESCRIPTION:Public Shooting.  Beginners welcome!\nFor Fees\, please see the Trap Webpage here. \nhttps://scarfg.org/disciplines/trap/\n 
URL:https://scarfg.org/event/open-trap-15/2040-06-21/
LOCATION:Trap Range\, 21 Fish and Game Ln\, Scarborough\, ME\, 04072\, United States
CATEGORIES:Trap
END:VEVENT
BEGIN:VEVENT
DTSTART;TZID=America/New_York:20400628T000000
DTEND;TZID=America/New_York:20560621T230000
DTSTAMP:20260421T214216
CREATED:20241227T175702Z
LAST-MODIFIED:20241227T175702Z
UID:10009838-2224454400-2728854000@scarfg.org
SUMMARY:Open Trap
DESCRIPTION:Public Shooting.  Beginners welcome!\nFor Fees\, please see the Trap Webpage here. \nhttps://scarfg.org/disciplines/trap/\n 
URL:https://scarfg.org/event/open-trap-15/2040-06-28/
LOCATION:Trap Range\, 21 Fish and Game Ln\, Scarborough\, ME\, 04072\, United States
CATEGORIES:Trap
END:VEVENT
BEGIN:VEVENT
DTSTART;TZID=America/New_York:20400705T000000
DTEND;TZID=America/New_York:20560628T230000
DTSTAMP:20260421T214216
CREATED:20241227T175702Z
LAST-MODIFIED:20241227T175702Z
UID:10009839-2225059200-2729458800@scarfg.org
SUMMARY:Open Trap
DESCRIPTION:Public Shooting.  Beginners welcome!\nFor Fees\, please see the Trap Webpage here. \nhttps://scarfg.org/disciplines/trap/\n 
URL:https://scarfg.org/event/open-trap-15/2040-07-05/
LOCATION:Trap Range\, 21 Fish and Game Ln\, Scarborough\, ME\, 04072\, United States
CATEGORIES:Trap
END:VEVENT
BEGIN:VEVENT
DTSTART;TZID=America/New_York:20400712T000000
DTEND;TZID=America/New_York:20560705T230000
DTSTAMP:20260421T214216
CREATED:20241227T175702Z
LAST-MODIFIED:20241227T175702Z
UID:10009840-2225664000-2730063600@scarfg.org
SUMMARY:Open Trap
DESCRIPTION:Public Shooting.  Beginners welcome!\nFor Fees\, please see the Trap Webpage here. \nhttps://scarfg.org/disciplines/trap/\n 
URL:https://scarfg.org/event/open-trap-15/2040-07-12/
LOCATION:Trap Range\, 21 Fish and Game Ln\, Scarborough\, ME\, 04072\, United States
CATEGORIES:Trap
END:VEVENT
BEGIN:VEVENT
DTSTART;TZID=America/New_York:20400719T000000
DTEND;TZID=America/New_York:20560712T230000
DTSTAMP:20260421T214216
CREATED:20241227T175702Z
LAST-MODIFIED:20241227T175702Z
UID:10009841-2226268800-2730668400@scarfg.org
SUMMARY:Open Trap
DESCRIPTION:Public Shooting.  Beginners welcome!\nFor Fees\, please see the Trap Webpage here. \nhttps://scarfg.org/disciplines/trap/\n 
URL:https://scarfg.org/event/open-trap-15/2040-07-19/
LOCATION:Trap Range\, 21 Fish and Game Ln\, Scarborough\, ME\, 04072\, United States
CATEGORIES:Trap
END:VEVENT
BEGIN:VEVENT
DTSTART;TZID=America/New_York:20400726T000000
DTEND;TZID=America/New_York:20560719T230000
DTSTAMP:20260421T214216
CREATED:20241227T175702Z
LAST-MODIFIED:20241227T175702Z
UID:10009842-2226873600-2731273200@scarfg.org
SUMMARY:Open Trap
DESCRIPTION:Public Shooting.  Beginners welcome!\nFor Fees\, please see the Trap Webpage here. \nhttps://scarfg.org/disciplines/trap/\n 
URL:https://scarfg.org/event/open-trap-15/2040-07-26/
LOCATION:Trap Range\, 21 Fish and Game Ln\, Scarborough\, ME\, 04072\, United States
CATEGORIES:Trap
END:VEVENT
BEGIN:VEVENT
DTSTART;TZID=America/New_York:20400802T000000
DTEND;TZID=America/New_York:20560726T230000
DTSTAMP:20260421T214216
CREATED:20241227T175702Z
LAST-MODIFIED:20241227T175702Z
UID:10009843-2227478400-2731878000@scarfg.org
SUMMARY:Open Trap
DESCRIPTION:Public Shooting.  Beginners welcome!\nFor Fees\, please see the Trap Webpage here. \nhttps://scarfg.org/disciplines/trap/\n 
URL:https://scarfg.org/event/open-trap-15/2040-08-02/
LOCATION:Trap Range\, 21 Fish and Game Ln\, Scarborough\, ME\, 04072\, United States
CATEGORIES:Trap
END:VEVENT
BEGIN:VEVENT
DTSTART;TZID=America/New_York:20400809T000000
DTEND;TZID=America/New_York:20560802T230000
DTSTAMP:20260421T214216
CREATED:20241227T175702Z
LAST-MODIFIED:20241227T175702Z
UID:10009844-2228083200-2732482800@scarfg.org
SUMMARY:Open Trap
DESCRIPTION:Public Shooting.  Beginners welcome!\nFor Fees\, please see the Trap Webpage here. \nhttps://scarfg.org/disciplines/trap/\n 
URL:https://scarfg.org/event/open-trap-15/2040-08-09/
LOCATION:Trap Range\, 21 Fish and Game Ln\, Scarborough\, ME\, 04072\, United States
CATEGORIES:Trap
END:VEVENT
BEGIN:VEVENT
DTSTART;TZID=America/New_York:20400816T000000
DTEND;TZID=America/New_York:20560809T230000
DTSTAMP:20260421T214216
CREATED:20241227T175702Z
LAST-MODIFIED:20241227T175702Z
UID:10009845-2228688000-2733087600@scarfg.org
SUMMARY:Open Trap
DESCRIPTION:Public Shooting.  Beginners welcome!\nFor Fees\, please see the Trap Webpage here. \nhttps://scarfg.org/disciplines/trap/\n 
URL:https://scarfg.org/event/open-trap-15/2040-08-16/
LOCATION:Trap Range\, 21 Fish and Game Ln\, Scarborough\, ME\, 04072\, United States
CATEGORIES:Trap
END:VEVENT
BEGIN:VEVENT
DTSTART;TZID=America/New_York:20400823T000000
DTEND;TZID=America/New_York:20560816T230000
DTSTAMP:20260421T214216
CREATED:20241227T175702Z
LAST-MODIFIED:20241227T175702Z
UID:10009846-2229292800-2733692400@scarfg.org
SUMMARY:Open Trap
DESCRIPTION:Public Shooting.  Beginners welcome!\nFor Fees\, please see the Trap Webpage here. \nhttps://scarfg.org/disciplines/trap/\n 
URL:https://scarfg.org/event/open-trap-15/2040-08-23/
LOCATION:Trap Range\, 21 Fish and Game Ln\, Scarborough\, ME\, 04072\, United States
CATEGORIES:Trap
END:VEVENT
BEGIN:VEVENT
DTSTART;TZID=America/New_York:20400830T000000
DTEND;TZID=America/New_York:20560823T230000
DTSTAMP:20260421T214216
CREATED:20241227T175702Z
LAST-MODIFIED:20241227T175702Z
UID:10009847-2229897600-2734297200@scarfg.org
SUMMARY:Open Trap
DESCRIPTION:Public Shooting.  Beginners welcome!\nFor Fees\, please see the Trap Webpage here. \nhttps://scarfg.org/disciplines/trap/\n 
URL:https://scarfg.org/event/open-trap-15/2040-08-30/
LOCATION:Trap Range\, 21 Fish and Game Ln\, Scarborough\, ME\, 04072\, United States
CATEGORIES:Trap
END:VEVENT
BEGIN:VEVENT
DTSTART;TZID=America/New_York:20400906T000000
DTEND;TZID=America/New_York:20560830T230000
DTSTAMP:20260421T214216
CREATED:20241227T175702Z
LAST-MODIFIED:20241227T175702Z
UID:10009848-2230502400-2734902000@scarfg.org
SUMMARY:Open Trap
DESCRIPTION:Public Shooting.  Beginners welcome!\nFor Fees\, please see the Trap Webpage here. \nhttps://scarfg.org/disciplines/trap/\n 
URL:https://scarfg.org/event/open-trap-15/2040-09-06/
LOCATION:Trap Range\, 21 Fish and Game Ln\, Scarborough\, ME\, 04072\, United States
CATEGORIES:Trap
END:VEVENT
BEGIN:VEVENT
DTSTART;TZID=America/New_York:20400913T000000
DTEND;TZID=America/New_York:20560906T230000
DTSTAMP:20260421T214216
CREATED:20241227T175702Z
LAST-MODIFIED:20241227T175702Z
UID:10009849-2231107200-2735506800@scarfg.org
SUMMARY:Open Trap
DESCRIPTION:Public Shooting.  Beginners welcome!\nFor Fees\, please see the Trap Webpage here. \nhttps://scarfg.org/disciplines/trap/\n 
URL:https://scarfg.org/event/open-trap-15/2040-09-13/
LOCATION:Trap Range\, 21 Fish and Game Ln\, Scarborough\, ME\, 04072\, United States
CATEGORIES:Trap
END:VEVENT
END:VCALENDAR